PDS_VERSION_ID = PDS3
/* FILE DATA ELEMENTS */
RECORD_TYPE = UNDEFINED
/* POINTERS TO DATA OBJECTS */
^IMAGE = ("H6508_0000_P24.TIF")
/* IDENTIFICATION DATA ELEMENTS */
DATA_SET_ID = "MEX-M-HRSC-4-REFDR-MAPPROJECT-EXT2-V4.0"
DATA_SET_NAME = "MARS EXPRESS HRSC MAP PROJECTED REFDR EXTENSION2 V4.0"
DETECTOR_ID = MEX_HRSC_P2
EVENT_TYPE = "MARS-REGIONAL-MAPPING-Im-Fl"
INSTRUMENT_HOST_ID = MEX
INSTRUMENT_HOST_NAME = "MARS EXPRESS"
INSTRUMENT_ID = HRSC
INSTRUMENT_NAME = "HIGH RESOLUTION STEREO CAMERA"
MISSION_NAME = "MARS EXPRESS"
MISSION_PHASE_NAME = ME_Phase_15
PROCESSING_LEVEL_ID = 4
PRODUCT_CREATION_TIME = 2023-02-05T03:41:04.000Z
PRODUCT_ID = "H6508_0000_P24.TIF"
RELEASE_ID = 0006
REVISION_ID = 0000
/* QUALITY DATA ELEMENTS */
DATA_QUALITY_ID = 1
DATA_QUALITY_DESC = "Data calculated based on original SPICE kernels"
/* TIME DATA ELEMENTS */
SPACECRAFT_CLOCK_START_COUNT = "1/0181063554.09051"
SPACECRAFT_CLOCK_STOP_COUNT = "1/0181063922.42087"
START_TIME = 2009-01-26T15:26:09.727Z
STOP_TIME = 2009-01-26T15:29:59.810Z
/* ORBITAL DATA ELEMENTS */
ASCENDING_NODE_LONGITUDE = 93.71
MAXIMUM_RESOLUTION = 0.0352
FOOTPRINT_POINT_LATITUDE = (-38.8578,-38.8501,-38.8399,-38.8237, -38.8232,-38.7968,-38.0558,-37.4296, -36.9246,-36.6672,-36.2812,-35.7602, -35.4979,-35.2361,-34.9715,-34.7056, -34.4394,-34.169,-33.7583,-33.3442, -33.0659,-32.7889,-32.5065,-32.0827, -31.7971,-31.5093,-31.0747,-30.7824, -30.4909,-30.1931,-29.8953,-29.5938, -29.2917,-28.8332,-28.5261,-28.2147, -27.9024,-27.5871,-27.1077,-26.7883, -26.4649,-26.1393,-25.8109,-25.4809, -25.1479,-24.6431,-24.4731,-24.4595, -24.4621,-24.4597,-24.4602,-24.4615, -24.462,-24.4565,-24.4562,-24.4568, -24.9657,-25.3012,-25.634,-25.9653, -26.2926,-26.6192,-26.9415,-27.2634, -27.581,-27.8982,-28.2109,-28.5238, -28.8321,-29.1381,-29.4435,-29.7469, -30.0471,-30.3451,-30.6416,-30.9345, -31.2285,-31.5171,-31.9496,-32.2334, -32.6605,-32.941,-33.2188,-33.635, -33.908,-34.3189,-34.7229,-34.9927, -35.259,-35.521,-35.7814,-36.0437, -36.557,-36.8156,-37.1966,-37.8284, -38.3249,-38.6941,-38.8179,-38.8578)
FOOTPRINT_POINT_LONGITUDE = (159.676,158.996,158.446,157.804, 157.785,157.766,157.778,157.787,157.792 ,157.794,157.798,157.801,157.802, 157.804,157.806,157.808,157.809,157.809 ,157.809,157.807,157.806,157.806, 157.804,157.802,157.8,157.798,157.795, 157.792,157.79,157.786,157.783,157.779, 157.775,157.768,157.763,157.758,157.752 ,157.746,157.735,157.73,157.723,157.715 ,157.708,157.7,157.692,157.679,157.674, 157.674,157.995,158.43,158.729,159.051, 159.51,160.016,160.039,160.047,160.039, 160.034,160.028,160.022,160.017,160.011 ,160.005,159.999,159.992,159.986,159.98 ,159.974,159.967,159.962,159.954, 159.948,159.941,159.934,159.928,159.921 ,159.914,159.907,159.897,159.89,159.878 ,159.871,159.864,159.853,159.845, 159.834,159.821,159.813,159.805,159.798 ,159.792,159.784,159.769,159.761, 159.749,159.728,159.71,159.698,159.694, 159.676)
ORBIT_NUMBER = 6508
ORBITAL_ECCENTRICITY = 0.576
ORBITAL_INCLINATION = 86.76
ORBITAL_SEMIMAJOR_AXIS = 8693.62
PERIAPSIS_ALTITUDE = 306.19
PERIAPSIS_ARGUMENT_ANGLE = 294.46
PERIAPSIS_TIME = 2009-01-26T15:19:46.000Z
SPACECRAFT_ORIENTATION = (0.0,1.0,0.0)
^MEX_ORIENTATION_DESC = "MEX_ORIENTATION_DESC.TXT"
SPACECRAFT_POINTING_MODE = NADIR
^MEX_POINTING_DESC = "MEX_POINTING_DESC.TXT"
RIGHT_ASCENSION = -1e+32
DECLINATION = -1e+32
OFFSET_ANGLE = -1e+32
SPACECRAFT_SOLAR_DISTANCE = 2.13815e+08
TARGET_NAME = MARS
/* CAMERA DATA ELEMENTS */
DETECTOR_TEMPERATURE = 18.1666
FOCAL_PLANE_TEMPERATURE = 7.7677
INST_CMPRS_NAME = "DISCRETE COSINE TRANSFORMATION (DCT)"
INST_CMPRS_RATIO = 6.89587
INST_CMPRS_QUALITY = 0
INST_CMPRS_QUANTZ_TBL_ID = 0
INSTRUMENT_TEMPERATURE = 10.6223
LENS_TEMPERATURE = 8.3794
MACROPIXEL_SIZE = 2
MISSING_FRAMES = 0
PIXEL_SUBSAMPLING_FLAG = N
SIGNAL_CHAIN_ID = 3
/* RADIOMETRIC DATA ELEMENTS */
BANDWIDTH = 177.0
CENTER_FILTER_WAVELENGTH = 676.5
RADIANCE_OFFSET = 3.78365
RADIANCE_SCALING_FACTOR = 0.0202714
REFLECTANCE_SCALING_FACTOR = 0.000491375
MEX:REFLECTANCE_OFFSET = 0.091715
/* IMAGE OBJECT DEFINITIONS */
OBJECT = IMAGE
  INTERCHANGE_FORMAT = BINARY
  LINES = 34104
  LINE_SAMPLES = 5449
  SAMPLE_TYPE = UNSIGNED_INTEGER
  SAMPLE_BITS = 8
  BANDS = 1
  BAND_STORAGE_TYPE = BAND_SEQUENTIAL
  MAXIMUM = 255
  MEAN = 111.425
  MINIMUM = 1
  STANDARD_DEVIATION = 27.2807
END_OBJECT = IMAGE
/* MAP OBJECT DEFINITIONS */
OBJECT = IMAGE_MAP_PROJECTION
  ^DATA_SET_MAP_PROJECTION_CATALOG= "DSMAP.CAT"
  A_AXIS_RADIUS = 3396.0
  B_AXIS_RADIUS = 3396.0
  C_AXIS_RADIUS = 3396.0
  CENTER_LATITUDE = 0.0
  CENTER_LONGITUDE = 159.0
  COORDINATE_SYSTEM_NAME = PLANETOGRAPHIC
  COORDINATE_SYSTEM_TYPE = "BODY-FIXED ROTATING"
  EASTERNMOST_LONGITUDE = 160.047
  FIRST_STANDARD_PARALLEL = "N/A"
  LINE_FIRST_PIXEL = 1
  LINE_LAST_PIXEL = 34104
  LINE_PROJECTION_OFFSET = -57940.25
  MAP_PROJECTION_ROTATION = 0.0
  MAP_PROJECTION_TYPE = SINUSOIDAL
  MAP_RESOLUTION = 2370.85521546667
  MAP_SCALE = 0.025
  MAXIMUM_LATITUDE = -24.4562
  MINIMUM_LATITUDE = -38.8578
  POSITIVE_LONGITUDE_DIRECTION = EAST
  REFERENCE_LATITUDE = "N/A"
  REFERENCE_LONGITUDE = "N/A"
  SAMPLE_FIRST_PIXEL = 1
  SAMPLE_LAST_PIXEL = 5449
  SAMPLE_PROJECTION_OFFSET = 3030.75
  SECOND_STANDARD_PARALLEL = "N/A"
  WESTERNMOST_LONGITUDE = 157.674
END_OBJECT = IMAGE_MAP_PROJECTION
END
