PDS_VERSION_ID = PDS3
/* FILE DATA ELEMENTS */
RECORD_TYPE = UNDEFINED
/* POINTERS TO DATA OBJECTS */
^IMAGE = ("H6502_0000_S24.TIF")
/* IDENTIFICATION DATA ELEMENTS */
DATA_SET_ID = "MEX-M-HRSC-4-REFDR-MAPPROJECT-EXT2-V4.0"
DATA_SET_NAME = "MARS EXPRESS HRSC MAP PROJECTED REFDR EXTENSION2 V4.0"
DETECTOR_ID = MEX_HRSC_S2
EVENT_TYPE = "MARS-REGIONAL-MAPPING-Im-Fl-Pf"
INSTRUMENT_HOST_ID = MEX
INSTRUMENT_HOST_NAME = "MARS EXPRESS"
INSTRUMENT_ID = HRSC
INSTRUMENT_NAME = "HIGH RESOLUTION STEREO CAMERA"
MISSION_NAME = "MARS EXPRESS"
MISSION_PHASE_NAME = ME_Phase_15
PROCESSING_LEVEL_ID = 4
PRODUCT_CREATION_TIME = 2023-02-05T03:41:04.000Z
PRODUCT_ID = "H6502_0000_S24.TIF"
RELEASE_ID = 0006
REVISION_ID = 0000
/* QUALITY DATA ELEMENTS */
DATA_QUALITY_ID = 1
DATA_QUALITY_DESC = "Data calculated based on original SPICE kernels"
/* TIME DATA ELEMENTS */
SPACECRAFT_CLOCK_START_COUNT = "1/0180914450.09045"
SPACECRAFT_CLOCK_STOP_COUNT = "1/0180914725.23382"
START_TIME = 2009-01-24T22:00:52.567Z
STOP_TIME = 2009-01-24T22:03:59.436Z
/* ORBITAL DATA ELEMENTS */
ASCENDING_NODE_LONGITUDE = 93.83
MAXIMUM_RESOLUTION = 0.0283
FOOTPRINT_POINT_LATITUDE = (-50.1914,-50.1862,-50.176,-50.1549, -50.1543,-50.0794,-49.3083,-48.9685, -48.741,-48.4886,-48.0402,-47.8118, -47.5819,-47.3547,-47.1272,-46.8963, -46.6691,-46.4445,-46.1028,-45.875, -45.6482,-45.3108,-45.0868,-44.8587, -44.6315,-44.4051,-44.1828,-43.7805, -43.5048,-43.2326,-42.9663,-42.562, -42.1565,-41.8862,-41.6157,-41.211, -40.8065,-40.5363,-40.2673,-39.8661, -39.6009,-39.3342,-39.062,-38.7796, -38.5038,-38.2285,-37.8137,-37.6736, -37.6329,-37.6415,-37.6528,-37.6503, -37.6468,-37.6467,-37.6472,-37.9278, -38.2029,-38.6144,-38.8898,-39.1611, -39.4292,-39.6946,-39.9654,-40.3722, -40.7814,-41.0519,-41.3188,-41.5865, -41.8577,-42.2657,-42.535,-42.8061, -43.2144,-43.6194,-43.8909,-44.2751, -44.5027,-44.839,-45.0665,-45.2961, -45.5233,-45.7513,-45.9774,-46.2078, -46.4407,-46.7787,-47.0099,-47.2374, -47.4624,-47.6914,-47.9143,-48.1418, -48.3781,-48.7421,-48.973,-49.2005, -49.6478,-49.9778,-50.0879,-50.1914)
FOOTPRINT_POINT_LONGITUDE = (44.3698,43.9739,43.426,42.6273,42.6103 ,42.5899,42.6447,42.6674,42.6823, 42.6984,42.7279,42.7412,42.7539,42.7668 ,42.7794,42.7909,42.8029,42.8152, 42.8319,42.8428,42.8535,42.8697,42.8803 ,42.8898,42.8991,42.9084,42.9183, 42.9323,42.9409,42.9499,42.9599,42.973, 42.9852,42.9928,43.0,43.0105,43.0202, 43.0262,43.0321,43.0409,43.0468,43.0521 ,43.0558,43.0586,43.0626,43.0664,43.072 ,43.0739,43.0743,43.6168,44.0512, 44.4704,44.9283,44.9466,44.9532,44.9458 ,44.9384,44.9269,44.9186,44.9109, 44.9028,44.896,44.8864,44.8715,44.8552, 44.8454,44.8375,44.829,44.8186,44.8021, 44.7925,44.7818,44.7645,44.7489,44.7375 ,44.7204,44.7105,44.6985,44.6884, 44.6769,44.6668,44.6561,44.6464,44.634, 44.6198,44.6054,44.592,44.5807,44.5709, 44.5584,44.5497,44.5379,44.5202,44.5019 ,44.4872,44.4746,44.4468,44.4278, 44.4213,44.3698)
ORBIT_NUMBER = 6502
ORBITAL_ECCENTRICITY = 0.576
ORBITAL_INCLINATION = 86.76
ORBITAL_SEMIMAJOR_AXIS = 8695.65
PERIAPSIS_ALTITUDE = 305.48
PERIAPSIS_ARGUMENT_ANGLE = 295.48
PERIAPSIS_TIME = 2009-01-24T21:57:46.000Z
SPACECRAFT_ORIENTATION = (0.0,1.0,0.0)
^MEX_ORIENTATION_DESC = "MEX_ORIENTATION_DESC.TXT"
SPACECRAFT_POINTING_MODE = ACROSSTRACK
^MEX_POINTING_DESC = "MEX_POINTING_DESC.TXT"
RIGHT_ASCENSION = -1e+32
DECLINATION = -1e+32
OFFSET_ANGLE = -0.2
SPACECRAFT_SOLAR_DISTANCE = 2.14085e+08
TARGET_NAME = MARS
/* CAMERA DATA ELEMENTS */
DETECTOR_TEMPERATURE = 18.5744
FOCAL_PLANE_TEMPERATURE = 8.3794
INST_CMPRS_NAME = "DISCRETE COSINE TRANSFORMATION (DCT)"
INST_CMPRS_RATIO = 12.2246
INST_CMPRS_QUALITY = 0
INST_CMPRS_QUANTZ_TBL_ID = 0
INSTRUMENT_TEMPERATURE = 11.4379
LENS_TEMPERATURE = 8.7872
MACROPIXEL_SIZE = 2
MISSING_FRAMES = 7
PIXEL_SUBSAMPLING_FLAG = N
SIGNAL_CHAIN_ID = 1
/* RADIOMETRIC DATA ELEMENTS */
BANDWIDTH = 178.0
CENTER_FILTER_WAVELENGTH = 679.0
RADIANCE_OFFSET = 4.33044
RADIANCE_SCALING_FACTOR = 0.014017
REFLECTANCE_SCALING_FACTOR = 0.000340217
MEX:REFLECTANCE_OFFSET = 0.105107
/* IMAGE OBJECT DEFINITIONS */
OBJECT = IMAGE
  INTERCHANGE_FORMAT = BINARY
  LINES = 29647
  LINE_SAMPLES = 4064
  SAMPLE_TYPE = UNSIGNED_INTEGER
  SAMPLE_BITS = 8
  BANDS = 1
  BAND_STORAGE_TYPE = BAND_SEQUENTIAL
  MAXIMUM = 255
  MEAN = 123.035
  MINIMUM = 1
  STANDARD_DEVIATION = 32.6423
END_OBJECT = IMAGE
/* MAP OBJECT DEFINITIONS */
OBJECT = IMAGE_MAP_PROJECTION
  ^DATA_SET_MAP_PROJECTION_CATALOG= "DSMAP.CAT"
  A_AXIS_RADIUS = 3396.0
  B_AXIS_RADIUS = 3396.0
  C_AXIS_RADIUS = 3396.0
  CENTER_LATITUDE = 0.0
  CENTER_LONGITUDE = 44.0
  COORDINATE_SYSTEM_NAME = PLANETOGRAPHIC
  COORDINATE_SYSTEM_TYPE = "BODY-FIXED ROTATING"
  EASTERNMOST_LONGITUDE = 44.9532
  FIRST_STANDARD_PARALLEL = "N/A"
  LINE_FIRST_PIXEL = 1
  LINE_LAST_PIXEL = 29647
  LINE_PROJECTION_OFFSET = -89177.25
  MAP_PROJECTION_ROTATION = 0.0
  MAP_PROJECTION_TYPE = SINUSOIDAL
  MAP_RESOLUTION = 2370.85521546667
  MAP_SCALE = 0.025
  MAXIMUM_LATITUDE = -37.6329
  MINIMUM_LATITUDE = -50.1914
  POSITIVE_LONGITUDE_DIRECTION = EAST
  REFERENCE_LATITUDE = "N/A"
  REFERENCE_LONGITUDE = "N/A"
  SAMPLE_FIRST_PIXEL = 1
  SAMPLE_LAST_PIXEL = 4064
  SAMPLE_PROJECTION_OFFSET = 2189.25
  SECOND_STANDARD_PARALLEL = "N/A"
  WESTERNMOST_LONGITUDE = 42.5899
END_OBJECT = IMAGE_MAP_PROJECTION
END
