PDS_VERSION_ID = PDS3
/* FILE DATA ELEMENTS */
RECORD_TYPE = UNDEFINED
/* POINTERS TO DATA OBJECTS */
^IMAGE = ("H6501_0000_ND4.TIF")
/* IDENTIFICATION DATA ELEMENTS */
DATA_SET_ID = "MEX-M-HRSC-4-REFDR-MAPPROJECT-EXT2-V4.0"
DATA_SET_NAME = "MARS EXPRESS HRSC MAP PROJECTED REFDR EXTENSION2 V4.0"
DETECTOR_ID = MEX_HRSC_NADIR
EVENT_TYPE = "MARS-LOCAL-STEREO-Te"
INSTRUMENT_HOST_ID = MEX
INSTRUMENT_HOST_NAME = "MARS EXPRESS"
INSTRUMENT_ID = HRSC
INSTRUMENT_NAME = "HIGH RESOLUTION STEREO CAMERA"
MISSION_NAME = "MARS EXPRESS"
MISSION_PHASE_NAME = ME_Phase_15
PROCESSING_LEVEL_ID = 4
PRODUCT_CREATION_TIME = 2023-02-05T03:41:04.000Z
PRODUCT_ID = "H6501_0000_ND4.TIF"
RELEASE_ID = 0006
REVISION_ID = 0000
/* QUALITY DATA ELEMENTS */
DATA_QUALITY_ID = 1
DATA_QUALITY_DESC = "Data calculated based on original SPICE kernels"
/* TIME DATA ELEMENTS */
SPACECRAFT_CLOCK_START_COUNT = "1/0180889570.09051"
SPACECRAFT_CLOCK_STOP_COUNT = "1/0180889769.59241"
START_TIME = 2009-01-24T15:06:40.940Z
STOP_TIME = 2009-01-24T15:08:53.935Z
/* ORBITAL DATA ELEMENTS */
ASCENDING_NODE_LONGITUDE = 93.85
MAXIMUM_RESOLUTION = 0.0129
FOOTPRINT_POINT_LATITUDE = (-54.0654,-54.0578,-54.0504,-54.0422, -54.0334,-54.0239,-54.0124,-54.0118, -54.0099,-53.6867,-53.3536,-53.0197, -52.686,-52.3527,-52.0196,-51.7665, -51.4339,-51.1785,-51.0068,-50.7494, -50.578,-50.4066,-50.2353,-50.0641, -49.8931,-49.7221,-49.5511,-49.3803, -49.2096,-49.039,-48.8684,-48.6979, -48.5276,-48.3575,-48.1023,-47.9322, -47.7622,-47.5924,-47.4227,-47.2531, -47.0835,-46.9141,-46.7448,-46.5756, -46.4065,-46.1199,-45.9184,-45.7171, -45.516,-45.4095,-45.4009,-45.4089, -45.4154,-45.4237,-45.4321,-45.4367, -45.4369,-45.4373,-45.7456,-45.9473, -46.1491,-46.4377,-46.6072,-46.7767, -46.9464,-47.1161,-47.286,-47.4559, -47.626,-47.7962,-48.0517,-48.2221, -48.3926,-48.5632,-48.7339,-48.9048, -49.0757,-49.2467,-49.4178,-49.589, -49.7603,-49.9317,-50.1889,-50.3605, -50.5322,-50.704,-50.8759,-51.0478, -51.2198,-51.4761,-51.8096,-52.0632, -52.3971,-52.7313,-53.0658,-53.4005, -53.7347,-53.9777,-54.0588,-54.0654)
FOOTPRINT_POINT_LONGITUDE = (145.302,144.966,144.669,144.374, 144.081,143.79,143.464,143.446,143.43, 143.46,143.49,143.519,143.548,143.575, 143.602,143.621,143.647,143.665,143.677 ,143.694,143.707,143.718,143.729,143.74 ,143.751,143.762,143.772,143.782, 143.792,143.802,143.812,143.822,143.831 ,143.841,143.855,143.863,143.871,143.88 ,143.888,143.896,143.904,143.911, 143.919,143.926,143.933,143.945,143.953 ,143.961,143.969,143.973,143.973,144.28 ,144.552,144.954,145.454,145.808, 145.827,145.836,145.823,145.814,145.806 ,145.793,145.785,145.778,145.769,145.76 ,145.752,145.744,145.736,145.727, 145.714,145.706,145.698,145.689,145.685 ,145.678,145.669,145.657,145.649, 145.641,145.632,145.623,145.603,145.595 ,145.586,145.579,145.57,145.559,145.549 ,145.534,145.515,145.499,145.478, 145.456,145.434,145.411,145.388,145.371 ,145.365,145.302)
ORBIT_NUMBER = 6501
ORBITAL_ECCENTRICITY = 0.576
ORBITAL_INCLINATION = 86.76
ORBITAL_SEMIMAJOR_AXIS = 8696.01
PERIAPSIS_ALTITUDE = 306.02
PERIAPSIS_ARGUMENT_ANGLE = 295.65
PERIAPSIS_TIME = 2009-01-24T15:04:07.000Z
SPACECRAFT_ORIENTATION = (0.0,1.0,0.0)
^MEX_ORIENTATION_DESC = "MEX_ORIENTATION_DESC.TXT"
SPACECRAFT_POINTING_MODE = ACROSSTRACK
^MEX_POINTING_DESC = "MEX_POINTING_DESC.TXT"
RIGHT_ASCENSION = -1e+32
DECLINATION = -1e+32
OFFSET_ANGLE = -0.42
SPACECRAFT_SOLAR_DISTANCE = 2.1413e+08
TARGET_NAME = MARS
/* CAMERA DATA ELEMENTS */
DETECTOR_TEMPERATURE = 18.3705
FOCAL_PLANE_TEMPERATURE = 8.1755
INST_CMPRS_NAME = "DISCRETE COSINE TRANSFORMATION (DCT)"
INST_CMPRS_RATIO = 7.19937
INST_CMPRS_QUALITY = 0
INST_CMPRS_QUANTZ_TBL_ID = 0
INSTRUMENT_TEMPERATURE = 11.234
LENS_TEMPERATURE = 8.7872
MACROPIXEL_SIZE = 1
MISSING_FRAMES = 5
PIXEL_SUBSAMPLING_FLAG = N
SIGNAL_CHAIN_ID = 0
/* RADIOMETRIC DATA ELEMENTS */
BANDWIDTH = 177.0
CENTER_FILTER_WAVELENGTH = 677.5
RADIANCE_OFFSET = 3.85115
RADIANCE_SCALING_FACTOR = 0.0183976
REFLECTANCE_SCALING_FACTOR = 0.000448128
MEX:REFLECTANCE_OFFSET = 0.0938058
/* IMAGE OBJECT DEFINITIONS */
OBJECT = IMAGE
  INTERCHANGE_FORMAT = BINARY
  LINES = 41086
  LINE_SAMPLES = 7161
  SAMPLE_TYPE = UNSIGNED_INTEGER
  SAMPLE_BITS = 8
  BANDS = 1
  BAND_STORAGE_TYPE = BAND_SEQUENTIAL
  MAXIMUM = 255
  MEAN = 93.8757
  MINIMUM = 1
  STANDARD_DEVIATION = 41.7696
END_OBJECT = IMAGE
/* MAP OBJECT DEFINITIONS */
OBJECT = IMAGE_MAP_PROJECTION
  ^DATA_SET_MAP_PROJECTION_CATALOG= "DSMAP.CAT"
  A_AXIS_RADIUS = 3396.0
  B_AXIS_RADIUS = 3396.0
  C_AXIS_RADIUS = 3396.0
  CENTER_LATITUDE = 0.0
  CENTER_LONGITUDE = 145.0
  COORDINATE_SYSTEM_NAME = PLANETOGRAPHIC
  COORDINATE_SYSTEM_TYPE = "BODY-FIXED ROTATING"
  EASTERNMOST_LONGITUDE = 145.836
  FIRST_STANDARD_PARALLEL = "N/A"
  LINE_FIRST_PIXEL = 1
  LINE_LAST_PIXEL = 41086
  LINE_PROJECTION_OFFSET = -215273.0
  MAP_PROJECTION_ROTATION = 0.0
  MAP_PROJECTION_TYPE = SINUSOIDAL
  MAP_RESOLUTION = 4741.71043093333
  MAP_SCALE = 0.0125
  MAXIMUM_LATITUDE = -45.4009
  MINIMUM_LATITUDE = -54.0654
  POSITIVE_LONGITUDE_DIRECTION = EAST
  REFERENCE_LATITUDE = "N/A"
  REFERENCE_LONGITUDE = "N/A"
  SAMPLE_FIRST_PIXEL = 1
  SAMPLE_LAST_PIXEL = 7161
  SAMPLE_PROJECTION_OFFSET = 4374.0
  SECOND_STANDARD_PARALLEL = "N/A"
  WESTERNMOST_LONGITUDE = 143.43
END_OBJECT = IMAGE_MAP_PROJECTION
END
