PDS_VERSION_ID = PDS3
/* FILE DATA ELEMENTS */
RECORD_TYPE = UNDEFINED
/* POINTERS TO DATA OBJECTS */
^IMAGE = ("H6498_0000_S24.TIF")
/* IDENTIFICATION DATA ELEMENTS */
DATA_SET_ID = "MEX-M-HRSC-4-REFDR-MAPPROJECT-EXT2-V4.0"
DATA_SET_NAME = "MARS EXPRESS HRSC MAP PROJECTED REFDR EXTENSION2 V4.0"
DETECTOR_ID = MEX_HRSC_S2
EVENT_TYPE = "MARS-REGIONAL-MAPPING-Vo-Im-Fl"
INSTRUMENT_HOST_ID = MEX
INSTRUMENT_HOST_NAME = "MARS EXPRESS"
INSTRUMENT_ID = HRSC
INSTRUMENT_NAME = "HIGH RESOLUTION STEREO CAMERA"
MISSION_NAME = "MARS EXPRESS"
MISSION_PHASE_NAME = ME_Phase_15
PROCESSING_LEVEL_ID = 4
PRODUCT_CREATION_TIME = 2023-02-05T03:41:04.000Z
PRODUCT_ID = "H6498_0000_S24.TIF"
RELEASE_ID = 0006
REVISION_ID = 0000
/* QUALITY DATA ELEMENTS */
DATA_QUALITY_ID = 1
DATA_QUALITY_DESC = "Data calculated based on original SPICE kernels"
/* TIME DATA ELEMENTS */
SPACECRAFT_CLOCK_START_COUNT = "1/0180815324.08232"
SPACECRAFT_CLOCK_STOP_COUNT = "1/0180815813.15003"
START_TIME = 2009-01-23T18:28:46.585Z
STOP_TIME = 2009-01-23T18:34:06.535Z
/* ORBITAL DATA ELEMENTS */
ASCENDING_NODE_LONGITUDE = 93.91
MAXIMUM_RESOLUTION = 0.0344
FOOTPRINT_POINT_LATITUDE = (-39.3216,-39.3414,-39.3534,-39.3612, -39.3614,-39.281,-38.788,-38.2895, -37.6159,-36.9289,-36.0612,-35.711, -35.1772,-34.8169,-34.2756,-33.9115, -33.5432,-32.9793,-32.6039,-32.2203, -31.8375,-31.4473,-30.8574,-30.4627, -30.0815,-29.6609,-29.0433,-28.6293, -28.2102,-27.7903,-27.1444,-26.7089, -26.278,-25.834,-25.386,-24.9364, -24.484,-24.0143,-23.5478,-22.8383, -22.3647,-21.8799,-21.3859,-20.8931, -20.3883,-19.6135,-19.1061,-18.8489, -18.8473,-18.8251,-18.8109,-18.7852, -18.7531,-18.7519,-18.7523,-19.2727, -19.7903,-20.3019,-20.8078,-21.308, -21.8006,-22.2865,-22.7673,-23.2434, -23.715,-24.178,-24.8648,-25.3172, -25.7669,-26.2069,-26.8683,-27.5151, -28.1461,-28.5693,-28.9817,-29.3938, -29.8005,-30.2039,-30.6028,-30.9991, -31.3915,-31.7819,-32.1661,-32.7385, -33.1142,-33.4893,-33.8577,-34.2264, -34.5893,-34.9488,-35.4862,-35.8398, -36.3695,-36.7142,-37.4015,-37.9089, -38.582,-39.076,-39.2421,-39.3216)
FOOTPRINT_POINT_LONGITUDE = (88.896,88.2196,87.6607,87.1103,87.0933 ,87.0926,87.0956,87.0978,87.0996, 87.1002,87.0988,87.0976,87.0952,87.0932 ,87.0894,87.0864,87.0831,87.0774, 87.0731,87.0684,87.0633,87.0577,87.0486 ,87.0421,87.0357,87.0277,87.0155, 87.0068,86.9977,86.9882,86.9726,86.9616 ,86.9506,86.9385,86.926,86.9131,86.8997 ,86.8849,86.87,86.8466,86.8307,86.8136, 86.7955,86.7774,86.7579,86.7265,86.7065 ,86.6958,86.6958,87.4252,87.8281, 88.4495,89.1252,89.1494,89.1581,89.1549 ,89.1519,89.1488,89.1455,89.142,89.1393 ,89.1367,89.1338,89.1308,89.1278, 89.1256,89.1221,89.1189,89.1151,89.1137 ,89.1056,89.0999,89.0977,89.0923, 89.0896,89.0857,89.0819,89.0779,89.0743 ,89.0702,89.0657,89.0611,89.0568, 89.0501,89.0463,89.0418,89.0376,89.0332 ,89.029,89.0254,89.0183,89.0132,89.005, 89.0003,88.9915,88.9825,88.9707,88.9624 ,88.9585,88.896)
ORBIT_NUMBER = 6498
ORBITAL_ECCENTRICITY = 0.576
ORBITAL_INCLINATION = 86.77
ORBITAL_SEMIMAJOR_AXIS = 8696.66
PERIAPSIS_ALTITUDE = 304.5
PERIAPSIS_ARGUMENT_ANGLE = 296.15
PERIAPSIS_TIME = 2009-01-23T18:23:08.000Z
SPACECRAFT_ORIENTATION = (0.0,1.0,0.0)
^MEX_ORIENTATION_DESC = "MEX_ORIENTATION_DESC.TXT"
SPACECRAFT_POINTING_MODE = ACROSSTRACK
^MEX_POINTING_DESC = "MEX_POINTING_DESC.TXT"
RIGHT_ASCENSION = -1e+32
DECLINATION = -1e+32
OFFSET_ANGLE = -0.73
SPACECRAFT_SOLAR_DISTANCE = 2.14267e+08
TARGET_NAME = MARS
/* CAMERA DATA ELEMENTS */
DETECTOR_TEMPERATURE = 18.3705
FOCAL_PLANE_TEMPERATURE = 7.3599
INST_CMPRS_NAME = "DISCRETE COSINE TRANSFORMATION (DCT)"
INST_CMPRS_RATIO = 12.9771
INST_CMPRS_QUALITY = 0
INST_CMPRS_QUANTZ_TBL_ID = 0
INSTRUMENT_TEMPERATURE = 11.4379
LENS_TEMPERATURE = 8.5833
MACROPIXEL_SIZE = 2
MISSING_FRAMES = 0
PIXEL_SUBSAMPLING_FLAG = N
SIGNAL_CHAIN_ID = 1
/* RADIOMETRIC DATA ELEMENTS */
BANDWIDTH = 178.0
CENTER_FILTER_WAVELENGTH = 679.0
RADIANCE_OFFSET = 4.81679
RADIANCE_SCALING_FACTOR = 0.0151647
REFLECTANCE_SCALING_FACTOR = 0.000368698
MEX:REFLECTANCE_OFFSET = 0.11711
/* IMAGE OBJECT DEFINITIONS */
OBJECT = IMAGE
  INTERCHANGE_FORMAT = BINARY
  LINES = 48699
  LINE_SAMPLES = 6089
  SAMPLE_TYPE = UNSIGNED_INTEGER
  SAMPLE_BITS = 8
  BANDS = 1
  BAND_STORAGE_TYPE = BAND_SEQUENTIAL
  MAXIMUM = 255
  MEAN = 124.599
  MINIMUM = 1
  STANDARD_DEVIATION = 43.5156
END_OBJECT = IMAGE
/* MAP OBJECT DEFINITIONS */
OBJECT = IMAGE_MAP_PROJECTION
  ^DATA_SET_MAP_PROJECTION_CATALOG= "DSMAP.CAT"
  A_AXIS_RADIUS = 3396.0
  B_AXIS_RADIUS = 3396.0
  C_AXIS_RADIUS = 3396.0
  CENTER_LATITUDE = 0.0
  CENTER_LONGITUDE = 88.0
  COORDINATE_SYSTEM_NAME = PLANETOGRAPHIC
  COORDINATE_SYSTEM_TYPE = "BODY-FIXED ROTATING"
  EASTERNMOST_LONGITUDE = 89.1581
  FIRST_STANDARD_PARALLEL = "N/A"
  LINE_FIRST_PIXEL = 1
  LINE_LAST_PIXEL = 48699
  LINE_PROJECTION_OFFSET = -44478.25
  MAP_PROJECTION_ROTATION = 0.0
  MAP_PROJECTION_TYPE = SINUSOIDAL
  MAP_RESOLUTION = 2370.85521546667
  MAP_SCALE = 0.025
  MAXIMUM_LATITUDE = -18.7519
  MINIMUM_LATITUDE = -39.3614
  POSITIVE_LONGITUDE_DIRECTION = EAST
  REFERENCE_LATITUDE = "N/A"
  REFERENCE_LONGITUDE = "N/A"
  SAMPLE_FIRST_PIXEL = 1
  SAMPLE_LAST_PIXEL = 6089
  SAMPLE_PROJECTION_OFFSET = 3253.25
  SECOND_STANDARD_PARALLEL = "N/A"
  WESTERNMOST_LONGITUDE = 86.69580000000001
END_OBJECT = IMAGE_MAP_PROJECTION
END
