PDS_VERSION_ID = PDS3
/* FILE DATA ELEMENTS */
RECORD_TYPE = UNDEFINED
/* POINTERS TO DATA OBJECTS */
^IMAGE = ("H6489_0000_ND4.TIF")
/* IDENTIFICATION DATA ELEMENTS */
DATA_SET_ID = "MEX-M-HRSC-4-REFDR-MAPPROJECT-EXT2-V4.0"
DATA_SET_NAME = "MARS EXPRESS HRSC MAP PROJECTED REFDR EXTENSION2 V4.0"
DETECTOR_ID = MEX_HRSC_NADIR
EVENT_TYPE = "MARS-REGIONAL-MAPPING-Im-Fl"
INSTRUMENT_HOST_ID = MEX
INSTRUMENT_HOST_NAME = "MARS EXPRESS"
INSTRUMENT_ID = HRSC
INSTRUMENT_NAME = "HIGH RESOLUTION STEREO CAMERA"
MISSION_NAME = "MARS EXPRESS"
MISSION_PHASE_NAME = ME_Phase_15
PROCESSING_LEVEL_ID = 4
PRODUCT_CREATION_TIME = 2023-02-05T03:41:04.000Z
PRODUCT_ID = "H6489_0000_ND4.TIF"
RELEASE_ID = 0006
REVISION_ID = 0000
/* QUALITY DATA ELEMENTS */
DATA_QUALITY_ID = 1
DATA_QUALITY_DESC = "Data calculated based on original SPICE kernels"
/* TIME DATA ELEMENTS */
SPACECRAFT_CLOCK_START_COUNT = "1/0180591513.07292"
SPACECRAFT_CLOCK_STOP_COUNT = "1/0180591759.05277"
START_TIME = 2009-01-21T04:19:03.918Z
STOP_TIME = 2009-01-21T04:22:10.941Z
/* ORBITAL DATA ELEMENTS */
ASCENDING_NODE_LONGITUDE = 94.09
MAXIMUM_RESOLUTION = 0.012
FOOTPRINT_POINT_LATITUDE = (-66.9114,-66.8795,-66.847,-66.8106, -66.8094,-66.807,-66.316,-65.8246, -65.5787,-65.3326,-65.0865,-64.8403, -64.5941,-64.3477,-64.1012,-63.8548, -63.6082,-63.3615,-63.1148,-62.7446, -62.4978,-62.2509,-62.004,-61.6334, -61.3864,-61.1393,-60.8922,-60.6451, -60.398,-60.1509,-59.9038,-59.5331, -59.1625,-58.9154,-58.6683,-58.4213, -58.1743,-57.9273,-57.6803,-57.4334, -57.1865,-56.6929,-56.1995,-55.583, -55.09,-54.5975,-54.4744,-54.4716, -54.497,-54.5099,-54.5243,-54.5247, -54.5251,-55.0189,-55.5131,-56.0076, -56.2549,-56.5023,-56.7498,-56.9974, -57.245,-57.4927,-57.7404,-57.9882, -58.2361,-58.4839,-58.7319,-58.9798, -59.2278,-59.5998,-59.8478,-60.0959, -60.344,-60.5921,-60.8402,-61.0883, -61.3364,-61.5845,-61.8326,-62.2047, -62.4527,-62.7008,-62.9488,-63.1968, -63.4448,-63.6927,-63.9406,-64.1885, -64.5602,-64.8079,-65.0556,-65.3033, -65.5509,-65.7984,-66.0458,-66.2932, -66.5404,-66.7876,-66.9112,-66.9114)
FOOTPRINT_POINT_LONGITUDE = (273.851,272.899,272.069,271.252, 271.227,271.214,271.366,271.51,271.58, 271.647,271.714,271.778,271.841,271.903 ,271.963,272.022,272.079,272.135,272.19 ,272.27,272.321,272.372,272.421,272.492 ,272.539,272.584,272.629,272.672, 272.714,272.756,272.796,272.855,272.912 ,272.949,272.985,273.02,273.054,273.088 ,273.121,273.153,273.184,273.245, 273.303,273.372,273.424,273.474,273.486 ,273.486,274.262,274.732,275.363, 275.382,275.392,275.355,275.317,275.28, 275.261,275.242,275.222,275.202,275.183 ,275.164,275.145,275.127,275.105, 275.084,275.061,275.038,275.014,274.978 ,274.954,274.928,274.902,274.876, 274.849,274.822,274.794,274.765,274.736 ,274.69,274.657,274.628,274.597,274.565 ,274.532,274.498,274.463,274.428, 274.371,274.335,274.299,274.262,274.222 ,274.181,274.141,274.098,274.053, 274.009,273.985,273.851)
ORBIT_NUMBER = 6489
ORBITAL_ECCENTRICITY = 0.576
ORBITAL_INCLINATION = 86.76
ORBITAL_SEMIMAJOR_AXIS = 8696.87
PERIAPSIS_ALTITUDE = 305.28
PERIAPSIS_ARGUMENT_ANGLE = 297.71
PERIAPSIS_TIME = 2009-01-21T04:20:15.000Z
SPACECRAFT_ORIENTATION = (0.0,1.0,0.0)
^MEX_ORIENTATION_DESC = "MEX_ORIENTATION_DESC.TXT"
SPACECRAFT_POINTING_MODE = ACROSSTRACK
^MEX_POINTING_DESC = "MEX_POINTING_DESC.TXT"
RIGHT_ASCENSION = -1e+32
DECLINATION = -1e+32
OFFSET_ANGLE = -0.5
SPACECRAFT_SOLAR_DISTANCE = 2.14681e+08
TARGET_NAME = MARS
/* CAMERA DATA ELEMENTS */
DETECTOR_TEMPERATURE = 18.3705
FOCAL_PLANE_TEMPERATURE = 8.3794
INST_CMPRS_NAME = "DISCRETE COSINE TRANSFORMATION (DCT)"
INST_CMPRS_RATIO = 6.25322
INST_CMPRS_QUALITY = 0
INST_CMPRS_QUANTZ_TBL_ID = 0
INSTRUMENT_TEMPERATURE = 11.0301
LENS_TEMPERATURE = 8.7872
MACROPIXEL_SIZE = 1
MISSING_FRAMES = 0
PIXEL_SUBSAMPLING_FLAG = N
SIGNAL_CHAIN_ID = 0
/* RADIOMETRIC DATA ELEMENTS */
BANDWIDTH = 177.0
CENTER_FILTER_WAVELENGTH = 677.5
RADIANCE_OFFSET = 3.8007
RADIANCE_SCALING_FACTOR = 0.036737
REFLECTANCE_SCALING_FACTOR = 0.000899452
MEX:REFLECTANCE_OFFSET = 0.0930547
/* IMAGE OBJECT DEFINITIONS */
OBJECT = IMAGE
  INTERCHANGE_FORMAT = BINARY
  LINES = 58999
  LINE_SAMPLES = 9033
  SAMPLE_TYPE = UNSIGNED_INTEGER
  SAMPLE_BITS = 8
  BANDS = 1
  BAND_STORAGE_TYPE = BAND_SEQUENTIAL
  MAXIMUM = 255
  MEAN = 98.7231
  MINIMUM = 1
  STANDARD_DEVIATION = 61.4412
END_OBJECT = IMAGE
/* MAP OBJECT DEFINITIONS */
OBJECT = IMAGE_MAP_PROJECTION
  ^DATA_SET_MAP_PROJECTION_CATALOG= "DSMAP.CAT"
  A_AXIS_RADIUS = 3396.0
  B_AXIS_RADIUS = 3396.0
  C_AXIS_RADIUS = 3396.0
  CENTER_LATITUDE = 0.0
  CENTER_LONGITUDE = 274.0
  COORDINATE_SYSTEM_NAME = PLANETOGRAPHIC
  COORDINATE_SYSTEM_TYPE = "BODY-FIXED ROTATING"
  EASTERNMOST_LONGITUDE = 275.392
  FIRST_STANDARD_PARALLEL = "N/A"
  LINE_FIRST_PIXEL = 1
  LINE_LAST_PIXEL = 58999
  LINE_PROJECTION_OFFSET = -258290.0
  MAP_PROJECTION_ROTATION = 0.0
  MAP_PROJECTION_TYPE = SINUSOIDAL
  MAP_RESOLUTION = 4741.71043093333
  MAP_SCALE = 0.0125
  MAXIMUM_LATITUDE = -54.4716
  MINIMUM_LATITUDE = -66.9114
  POSITIVE_LONGITUDE_DIRECTION = EAST
  REFERENCE_LATITUDE = "N/A"
  REFERENCE_LONGITUDE = "N/A"
  SAMPLE_FIRST_PIXEL = 1
  SAMPLE_LAST_PIXEL = 9033
  SAMPLE_PROJECTION_OFFSET = 5197.0
  SECOND_STANDARD_PARALLEL = "N/A"
  WESTERNMOST_LONGITUDE = 271.214
END_OBJECT = IMAGE_MAP_PROJECTION
END
