PDS_VERSION_ID = PDS3
/* FILE DATA ELEMENTS */
RECORD_TYPE = UNDEFINED
/* POINTERS TO DATA OBJECTS */
^IMAGE = ("H6465_0000_ND4.TIF")
/* IDENTIFICATION DATA ELEMENTS */
DATA_SET_ID = "MEX-M-HRSC-4-REFDR-MAPPROJECT-EXT2-V4.0"
DATA_SET_NAME = "MARS EXPRESS HRSC MAP PROJECTED REFDR EXTENSION2 V4.0"
DETECTOR_ID = MEX_HRSC_NADIR
EVENT_TYPE = "MARS-REGIONAL-MAPPING-Te-Im"
INSTRUMENT_HOST_ID = MEX
INSTRUMENT_HOST_NAME = "MARS EXPRESS"
INSTRUMENT_ID = HRSC
INSTRUMENT_NAME = "HIGH RESOLUTION STEREO CAMERA"
MISSION_NAME = "MARS EXPRESS"
MISSION_PHASE_NAME = ME_Phase_15
PROCESSING_LEVEL_ID = 4
PRODUCT_CREATION_TIME = 2023-02-05T03:41:04.000Z
PRODUCT_ID = "H6465_0000_ND4.TIF"
RELEASE_ID = 0006
REVISION_ID = 0000
/* QUALITY DATA ELEMENTS */
DATA_QUALITY_ID = 1
DATA_QUALITY_DESC = "Data calculated based on original SPICE kernels"
/* TIME DATA ELEMENTS */
SPACECRAFT_CLOCK_START_COUNT = "1/0179997380.08236"
SPACECRAFT_CLOCK_STOP_COUNT = "1/0179997669.53595"
START_TIME = 2009-01-14T07:16:55.179Z
STOP_TIME = 2009-01-14T07:20:16.195Z
/* ORBITAL DATA ELEMENTS */
ASCENDING_NODE_LONGITUDE = 94.56
MAXIMUM_RESOLUTION = 0.0148
FOOTPRINT_POINT_LATITUDE = (-39.6354,-39.6252,-39.6129,-39.6015, -39.601,-39.5996,-39.2442,-39.0075, -38.7711,-38.535,-38.299,-38.0634, -37.5927,-37.123,-36.6544,-36.1867, -35.7201,-35.2546,-34.898,-34.6598, -34.4219,-34.1843,-33.9412,-33.6979, -33.4549,-33.2123,-32.9642,-32.5921, -32.3445,-31.9663,-31.7134,-31.4609, -31.0756,-30.8179,-30.5606,-30.2986, -30.036,-29.7739,-29.5078,-29.2404, -28.9735,-28.7027,-28.4307,-28.1592, -27.8825,-27.3287,-27.1879,-27.1729, -27.1767,-27.1799,-27.1813,-27.1816, -27.1811,-27.181,-27.1813,-27.4624, -27.7393,-28.0168,-28.4278,-28.7005, -28.9723,-29.2398,-29.5078,-29.7748, -30.0375,-30.3007,-30.5637,-30.8215, -31.0798,-31.4663,-31.7193,-31.9728, -32.3521,-32.6003,-32.8488,-33.0976, -33.4652,-33.7086,-33.9524,-34.1964, -34.4345,-34.6729,-34.9116,-35.2692, -35.7356,-36.2031,-36.6717,-37.1413, -37.3764,-37.6119,-37.8475,-38.0834, -38.3196,-38.556,-38.7926,-39.0295, -39.2666,-39.5039,-39.6226,-39.6354)
FOOTPRINT_POINT_LONGITUDE = (170.088,169.474,168.906,168.465, 168.449,168.42,168.43,168.437,168.444, 168.45,168.456,168.462,168.473,168.483, 168.493,168.501,168.509,168.515,168.52, 168.523,168.526,168.527,168.532,168.533 ,168.534,168.536,168.538,168.54,168.541 ,168.542,168.543,168.543,168.543, 168.543,168.543,168.542,168.543,168.542 ,168.541,168.54,168.538,168.536,168.534 ,168.532,168.529,168.524,168.523, 168.522,168.91,169.41,169.814,170.083, 170.448,170.467,170.477,170.47,170.464, 170.458,170.448,170.442,170.435,170.429 ,170.422,170.415,170.409,170.402, 170.394,170.389,170.382,170.371,170.364 ,170.357,170.347,170.34,170.333,170.325 ,170.314,170.307,170.299,170.292, 170.283,170.275,170.267,170.257,170.243 ,170.227,170.211,170.194,170.185, 170.177,170.168,170.16,170.151,170.142, 170.132,170.123,170.114,170.104,170.099 ,170.088)
ORBIT_NUMBER = 6465
ORBITAL_ECCENTRICITY = 0.575
ORBITAL_INCLINATION = 86.76
ORBITAL_SEMIMAJOR_AXIS = 8685.64
PERIAPSIS_ALTITUDE = 306.11
PERIAPSIS_ARGUMENT_ANGLE = 301.84
PERIAPSIS_TIME = 2009-01-14T07:12:14.000Z
SPACECRAFT_ORIENTATION = (0.0,1.0,0.0)
^MEX_ORIENTATION_DESC = "MEX_ORIENTATION_DESC.TXT"
SPACECRAFT_POINTING_MODE = ACROSSTRACK
^MEX_POINTING_DESC = "MEX_POINTING_DESC.TXT"
RIGHT_ASCENSION = -1e+32
DECLINATION = -1e+32
OFFSET_ANGLE = 0.2
SPACECRAFT_SOLAR_DISTANCE = 2.15821e+08
TARGET_NAME = MARS
/* CAMERA DATA ELEMENTS */
DETECTOR_TEMPERATURE = 19.39
FOCAL_PLANE_TEMPERATURE = 8.1755
INST_CMPRS_NAME = "DISCRETE COSINE TRANSFORMATION (DCT)"
INST_CMPRS_RATIO = 6.64293
INST_CMPRS_QUALITY = 0
INST_CMPRS_QUANTZ_TBL_ID = 0
INSTRUMENT_TEMPERATURE = 11.4379
LENS_TEMPERATURE = 8.7872
MACROPIXEL_SIZE = 1
MISSING_FRAMES = 0
PIXEL_SUBSAMPLING_FLAG = N
SIGNAL_CHAIN_ID = 0
/* RADIOMETRIC DATA ELEMENTS */
BANDWIDTH = 177.0
CENTER_FILTER_WAVELENGTH = 677.5
RADIANCE_OFFSET = 2.64003
RADIANCE_SCALING_FACTOR = 0.0230068
REFLECTANCE_SCALING_FACTOR = 0.000569282
MEX:REFLECTANCE_OFFSET = 0.0653251
/* IMAGE OBJECT DEFINITIONS */
OBJECT = IMAGE
  INTERCHANGE_FORMAT = BINARY
  LINES = 59094
  LINE_SAMPLES = 8351
  SAMPLE_TYPE = UNSIGNED_INTEGER
  SAMPLE_BITS = 8
  BANDS = 1
  BAND_STORAGE_TYPE = BAND_SEQUENTIAL
  MAXIMUM = 255
  MEAN = 100.66
  MINIMUM = 1
  STANDARD_DEVIATION = 33.2768
END_OBJECT = IMAGE
/* MAP OBJECT DEFINITIONS */
OBJECT = IMAGE_MAP_PROJECTION
  ^DATA_SET_MAP_PROJECTION_CATALOG= "DSMAP.CAT"
  A_AXIS_RADIUS = 3396.0
  B_AXIS_RADIUS = 3396.0
  C_AXIS_RADIUS = 3396.0
  CENTER_LATITUDE = 0.0
  CENTER_LONGITUDE = 169.0
  COORDINATE_SYSTEM_NAME = PLANETOGRAPHIC
  COORDINATE_SYSTEM_TYPE = "BODY-FIXED ROTATING"
  EASTERNMOST_LONGITUDE = 170.477
  FIRST_STANDARD_PARALLEL = "N/A"
  LINE_FIRST_PIXEL = 1
  LINE_LAST_PIXEL = 59094
  LINE_PROJECTION_OFFSET = -128849.0
  MAP_PROJECTION_ROTATION = 0.0
  MAP_PROJECTION_TYPE = SINUSOIDAL
  MAP_RESOLUTION = 4741.71043093333
  MAP_SCALE = 0.0125
  MAXIMUM_LATITUDE = -27.1729
  MINIMUM_LATITUDE = -39.6354
  POSITIVE_LONGITUDE_DIRECTION = EAST
  REFERENCE_LATITUDE = "N/A"
  REFERENCE_LONGITUDE = "N/A"
  SAMPLE_FIRST_PIXEL = 1
  SAMPLE_LAST_PIXEL = 8351
  SAMPLE_PROJECTION_OFFSET = 2115.0
  SECOND_STANDARD_PARALLEL = "N/A"
  WESTERNMOST_LONGITUDE = 168.42
END_OBJECT = IMAGE_MAP_PROJECTION
END
