PDS_VERSION_ID = PDS3
/* FILE DATA ELEMENTS */
RECORD_TYPE = UNDEFINED
/* POINTERS TO DATA OBJECTS */
^IMAGE = ("H6436_0000_IR4.TIF")
/* IDENTIFICATION DATA ELEMENTS */
DATA_SET_ID = "MEX-M-HRSC-4-REFDR-MAPPROJECT-EXT2-V4.0"
DATA_SET_NAME = "MARS EXPRESS HRSC MAP PROJECTED REFDR EXTENSION2 V4.0"
DETECTOR_ID = MEX_HRSC_IR
EVENT_TYPE = "MARS-REGIONAL-MAPPING-Te-Im"
INSTRUMENT_HOST_ID = MEX
INSTRUMENT_HOST_NAME = "MARS EXPRESS"
INSTRUMENT_ID = HRSC
INSTRUMENT_NAME = "HIGH RESOLUTION STEREO CAMERA"
MISSION_NAME = "MARS EXPRESS"
MISSION_PHASE_NAME = ME_Phase_15
PROCESSING_LEVEL_ID = 4
PRODUCT_CREATION_TIME = 2023-02-05T03:41:04.000Z
PRODUCT_ID = "H6436_0000_IR4.TIF"
RELEASE_ID = 0006
REVISION_ID = 0000
/* QUALITY DATA ELEMENTS */
DATA_QUALITY_ID = 1
DATA_QUALITY_DESC = "Data calculated based on original SPICE kernels"
/* TIME DATA ELEMENTS */
SPACECRAFT_CLOCK_START_COUNT = "1/0179281910.09064"
SPACECRAFT_CLOCK_STOP_COUNT = "1/0179282383.45591"
START_TIME = 2009-01-06T00:33:23.604Z
STOP_TIME = 2009-01-06T00:39:20.897Z
/* ORBITAL DATA ELEMENTS */
ASCENDING_NODE_LONGITUDE = 95.13
MAXIMUM_RESOLUTION = 0.0904
FOOTPRINT_POINT_LATITUDE = (-21.8779,-21.8581,-21.8428,-21.8273, -21.8268,-21.8371,-21.3905,-20.7854, -20.0157,-19.2336,-18.4365,-18.114, -17.7888,-17.4623,-17.1346,-16.8022, -16.4677,-16.1318,-15.6192,-15.1032, -14.7579,-14.4123,-14.0611,-13.7073, -13.3498,-12.9911,-12.626,-12.2594, -11.8907,-11.5195,-11.1451,-10.7685, -10.3937,-10.0206,-9.65202,-9.28648, -8.74232,-8.1997,-7.84022,-7.48388, -7.1309,-6.60293,-6.2543,-5.90781, -5.56278,-5.21887,-4.87809,-4.70833, -4.6081,-4.60282,-4.59559,-4.59398, -4.59226,-4.59296,-4.59615,-4.59639, -4.59781,-4.93803,-5.28253,-5.62889, -5.976,-6.3251,-6.6734,-7.02415,-7.5653 ,-7.92553,-8.28491,-8.64669,-9.01224, -9.37924,-9.74729,-10.1182,-10.4929, -11.0555,-11.4323,-11.8055,-12.1774, -12.5468,-12.9111,-13.2725,-13.6313, -13.9867,-14.3387,-14.8637,-15.2106, -15.7279,-16.0682,-16.5754,-16.9097, -17.242,-17.572,-17.898,-18.5448, -19.0242,-19.8128,-20.4336,-21.0439, -21.6494,-21.8001,-21.8779)
FOOTPRINT_POINT_LONGITUDE = (199.384,198.558,197.943,197.339,197.32 ,197.316,197.301,197.28,197.251,197.221 ,197.189,197.176,197.162,197.148, 197.134,197.119,197.104,197.089,197.065 ,197.04,197.024,197.007,196.989,196.971 ,196.952,196.934,196.914,196.894, 196.874,196.854,196.832,196.811,196.789 ,196.767,196.745,196.722,196.688, 196.653,196.63,196.607,196.583,196.547, 196.523,196.499,196.474,196.45,196.425, 196.412,196.405,196.978,197.646,198.198 ,198.598,199.156,199.658,199.689,199.7, 199.69,199.682,199.674,199.665,199.657, 199.646,199.636,199.628,199.621,199.612 ,199.604,199.596,199.588,199.58,199.572 ,199.565,199.553,199.547,199.539, 199.534,199.528,199.522,199.515,199.508 ,199.502,199.495,199.487,199.481, 199.475,199.47,199.463,199.459,199.454, 199.45,199.445,199.436,199.429,199.42, 199.412,199.403,199.396,199.395, 199.384)
ORBIT_NUMBER = 6436
ORBITAL_ECCENTRICITY = 0.575
ORBITAL_INCLINATION = 86.77
ORBITAL_SEMIMAJOR_AXIS = 8670.24
PERIAPSIS_ALTITUDE = 305.79
PERIAPSIS_ARGUMENT_ANGLE = 306.84
PERIAPSIS_TIME = 2009-01-06T00:24:31.000Z
SPACECRAFT_ORIENTATION = (0.0,1.0,0.0)
^MEX_ORIENTATION_DESC = "MEX_ORIENTATION_DESC.TXT"
SPACECRAFT_POINTING_MODE = ACROSSTRACK
^MEX_POINTING_DESC = "MEX_POINTING_DESC.TXT"
RIGHT_ASCENSION = -1e+32
DECLINATION = -1e+32
OFFSET_ANGLE = -1.1
SPACECRAFT_SOLAR_DISTANCE = 2.17255e+08
TARGET_NAME = MARS
/* CAMERA DATA ELEMENTS */
DETECTOR_TEMPERATURE = 16.9432
FOCAL_PLANE_TEMPERATURE = 7.7677
INST_CMPRS_NAME = "DISCRETE COSINE TRANSFORMATION (DCT)"
INST_CMPRS_RATIO = 11.6899
INST_CMPRS_QUALITY = 0
INST_CMPRS_QUANTZ_TBL_ID = 0
INSTRUMENT_TEMPERATURE = 11.0301
LENS_TEMPERATURE = 7.9716
MACROPIXEL_SIZE = 4
MISSING_FRAMES = 0
PIXEL_SUBSAMPLING_FLAG = N
SIGNAL_CHAIN_ID = 2
/* RADIOMETRIC DATA ELEMENTS */
BANDWIDTH = 81.0
CENTER_FILTER_WAVELENGTH = 955.5
RADIANCE_OFFSET = 1.53609
RADIANCE_SCALING_FACTOR = 0.00637142
REFLECTANCE_SCALING_FACTOR = 0.000648789
MEX:REFLECTANCE_OFFSET = 0.156417
/* IMAGE OBJECT DEFINITIONS */
OBJECT = IMAGE
  INTERCHANGE_FORMAT = BINARY
  LINES = 10283
  LINE_SAMPLES = 1706
  SAMPLE_TYPE = UNSIGNED_INTEGER
  SAMPLE_BITS = 8
  BANDS = 1
  BAND_STORAGE_TYPE = BAND_SEQUENTIAL
  MAXIMUM = 255
  MEAN = 155.583
  MINIMUM = 1
  STANDARD_DEVIATION = 25.7092
END_OBJECT = IMAGE
/* MAP OBJECT DEFINITIONS */
OBJECT = IMAGE_MAP_PROJECTION
  ^DATA_SET_MAP_PROJECTION_CATALOG= "DSMAP.CAT"
  A_AXIS_RADIUS = 3396.0
  B_AXIS_RADIUS = 3396.0
  C_AXIS_RADIUS = 3396.0
  CENTER_LATITUDE = 0.0
  CENTER_LONGITUDE = 198.0
  COORDINATE_SYSTEM_NAME = PLANETOGRAPHIC
  COORDINATE_SYSTEM_TYPE = "BODY-FIXED ROTATING"
  EASTERNMOST_LONGITUDE = 199.7
  FIRST_STANDARD_PARALLEL = "N/A"
  LINE_FIRST_PIXEL = 1
  LINE_LAST_PIXEL = 10283
  LINE_PROJECTION_OFFSET = -2691.875
  MAP_PROJECTION_ROTATION = 0.0
  MAP_PROJECTION_TYPE = SINUSOIDAL
  MAP_RESOLUTION = 592.713803866667
  MAP_SCALE = 0.1
  MAXIMUM_LATITUDE = -4.59226
  MINIMUM_LATITUDE = -21.8779
  POSITIVE_LONGITUDE_DIRECTION = EAST
  REFERENCE_LATITUDE = "N/A"
  REFERENCE_LONGITUDE = "N/A"
  SAMPLE_FIRST_PIXEL = 1
  SAMPLE_LAST_PIXEL = 1706
  SAMPLE_PROJECTION_OFFSET = 838.875
  SECOND_STANDARD_PARALLEL = "N/A"
  WESTERNMOST_LONGITUDE = 196.405
END_OBJECT = IMAGE_MAP_PROJECTION
END
