PDS_VERSION_ID = PDS3
/* FILE DATA ELEMENTS */
RECORD_TYPE = UNDEFINED
/* POINTERS TO DATA OBJECTS */
^IMAGE = ("H6432_0000_P24.TIF")
/* IDENTIFICATION DATA ELEMENTS */
DATA_SET_ID = "MEX-M-HRSC-4-REFDR-MAPPROJECT-EXT2-V4.0"
DATA_SET_NAME = "MARS EXPRESS HRSC MAP PROJECTED REFDR EXTENSION2 V4.0"
DETECTOR_ID = MEX_HRSC_P2
EVENT_TYPE = "MARS-REGIONAL-MAPPING-Te-Im"
INSTRUMENT_HOST_ID = MEX
INSTRUMENT_HOST_NAME = "MARS EXPRESS"
INSTRUMENT_ID = HRSC
INSTRUMENT_NAME = "HIGH RESOLUTION STEREO CAMERA"
MISSION_NAME = "MARS EXPRESS"
MISSION_PHASE_NAME = ME_Phase_15
PROCESSING_LEVEL_ID = 4
PRODUCT_CREATION_TIME = 2023-02-05T03:41:04.000Z
PRODUCT_ID = "H6432_0000_P24.TIF"
RELEASE_ID = 0006
REVISION_ID = 0000
/* QUALITY DATA ELEMENTS */
DATA_QUALITY_ID = 1
DATA_QUALITY_DESC = "Data calculated based on original SPICE kernels"
/* TIME DATA ELEMENTS */
SPACECRAFT_CLOCK_START_COUNT = "1/0179182718.09049"
SPACECRAFT_CLOCK_STOP_COUNT = "1/0179182998.50640"
START_TIME = 2009-01-04T20:58:51.013Z
STOP_TIME = 2009-01-04T21:02:31.709Z
/* ORBITAL DATA ELEMENTS */
ASCENDING_NODE_LONGITUDE = 95.22
MAXIMUM_RESOLUTION = 0.0499
FOOTPRINT_POINT_LATITUDE = (-59.596,-59.551,-59.5013,-59.4282, -59.4264,-59.3678,-58.7849,-58.4945, -58.2047,-57.9122,-57.6203,-57.3279, -57.0357,-56.5967,-56.3034,-56.0099, -55.7207,-55.4369,-55.1526,-54.7262, -54.3006,-54.0107,-53.5794,-53.293, -52.7299,-52.4409,-52.1546,-51.7267, -51.4407,-51.1533,-50.8658,-50.5773, -50.1449,-49.8566,-49.4246,-48.992, -48.7036,-48.2711,-47.8382,-47.5494, -47.2606,-46.972,-46.5396,-46.249, -45.8144,-45.3809,-45.091,-44.9463, -44.9383,-44.9813,-45.018,-45.0474, -45.0483,-45.0494,-45.3404,-45.6298, -45.9202,-46.2101,-46.5006,-46.9354, -47.2253,-47.5153,-47.8051,-48.2397, -48.5294,-48.8189,-49.1084,-49.3978, -49.687,-49.9762,-50.265,-50.5542, -50.9869,-51.2755,-51.7085,-51.996, -52.284,-52.5718,-53.0033,-53.2903, -53.5775,-53.8645,-54.1514,-54.438, -54.8675,-55.2966,-55.7256,-56.0108, -56.3057,-56.7482,-57.0434,-57.4823, -57.7764,-58.2187,-58.5114,-58.8038, -59.0967,-59.3899,-59.5383,-59.596)
FOOTPRINT_POINT_LONGITUDE = (235.197,234.566,233.922,233.055, 233.034,232.925,233.074,233.146,233.217 ,233.284,233.35,233.415,233.479,233.573 ,233.633,233.692,233.749,233.804, 233.857,233.936,234.015,234.056,234.123 ,234.169,234.275,234.314,234.358, 234.425,234.467,234.507,234.546,234.583 ,234.637,234.673,234.726,234.778, 234.811,234.86,234.908,234.939,234.969, 234.999,235.044,235.069,235.109,235.149 ,235.174,235.186,235.187,235.756, 236.282,236.739,236.753,236.757,236.738 ,236.717,236.696,236.675,236.654, 236.621,236.599,236.576,236.553,236.518 ,236.494,236.47,236.445,236.42,236.395, 236.369,236.342,236.315,236.274,236.246 ,236.203,236.174,236.144,236.114, 236.067,236.035,236.003,235.97,235.937, 235.903,235.851,235.798,235.743,235.706 ,235.666,235.605,235.564,235.5,235.456, 235.39,235.345,235.298,235.251,235.203, 235.178,235.197)
ORBIT_NUMBER = 6432
ORBITAL_ECCENTRICITY = 0.575
ORBITAL_INCLINATION = 86.77
ORBITAL_SEMIMAJOR_AXIS = 8672.98
PERIAPSIS_ALTITUDE = 305.11
PERIAPSIS_ARGUMENT_ANGLE = 307.5
PERIAPSIS_TIME = 2009-01-04T21:00:59.000Z
SPACECRAFT_ORIENTATION = (0.0,1.0,0.0)
^MEX_ORIENTATION_DESC = "MEX_ORIENTATION_DESC.TXT"
SPACECRAFT_POINTING_MODE = ACROSSTRACK
^MEX_POINTING_DESC = "MEX_POINTING_DESC.TXT"
RIGHT_ASCENSION = -1e+32
DECLINATION = -1e+32
OFFSET_ANGLE = 0.9
SPACECRAFT_SOLAR_DISTANCE = 2.17458e+08
TARGET_NAME = MARS
/* CAMERA DATA ELEMENTS */
DETECTOR_TEMPERATURE = 18.3705
FOCAL_PLANE_TEMPERATURE = 7.5638
INST_CMPRS_NAME = "DISCRETE COSINE TRANSFORMATION (DCT)"
INST_CMPRS_RATIO = 11.0523
INST_CMPRS_QUALITY = 0
INST_CMPRS_QUANTZ_TBL_ID = 0
INSTRUMENT_TEMPERATURE = 10.8262
LENS_TEMPERATURE = 8.1755
MACROPIXEL_SIZE = 4
MISSING_FRAMES = 0
PIXEL_SUBSAMPLING_FLAG = N
SIGNAL_CHAIN_ID = 3
/* RADIOMETRIC DATA ELEMENTS */
BANDWIDTH = 177.0
CENTER_FILTER_WAVELENGTH = 676.5
RADIANCE_OFFSET = 3.54811
RADIANCE_SCALING_FACTOR = 0.0201346
REFLECTANCE_SCALING_FACTOR = 0.000504835
MEX:REFLECTANCE_OFFSET = 0.0889618
/* IMAGE OBJECT DEFINITIONS */
OBJECT = IMAGE
  INTERCHANGE_FORMAT = BINARY
  LINES = 17262
  LINE_SAMPLES = 2731
  SAMPLE_TYPE = UNSIGNED_INTEGER
  SAMPLE_BITS = 8
  BANDS = 1
  BAND_STORAGE_TYPE = BAND_SEQUENTIAL
  MAXIMUM = 255
  MEAN = 77.7111
  MINIMUM = 1
  STANDARD_DEVIATION = 51.9999
END_OBJECT = IMAGE
/* MAP OBJECT DEFINITIONS */
OBJECT = IMAGE_MAP_PROJECTION
  ^DATA_SET_MAP_PROJECTION_CATALOG= "DSMAP.CAT"
  A_AXIS_RADIUS = 3396.0
  B_AXIS_RADIUS = 3396.0
  C_AXIS_RADIUS = 3396.0
  CENTER_LATITUDE = 0.0
  CENTER_LONGITUDE = 235.0
  COORDINATE_SYSTEM_NAME = PLANETOGRAPHIC
  COORDINATE_SYSTEM_TYPE = "BODY-FIXED ROTATING"
  EASTERNMOST_LONGITUDE = 236.757
  FIRST_STANDARD_PARALLEL = "N/A"
  LINE_FIRST_PIXEL = 1
  LINE_LAST_PIXEL = 17262
  LINE_PROJECTION_OFFSET = -53291.375
  MAP_PROJECTION_ROTATION = 0.0
  MAP_PROJECTION_TYPE = SINUSOIDAL
  MAP_RESOLUTION = 1185.42760773333
  MAP_SCALE = 0.05
  MAXIMUM_LATITUDE = -44.9383
  MINIMUM_LATITUDE = -59.596
  POSITIVE_LONGITUDE_DIRECTION = EAST
  REFERENCE_LATITUDE = "N/A"
  REFERENCE_LONGITUDE = "N/A"
  SAMPLE_FIRST_PIXEL = 1
  SAMPLE_LAST_PIXEL = 2731
  SAMPLE_PROJECTION_OFFSET = 1248.375
  SECOND_STANDARD_PARALLEL = "N/A"
  WESTERNMOST_LONGITUDE = 232.925
END_OBJECT = IMAGE_MAP_PROJECTION
END
