PDS_VERSION_ID = PDS3
/* FILE DATA ELEMENTS */
RECORD_TYPE = UNDEFINED
/* POINTERS TO DATA OBJECTS */
^IMAGE = ("H6432_0000_GR4.TIF")
/* IDENTIFICATION DATA ELEMENTS */
DATA_SET_ID = "MEX-M-HRSC-4-REFDR-MAPPROJECT-EXT2-V4.0"
DATA_SET_NAME = "MARS EXPRESS HRSC MAP PROJECTED REFDR EXTENSION2 V4.0"
DETECTOR_ID = MEX_HRSC_GREEN
EVENT_TYPE = "MARS-REGIONAL-MAPPING-Te-Im"
INSTRUMENT_HOST_ID = MEX
INSTRUMENT_HOST_NAME = "MARS EXPRESS"
INSTRUMENT_ID = HRSC
INSTRUMENT_NAME = "HIGH RESOLUTION STEREO CAMERA"
MISSION_NAME = "MARS EXPRESS"
MISSION_PHASE_NAME = ME_Phase_15
PROCESSING_LEVEL_ID = 4
PRODUCT_CREATION_TIME = 2023-02-05T03:41:04.000Z
PRODUCT_ID = "H6432_0000_GR4.TIF"
RELEASE_ID = 0006
REVISION_ID = 0000
/* QUALITY DATA ELEMENTS */
DATA_QUALITY_ID = 1
DATA_QUALITY_DESC = "Data calculated based on original SPICE kernels"
/* TIME DATA ELEMENTS */
SPACECRAFT_CLOCK_START_COUNT = "1/0179182718.09049"
SPACECRAFT_CLOCK_STOP_COUNT = "1/0179182998.50640"
START_TIME = 2009-01-04T20:59:15.106Z
STOP_TIME = 2009-01-04T21:02:54.950Z
/* ORBITAL DATA ELEMENTS */
ASCENDING_NODE_LONGITUDE = 95.22
MAXIMUM_RESOLUTION = 0.0971
FOOTPRINT_POINT_LATITUDE = (-59.4846,-59.4575,-59.4267,-59.3815, -59.3804,-59.3828,-58.9415,-58.6471, -58.3524,-57.9103,-57.6154,-57.3227, -57.0377,-56.7525,-56.4672,-56.1819, -55.8964,-55.6109,-55.3252,-55.0395, -54.7537,-54.4678,-54.1817,-53.6107, -53.3248,-53.0385,-52.7516,-52.4658, -52.1797,-51.8935,-51.6071,-51.3209, -51.0349,-50.6059,-50.177,-49.8911, -49.6051,-49.3193,-48.8906,-48.6049, -48.0336,-47.4627,-47.0347,-46.3219, -46.0283,-45.7334,-45.4385,-45.144, -44.9968,-44.9547,-44.9829,-45.0019, -45.0022,-45.0041,-45.2993,-45.5949, -45.8905,-46.1863,-46.4772,-46.9061, -47.4783,-47.7645,-48.0509,-48.3374, -48.6239,-48.9106,-49.1973,-49.4841, -49.771,-50.0579,-50.3449,-50.6319, -50.9191,-51.2063,-51.4934,-51.9244, -52.2116,-52.4989,-52.7862,-53.2172, -53.5046,-53.7919,-54.0791,-54.3665, -54.7973,-55.0845,-55.3716,-55.8022, -56.2329,-56.6634,-56.9502,-57.2368, -57.6739,-58.1186,-58.4153,-58.712, -59.0083,-59.3044,-59.4525,-59.4846)
FOOTPRINT_POINT_LONGITUDE = (235.199,234.58,233.947,233.113,233.092 ,232.963,233.075,233.146,233.22,233.321 ,233.387,233.451,233.513,233.574, 233.632,233.689,233.746,233.8,233.855, 233.907,233.959,234.01,234.063,234.143, 234.189,234.238,234.295,234.333,234.376 ,234.418,234.463,234.504,234.543, 234.597,234.651,234.686,234.721,234.755 ,234.805,234.837,234.901,234.961, 235.005,235.075,235.099,235.126,235.154 ,235.178,235.191,235.194,236.036, 236.747,236.761,236.771,236.75,236.729, 236.708,236.686,236.664,236.631,236.586 ,236.563,236.54,236.516,236.492,236.467 ,236.442,236.416,236.39,236.364,236.337 ,236.31,236.282,236.254,236.225,236.181 ,236.151,236.12,236.089,236.041,236.008 ,235.975,235.941,235.907,235.854, 235.818,235.781,235.725,235.667,235.607 ,235.566,235.525,235.458,235.392, 235.345,235.297,235.248,235.199,235.174 ,235.199)
ORBIT_NUMBER = 6432
ORBITAL_ECCENTRICITY = 0.575
ORBITAL_INCLINATION = 86.77
ORBITAL_SEMIMAJOR_AXIS = 8672.98
PERIAPSIS_ALTITUDE = 305.11
PERIAPSIS_ARGUMENT_ANGLE = 307.5
PERIAPSIS_TIME = 2009-01-04T21:00:59.000Z
SPACECRAFT_ORIENTATION = (0.0,1.0,0.0)
^MEX_ORIENTATION_DESC = "MEX_ORIENTATION_DESC.TXT"
SPACECRAFT_POINTING_MODE = ACROSSTRACK
^MEX_POINTING_DESC = "MEX_POINTING_DESC.TXT"
RIGHT_ASCENSION = -1e+32
DECLINATION = -1e+32
OFFSET_ANGLE = 0.9
SPACECRAFT_SOLAR_DISTANCE = 2.17458e+08
TARGET_NAME = MARS
/* CAMERA DATA ELEMENTS */
DETECTOR_TEMPERATURE = 18.1666
FOCAL_PLANE_TEMPERATURE = 7.5638
INST_CMPRS_NAME = "DISCRETE COSINE TRANSFORMATION (DCT)"
INST_CMPRS_RATIO = 17.3759
INST_CMPRS_QUALITY = 0
INST_CMPRS_QUANTZ_TBL_ID = 0
INSTRUMENT_TEMPERATURE = 10.8262
LENS_TEMPERATURE = 8.1755
MACROPIXEL_SIZE = 8
MISSING_FRAMES = 0
PIXEL_SUBSAMPLING_FLAG = N
SIGNAL_CHAIN_ID = 2
/* RADIOMETRIC DATA ELEMENTS */
BANDWIDTH = 88.0
CENTER_FILTER_WAVELENGTH = 538.0
RADIANCE_OFFSET = 1.42341
RADIANCE_SCALING_FACTOR = 0.0099856
REFLECTANCE_SCALING_FACTOR = 0.000406552
MEX:REFLECTANCE_OFFSET = 0.0579526
/* IMAGE OBJECT DEFINITIONS */
OBJECT = IMAGE
  INTERCHANGE_FORMAT = BINARY
  LINES = 8631
  LINE_SAMPLES = 1366
  SAMPLE_TYPE = UNSIGNED_INTEGER
  SAMPLE_BITS = 8
  BANDS = 1
  BAND_STORAGE_TYPE = BAND_SEQUENTIAL
  MAXIMUM = 255
  MEAN = 66.5673
  MINIMUM = 1
  STANDARD_DEVIATION = 54.4715
END_OBJECT = IMAGE
/* MAP OBJECT DEFINITIONS */
OBJECT = IMAGE_MAP_PROJECTION
  ^DATA_SET_MAP_PROJECTION_CATALOG= "DSMAP.CAT"
  A_AXIS_RADIUS = 3396.0
  B_AXIS_RADIUS = 3396.0
  C_AXIS_RADIUS = 3396.0
  CENTER_LATITUDE = 0.0
  CENTER_LONGITUDE = 235.0
  COORDINATE_SYSTEM_NAME = PLANETOGRAPHIC
  COORDINATE_SYSTEM_TYPE = "BODY-FIXED ROTATING"
  EASTERNMOST_LONGITUDE = 236.771
  FIRST_STANDARD_PARALLEL = "N/A"
  LINE_FIRST_PIXEL = 1
  LINE_LAST_PIXEL = 8631
  LINE_PROJECTION_OFFSET = -26645.9375
  MAP_PROJECTION_ROTATION = 0.0
  MAP_PROJECTION_TYPE = SINUSOIDAL
  MAP_RESOLUTION = 592.713803866667
  MAP_SCALE = 0.1
  MAXIMUM_LATITUDE = -44.9547
  MINIMUM_LATITUDE = -59.4846
  POSITIVE_LONGITUDE_DIRECTION = EAST
  REFERENCE_LATITUDE = "N/A"
  REFERENCE_LONGITUDE = "N/A"
  SAMPLE_FIRST_PIXEL = 1
  SAMPLE_LAST_PIXEL = 1366
  SAMPLE_PROJECTION_OFFSET = 623.9375
  SECOND_STANDARD_PARALLEL = "N/A"
  WESTERNMOST_LONGITUDE = 232.963
END_OBJECT = IMAGE_MAP_PROJECTION
END
