PDS_VERSION_ID = PDS3
/* FILE DATA ELEMENTS */
RECORD_TYPE = UNDEFINED
/* POINTERS TO DATA OBJECTS */
^IMAGE = ("H6430_0000_ND4.TIF")
/* IDENTIFICATION DATA ELEMENTS */
DATA_SET_ID = "MEX-M-HRSC-4-REFDR-MAPPROJECT-EXT2-V4.0"
DATA_SET_NAME = "MARS EXPRESS HRSC MAP PROJECTED REFDR EXTENSION2 V4.0"
DETECTOR_ID = MEX_HRSC_NADIR
EVENT_TYPE = "MARS-REGIONAL-MAPPING-Im-Fl-La"
INSTRUMENT_HOST_ID = MEX
INSTRUMENT_HOST_NAME = "MARS EXPRESS"
INSTRUMENT_ID = HRSC
INSTRUMENT_NAME = "HIGH RESOLUTION STEREO CAMERA"
MISSION_NAME = "MARS EXPRESS"
MISSION_PHASE_NAME = ME_Phase_15
PROCESSING_LEVEL_ID = 4
PRODUCT_CREATION_TIME = 2023-02-05T03:41:04.000Z
PRODUCT_ID = "H6430_0000_ND4.TIF"
RELEASE_ID = 0006
REVISION_ID = 0000
/* QUALITY DATA ELEMENTS */
DATA_QUALITY_ID = 1
DATA_QUALITY_DESC = "Data calculated based on original SPICE kernels"
/* TIME DATA ELEMENTS */
SPACECRAFT_CLOCK_START_COUNT = "1/0179133788.08243"
SPACECRAFT_CLOCK_STOP_COUNT = "1/0179134085.57863"
START_TIME = 2009-01-04T07:23:42.436Z
STOP_TIME = 2009-01-04T07:27:13.449Z
/* ORBITAL DATA ELEMENTS */
ASCENDING_NODE_LONGITUDE = 95.25
MAXIMUM_RESOLUTION = 0.0147
FOOTPRINT_POINT_LATITUDE = (-34.769,-34.7657,-34.7578,-34.7576, -34.7566,-34.1147,-33.8627,-33.608, -33.3537,-33.0995,-32.8456,-32.5921, -32.3387,-32.0856,-31.8329,-31.5804, -31.3282,-30.8247,-30.3224,-29.8212, -29.3213,-29.0674,-28.8115,-28.556, -28.3007,-28.0417,-27.7805,-27.5196, -27.2591,-26.86,-26.5938,-26.3281, -25.9215,-25.6501,-25.379,-25.1019, -24.8253,-24.5491,-24.2674,-23.9856, -23.5606,-23.2735,-22.987,-22.6964, -22.4021,-22.1099,-21.8127,-21.6643, -21.6425,-21.642,-21.6395,-21.6354, -21.631,-21.6308,-21.631,-21.9285, -22.3707,-22.6655,-22.9572,-23.2443, -23.5318,-23.8172,-24.0992,-24.3818, -24.7999,-25.077,-25.4909,-25.7625, -26.0346,-26.3064,-26.5726,-26.9727, -27.2395,-27.5004,-27.7617,-28.0234, -28.2833,-28.5389,-28.7949,-29.0513, -29.306,-29.8067,-30.3087,-30.8118, -31.0638,-31.3161,-31.5687,-31.8216, -32.0747,-32.3281,-32.5818,-32.8358, -33.0901,-33.3446,-33.5994,-33.8545, -34.3239,-34.6454,-34.7527,-34.769)
FOOTPRINT_POINT_LONGITUDE = (79.3578,78.5985,77.8554,77.8407, 77.8301,77.833,77.8338,77.8347,77.8354, 77.8357,77.8359,77.8364,77.8361,77.8355 ,77.8351,77.8348,77.8341,77.8318, 77.8294,77.826,77.8224,77.8202,77.8181, 77.8156,77.8126,77.8095,77.8066,77.8033 ,77.7998,77.7943,77.7907,77.7873, 77.7811,77.7768,77.7722,77.7674,77.7625 ,77.7574,77.752,77.7465,77.7377,77.7315 ,77.7253,77.7185,77.7117,77.7045, 77.6967,77.6931,77.6925,78.0182,78.5813 ,79.113,79.5203,79.5389,79.548,79.545, 79.5406,79.5401,79.5344,79.5318,79.5296 ,79.5277,79.5247,79.5219,79.5145, 79.5126,79.5086,79.5056,79.5028,79.5008 ,79.4992,79.4949,79.4913,79.489,79.4867 ,79.4822,79.4796,79.4759,79.4731, 79.4672,79.4686,79.4667,79.4562,79.4515 ,79.4516,79.445,79.4423,79.4409,79.4416 ,79.4386,79.4384,79.4337,79.4309, 79.4277,79.4248,79.4214,79.4164,79.4122 ,79.4109,79.3578)
ORBIT_NUMBER = 6430
ORBITAL_ECCENTRICITY = 0.575
ORBITAL_INCLINATION = 86.77
ORBITAL_SEMIMAJOR_AXIS = 8675.42
PERIAPSIS_ALTITUDE = 305.08
PERIAPSIS_ARGUMENT_ANGLE = 307.86
PERIAPSIS_TIME = 2009-01-04T07:19:19.000Z
SPACECRAFT_ORIENTATION = (0.0,1.0,0.0)
^MEX_ORIENTATION_DESC = "MEX_ORIENTATION_DESC.TXT"
SPACECRAFT_POINTING_MODE = ACROSSTRACK
^MEX_POINTING_DESC = "MEX_POINTING_DESC.TXT"
RIGHT_ASCENSION = -1e+32
DECLINATION = -1e+32
OFFSET_ANGLE = -0.54
SPACECRAFT_SOLAR_DISTANCE = 2.17559e+08
TARGET_NAME = MARS
/* CAMERA DATA ELEMENTS */
DETECTOR_TEMPERATURE = 18.5744
FOCAL_PLANE_TEMPERATURE = 8.3794
INST_CMPRS_NAME = "DISCRETE COSINE TRANSFORMATION (DCT)"
INST_CMPRS_RATIO = 7.05484
INST_CMPRS_QUALITY = 0
INST_CMPRS_QUANTZ_TBL_ID = 0
INSTRUMENT_TEMPERATURE = 11.234
LENS_TEMPERATURE = 8.9911
MACROPIXEL_SIZE = 1
MISSING_FRAMES = 1
PIXEL_SUBSAMPLING_FLAG = N
SIGNAL_CHAIN_ID = 0
/* RADIOMETRIC DATA ELEMENTS */
BANDWIDTH = 177.0
CENTER_FILTER_WAVELENGTH = 677.5
RADIANCE_OFFSET = 4.9829
RADIANCE_SCALING_FACTOR = 0.00969096
REFLECTANCE_SCALING_FACTOR = 0.000243672
MEX:REFLECTANCE_OFFSET = 0.125291
/* IMAGE OBJECT DEFINITIONS */
OBJECT = IMAGE
  INTERCHANGE_FORMAT = BINARY
  LINES = 62295
  LINE_SAMPLES = 8180
  SAMPLE_TYPE = UNSIGNED_INTEGER
  SAMPLE_BITS = 8
  BANDS = 1
  BAND_STORAGE_TYPE = BAND_SEQUENTIAL
  MAXIMUM = 255
  MEAN = 133.223
  MINIMUM = 1
  STANDARD_DEVIATION = 28.4583
END_OBJECT = IMAGE
/* MAP OBJECT DEFINITIONS */
OBJECT = IMAGE_MAP_PROJECTION
  ^DATA_SET_MAP_PROJECTION_CATALOG= "DSMAP.CAT"
  A_AXIS_RADIUS = 3396.0
  B_AXIS_RADIUS = 3396.0
  C_AXIS_RADIUS = 3396.0
  CENTER_LATITUDE = 0.0
  CENTER_LONGITUDE = 79.0
  COORDINATE_SYSTEM_NAME = PLANETOGRAPHIC
  COORDINATE_SYSTEM_TYPE = "BODY-FIXED ROTATING"
  EASTERNMOST_LONGITUDE = 79.548
  FIRST_STANDARD_PARALLEL = "N/A"
  LINE_FIRST_PIXEL = 1
  LINE_LAST_PIXEL = 62295
  LINE_PROJECTION_OFFSET = -102568.0
  MAP_PROJECTION_ROTATION = 0.0
  MAP_PROJECTION_TYPE = SINUSOIDAL
  MAP_RESOLUTION = 4741.71043093333
  MAP_SCALE = 0.0125
  MAXIMUM_LATITUDE = -21.6308
  MINIMUM_LATITUDE = -34.769
  POSITIVE_LONGITUDE_DIRECTION = EAST
  REFERENCE_LATITUDE = "N/A"
  REFERENCE_LONGITUDE = "N/A"
  SAMPLE_FIRST_PIXEL = 1
  SAMPLE_LAST_PIXEL = 8180
  SAMPLE_PROJECTION_OFFSET = 5762.0
  SECOND_STANDARD_PARALLEL = "N/A"
  WESTERNMOST_LONGITUDE = 77.6925
END_OBJECT = IMAGE_MAP_PROJECTION
END
