PDS_VERSION_ID = PDS3
/* FILE DATA ELEMENTS */
RECORD_TYPE = UNDEFINED
/* POINTERS TO DATA OBJECTS */
^IMAGE = ("H6429_0000_S14.TIF")
/* IDENTIFICATION DATA ELEMENTS */
DATA_SET_ID = "MEX-M-HRSC-4-REFDR-MAPPROJECT-EXT2-V4.0"
DATA_SET_NAME = "MARS EXPRESS HRSC MAP PROJECTED REFDR EXTENSION2 V4.0"
DETECTOR_ID = MEX_HRSC_S1
EVENT_TYPE = "MARS-REGIONAL-MAPPING-Im-Fl-Mw"
INSTRUMENT_HOST_ID = MEX
INSTRUMENT_HOST_NAME = "MARS EXPRESS"
INSTRUMENT_ID = HRSC
INSTRUMENT_NAME = "HIGH RESOLUTION STEREO CAMERA"
MISSION_NAME = "MARS EXPRESS"
MISSION_PHASE_NAME = ME_Phase_15
PROCESSING_LEVEL_ID = 4
PRODUCT_CREATION_TIME = 2023-02-05T03:41:04.000Z
PRODUCT_ID = "H6429_0000_S14.TIF"
RELEASE_ID = 0006
REVISION_ID = 0000
/* QUALITY DATA ELEMENTS */
DATA_QUALITY_ID = 1
DATA_QUALITY_DESC = "Data calculated based on original SPICE kernels"
/* TIME DATA ELEMENTS */
SPACECRAFT_CLOCK_START_COUNT = "1/0179109008.08238"
SPACECRAFT_CLOCK_STOP_COUNT = "1/0179109424.08687"
START_TIME = 2009-01-04T00:31:07.694Z
STOP_TIME = 2009-01-04T00:37:04.616Z
/* ORBITAL DATA ELEMENTS */
ASCENDING_NODE_LONGITUDE = 95.27
MAXIMUM_RESOLUTION = 0.0276
FOOTPRINT_POINT_LATITUDE = (-43.1782,-43.1667,-43.1458,-43.1454, -43.1906,-42.4573,-42.0895,-41.3576, -40.6185,-40.2421,-39.8665,-39.4919, -39.1178,-38.7439,-38.365,-37.8142, -37.4462,-37.0777,-36.5256,-36.1592, -35.7342,-35.2969,-34.8607,-34.4263, -33.9947,-33.5648,-32.9213,-32.4946, -32.0718,-31.648,-31.0022,-30.571, -30.1316,-29.7019,-29.246,-28.7993, -28.3382,-27.8856,-27.4248,-26.9639, -26.4967,-26.0189,-25.2987,-24.5708, -23.8281,-23.3305,-22.3391,-22.0962, -22.0649,-22.0608,-22.0592,-22.0539, -22.0538,-22.0546,-22.5459,-23.0401, -23.5379,-24.0376,-24.5322,-25.2663, -25.7517,-26.2288,-26.6999,-27.1716, -27.6323,-28.3237,-28.7797,-29.2259, -29.6733,-30.1135,-30.7707,-31.2, -31.6368,-32.0618,-32.4881,-33.1223, -33.7659,-34.1965,-34.6311,-35.0656, -35.5025,-36.1574,-36.5255,-36.8943, -37.2647,-37.6346,-38.0049,-38.3759, -38.7481,-39.1211,-39.4956,-39.8709, -40.2467,-40.6227,-41.1802,-41.9192, -42.4728,-43.0201,-43.2019,-43.1782)
FOOTPRINT_POINT_LONGITUDE = (178.569,177.964,177.065,177.05,177.024 ,177.057,177.073,177.101,177.128, 177.141,177.153,177.164,177.175,177.186 ,177.199,177.21,177.217,177.225,177.235 ,177.242,177.25,177.257,177.263,177.269 ,177.274,177.278,177.283,177.285, 177.286,177.287,177.288,177.288,177.287 ,177.282,177.284,177.282,177.281, 177.277,177.271,177.265,177.259,177.253 ,177.243,177.229,177.215,177.205, 177.185,177.178,177.178,177.797,178.319 ,179.152,179.171,179.178,179.168, 179.158,179.147,179.137,179.126,179.111 ,179.101,179.09,179.079,179.069,179.058 ,179.043,179.033,179.021,179.011,179.0, 178.984,178.972,178.964,178.953,178.942 ,178.922,178.905,178.892,178.881, 178.868,178.856,178.84,178.829,178.818, 178.807,178.795,178.783,178.77,178.757, 178.744,178.731,178.718,178.704,178.69, 178.669,178.642,178.621,178.595,178.588 ,178.569)
ORBIT_NUMBER = 6429
ORBITAL_ECCENTRICITY = 0.575
ORBITAL_INCLINATION = 86.76
ORBITAL_SEMIMAJOR_AXIS = 8672.68
PERIAPSIS_ALTITUDE = 306.25
PERIAPSIS_ARGUMENT_ANGLE = 308.05
PERIAPSIS_TIME = 2009-01-04T00:28:28.000Z
SPACECRAFT_ORIENTATION = (0.0,1.0,0.0)
^MEX_ORIENTATION_DESC = "MEX_ORIENTATION_DESC.TXT"
SPACECRAFT_POINTING_MODE = NADIR
^MEX_POINTING_DESC = "MEX_POINTING_DESC.TXT"
RIGHT_ASCENSION = -1e+32
DECLINATION = -1e+32
OFFSET_ANGLE = -1e+32
SPACECRAFT_SOLAR_DISTANCE = 2.1761e+08
TARGET_NAME = MARS
/* CAMERA DATA ELEMENTS */
DETECTOR_TEMPERATURE = 17.5549
FOCAL_PLANE_TEMPERATURE = 8.5833
INST_CMPRS_NAME = "DISCRETE COSINE TRANSFORMATION (DCT)"
INST_CMPRS_RATIO = 13.3165
INST_CMPRS_QUALITY = 0
INST_CMPRS_QUANTZ_TBL_ID = 0
INSTRUMENT_TEMPERATURE = 11.234
LENS_TEMPERATURE = 8.7872
MACROPIXEL_SIZE = 2
MISSING_FRAMES = 0
PIXEL_SUBSAMPLING_FLAG = N
SIGNAL_CHAIN_ID = 1
/* RADIOMETRIC DATA ELEMENTS */
BANDWIDTH = 180.0
CENTER_FILTER_WAVELENGTH = 677.0
RADIANCE_OFFSET = 2.91245
RADIANCE_SCALING_FACTOR = 0.0276882
REFLECTANCE_SCALING_FACTOR = 0.00068406
MEX:REFLECTANCE_OFFSET = 0.0719545
/* IMAGE OBJECT DEFINITIONS */
OBJECT = IMAGE
  INTERCHANGE_FORMAT = BINARY
  LINES = 50184
  LINE_SAMPLES = 4041
  SAMPLE_TYPE = UNSIGNED_INTEGER
  SAMPLE_BITS = 8
  BANDS = 1
  BAND_STORAGE_TYPE = BAND_SEQUENTIAL
  MAXIMUM = 255
  MEAN = 100.144
  MINIMUM = 1
  STANDARD_DEVIATION = 34.1359
END_OBJECT = IMAGE
/* MAP OBJECT DEFINITIONS */
OBJECT = IMAGE_MAP_PROJECTION
  ^DATA_SET_MAP_PROJECTION_CATALOG= "DSMAP.CAT"
  A_AXIS_RADIUS = 3396.0
  B_AXIS_RADIUS = 3396.0
  C_AXIS_RADIUS = 3396.0
  CENTER_LATITUDE = 0.0
  CENTER_LONGITUDE = 178.0
  COORDINATE_SYSTEM_NAME = PLANETOGRAPHIC
  COORDINATE_SYSTEM_TYPE = "BODY-FIXED ROTATING"
  EASTERNMOST_LONGITUDE = 179.178
  FIRST_STANDARD_PARALLEL = "N/A"
  LINE_FIRST_PIXEL = 1
  LINE_LAST_PIXEL = 50184
  LINE_PROJECTION_OFFSET = -52375.25
  MAP_PROJECTION_ROTATION = 0.0
  MAP_PROJECTION_TYPE = SINUSOIDAL
  MAP_RESOLUTION = 2370.85521546667
  MAP_SCALE = 0.025
  MAXIMUM_LATITUDE = -22.0538
  MINIMUM_LATITUDE = -43.2019
  POSITIVE_LONGITUDE_DIRECTION = EAST
  REFERENCE_LATITUDE = "N/A"
  REFERENCE_LONGITUDE = "N/A"
  SAMPLE_FIRST_PIXEL = 1
  SAMPLE_LAST_PIXEL = 4041
  SAMPLE_PROJECTION_OFFSET = 1658.75
  SECOND_STANDARD_PARALLEL = "N/A"
  WESTERNMOST_LONGITUDE = 177.024
END_OBJECT = IMAGE_MAP_PROJECTION
END
