PDS_VERSION_ID = PDS3
/* FILE DATA ELEMENTS */
RECORD_TYPE = UNDEFINED
/* POINTERS TO DATA OBJECTS */
^IMAGE = ("H6429_0000_RE4.TIF")
/* IDENTIFICATION DATA ELEMENTS */
DATA_SET_ID = "MEX-M-HRSC-4-REFDR-MAPPROJECT-EXT2-V4.0"
DATA_SET_NAME = "MARS EXPRESS HRSC MAP PROJECTED REFDR EXTENSION2 V4.0"
DETECTOR_ID = MEX_HRSC_RED
EVENT_TYPE = "MARS-REGIONAL-MAPPING-Im-Fl-Mw"
INSTRUMENT_HOST_ID = MEX
INSTRUMENT_HOST_NAME = "MARS EXPRESS"
INSTRUMENT_ID = HRSC
INSTRUMENT_NAME = "HIGH RESOLUTION STEREO CAMERA"
MISSION_NAME = "MARS EXPRESS"
MISSION_PHASE_NAME = ME_Phase_15
PROCESSING_LEVEL_ID = 4
PRODUCT_CREATION_TIME = 2023-02-05T03:41:04.000Z
PRODUCT_ID = "H6429_0000_RE4.TIF"
RELEASE_ID = 0006
REVISION_ID = 0000
/* QUALITY DATA ELEMENTS */
DATA_QUALITY_ID = 1
DATA_QUALITY_DESC = "Data calculated based on original SPICE kernels"
/* TIME DATA ELEMENTS */
SPACECRAFT_CLOCK_START_COUNT = "1/0179109008.08238"
SPACECRAFT_CLOCK_STOP_COUNT = "1/0179109424.08687"
START_TIME = 2009-01-04T00:30:15.320Z
STOP_TIME = 2009-01-04T00:35:35.696Z
/* ORBITAL DATA ELEMENTS */
ASCENDING_NODE_LONGITUDE = 95.27
MAXIMUM_RESOLUTION = 0.1043
FOOTPRINT_POINT_LATITUDE = (-43.305,-43.2859,-43.269,-43.2685, -43.227,-42.8744,-42.5178,-42.1521, -41.6006,-41.0511,-40.6848,-40.1353, -39.7691,-39.2064,-38.828,-38.4541, -38.0715,-37.6905,-37.3116,-36.9204, -36.5295,-35.9439,-35.5552,-35.1662, -34.7773,-34.1932,-33.8038,-33.4134, -32.8317,-32.4425,-31.7966,-31.3337, -30.6396,-30.1775,-29.7075,-29.0243, -28.5645,-28.109,-27.6457,-27.1876, -26.7144,-26.0103,-25.5284,-24.799, -24.3094,-23.8105,-23.309,-22.5382, -22.2868,-22.0969,-22.1028,-22.1004, -22.1002,-22.1026,-22.8753,-23.6346, -24.1375,-24.6299,-25.1211,-25.6014, -26.0832,-26.5535,-27.2578,-27.7205, -28.4075,-28.8683,-29.3315,-29.7935, -30.4863,-30.9495,-31.6432,-32.3146, -32.7064,-33.0987,-33.4912,-33.8801, -34.2711,-34.6606,-35.0507,-35.4415, -36.0217,-36.6077,-36.9981,-37.3875, -37.7671,-38.1475,-38.5279,-38.9077, -39.2875,-39.6658,-40.0331,-40.4004, -40.7681,-41.319,-41.6882,-42.2319, -42.5981,-42.959,-43.1357,-43.305)
FOOTPRINT_POINT_LONGITUDE = (178.529,177.657,177.099,177.085, 177.062,177.08,177.096,177.113,177.137, 177.159,177.174,177.194,177.207,177.226 ,177.238,177.252,177.261,177.271,177.28 ,177.29,177.299,177.311,177.32,177.328, 177.335,177.344,177.35,177.355,177.362, 177.366,177.371,177.374,177.377,177.379 ,177.377,177.381,177.381,177.382, 177.379,177.377,177.373,177.369,177.365 ,177.357,177.352,177.346,177.34,177.326 ,177.324,177.322,178.173,179.009, 179.025,179.036,179.026,179.016,179.009 ,179.002,178.995,178.988,178.98,178.973 ,178.962,178.953,178.943,178.934, 178.925,178.917,178.904,178.895,178.882 ,178.868,178.859,178.849,178.839, 178.831,178.822,178.813,178.804,178.794 ,178.782,178.767,178.757,178.746, 178.735,178.724,178.712,178.701,178.689 ,178.677,178.665,178.653,178.641, 178.622,178.608,178.591,178.578,178.561 ,178.555,178.529)
ORBIT_NUMBER = 6429
ORBITAL_ECCENTRICITY = 0.575
ORBITAL_INCLINATION = 86.76
ORBITAL_SEMIMAJOR_AXIS = 8672.68
PERIAPSIS_ALTITUDE = 306.25
PERIAPSIS_ARGUMENT_ANGLE = 308.05
PERIAPSIS_TIME = 2009-01-04T00:28:28.000Z
SPACECRAFT_ORIENTATION = (0.0,1.0,0.0)
^MEX_ORIENTATION_DESC = "MEX_ORIENTATION_DESC.TXT"
SPACECRAFT_POINTING_MODE = NADIR
^MEX_POINTING_DESC = "MEX_POINTING_DESC.TXT"
RIGHT_ASCENSION = -1e+32
DECLINATION = -1e+32
OFFSET_ANGLE = -1e+32
SPACECRAFT_SOLAR_DISTANCE = 2.1761e+08
TARGET_NAME = MARS
/* CAMERA DATA ELEMENTS */
DETECTOR_TEMPERATURE = 18.5744
FOCAL_PLANE_TEMPERATURE = 8.5833
INST_CMPRS_NAME = "DISCRETE COSINE TRANSFORMATION (DCT)"
INST_CMPRS_RATIO = 20.5706
INST_CMPRS_QUALITY = 0
INST_CMPRS_QUANTZ_TBL_ID = 0
INSTRUMENT_TEMPERATURE = 11.234
LENS_TEMPERATURE = 8.7872
MACROPIXEL_SIZE = 8
MISSING_FRAMES = 0
PIXEL_SUBSAMPLING_FLAG = N
SIGNAL_CHAIN_ID = 2
/* RADIOMETRIC DATA ELEMENTS */
BANDWIDTH = 48.0
CENTER_FILTER_WAVELENGTH = 748.0
RADIANCE_OFFSET = 0.66043
RADIANCE_SCALING_FACTOR = 0.00776976
REFLECTANCE_SCALING_FACTOR = 0.000839639
MEX:REFLECTANCE_OFFSET = 0.0713693
/* IMAGE OBJECT DEFINITIONS */
OBJECT = IMAGE
  INTERCHANGE_FORMAT = BINARY
  LINES = 12546
  LINE_SAMPLES = 1011
  SAMPLE_TYPE = UNSIGNED_INTEGER
  SAMPLE_BITS = 8
  BANDS = 1
  BAND_STORAGE_TYPE = BAND_SEQUENTIAL
  MAXIMUM = 255
  MEAN = 91.4868
  MINIMUM = 1
  STANDARD_DEVIATION = 33.5032
END_OBJECT = IMAGE
/* MAP OBJECT DEFINITIONS */
OBJECT = IMAGE_MAP_PROJECTION
  ^DATA_SET_MAP_PROJECTION_CATALOG= "DSMAP.CAT"
  A_AXIS_RADIUS = 3396.0
  B_AXIS_RADIUS = 3396.0
  C_AXIS_RADIUS = 3396.0
  CENTER_LATITUDE = 0.0
  CENTER_LONGITUDE = 178.0
  COORDINATE_SYSTEM_NAME = PLANETOGRAPHIC
  COORDINATE_SYSTEM_TYPE = "BODY-FIXED ROTATING"
  EASTERNMOST_LONGITUDE = 179.036
  FIRST_STANDARD_PARALLEL = "N/A"
  LINE_FIRST_PIXEL = 1
  LINE_LAST_PIXEL = 12546
  LINE_PROJECTION_OFFSET = -13094.1875
  MAP_PROJECTION_ROTATION = 0.0
  MAP_PROJECTION_TYPE = SINUSOIDAL
  MAP_RESOLUTION = 592.713803866667
  MAP_SCALE = 0.1
  MAXIMUM_LATITUDE = -22.0969
  MINIMUM_LATITUDE = -43.305
  POSITIVE_LONGITUDE_DIRECTION = EAST
  REFERENCE_LATITUDE = "N/A"
  REFERENCE_LONGITUDE = "N/A"
  SAMPLE_FIRST_PIXEL = 1
  SAMPLE_LAST_PIXEL = 1011
  SAMPLE_PROJECTION_OFFSET = 414.3125
  SECOND_STANDARD_PARALLEL = "N/A"
  WESTERNMOST_LONGITUDE = 177.062
END_OBJECT = IMAGE_MAP_PROJECTION
END
