PDS_VERSION_ID = PDS3
/* FILE DATA ELEMENTS */
RECORD_TYPE = UNDEFINED
/* POINTERS TO DATA OBJECTS */
^IMAGE = ("H6425_0000_GR4.TIF")
/* IDENTIFICATION DATA ELEMENTS */
DATA_SET_ID = "MEX-M-HRSC-4-REFDR-MAPPROJECT-EXT2-V4.0"
DATA_SET_NAME = "MARS EXPRESS HRSC MAP PROJECTED REFDR EXTENSION2 V4.0"
DETECTOR_ID = MEX_HRSC_GREEN
EVENT_TYPE = "MARS-REGIONAL-MAPPING-Vo-Te-Im"
INSTRUMENT_HOST_ID = MEX
INSTRUMENT_HOST_NAME = "MARS EXPRESS"
INSTRUMENT_ID = HRSC
INSTRUMENT_NAME = "HIGH RESOLUTION STEREO CAMERA"
MISSION_NAME = "MARS EXPRESS"
MISSION_PHASE_NAME = ME_Phase_15
PROCESSING_LEVEL_ID = 4
PRODUCT_CREATION_TIME = 2023-02-05T03:41:04.000Z
PRODUCT_ID = "H6425_0000_GR4.TIF"
RELEASE_ID = 0006
REVISION_ID = 0000
/* QUALITY DATA ELEMENTS */
DATA_QUALITY_ID = 1
DATA_QUALITY_DESC = "Data calculated based on original SPICE kernels"
/* TIME DATA ELEMENTS */
SPACECRAFT_CLOCK_START_COUNT = "1/0179010469.07302"
SPACECRAFT_CLOCK_STOP_COUNT = "1/0179010816.11712"
START_TIME = 2009-01-02T21:08:26.553Z
STOP_TIME = 2009-01-02T21:12:52.540Z
/* ORBITAL DATA ELEMENTS */
ASCENDING_NODE_LONGITUDE = 95.35
MAXIMUM_RESOLUTION = 0.1086
FOOTPRINT_POINT_LATITUDE = (-37.5917,-37.5852,-37.5788,-37.5682, -37.5679,-37.5714,-37.2884,-37.0056, -36.4408,-35.8773,-35.315,-34.7539, -34.1941,-33.6355,-33.1511,-32.8192, -32.4879,-32.1569,-31.8267,-31.4968, -31.1675,-30.8388,-30.5106,-30.1829, -29.8558,-29.5293,-29.2033,-28.8779, -28.548,-28.2151,-27.8827,-27.5457, -27.2056,-26.8665,-26.3492,-26.0042, -25.6538,-25.3008,-24.9485,-24.5883, -24.229,-23.8649,-23.4983,-22.9423, -22.5714,-22.1937,-21.8152,-21.4303, -21.2378,-21.0849,-21.0853,-21.0846, -21.0826,-21.0807,-21.0806,-21.0828, -21.4685,-21.8533,-22.2327,-22.6105, -22.9835,-23.3562,-23.7225,-24.27, -24.6302,-24.9894,-25.3425,-25.697, -26.2192,-26.5661,-26.9104,-27.2501, -27.5904,-28.094,-28.4272,-28.7609, -29.0866,-29.4129,-29.7395,-30.0667, -30.3943,-30.7228,-31.0523,-31.3824, -31.7119,-32.0428,-32.3741,-32.7057, -33.0375,-33.3704,-33.684,-34.2435, -34.9445,-35.5064,-35.9283,-36.494, -37.0597,-37.3429,-37.4847,-37.5917)
FOOTPRINT_POINT_LONGITUDE = (219.813,219.3,218.903,218.373,218.359, 218.348,218.353,218.357,218.366,218.374 ,218.381,218.387,218.391,218.395, 218.398,218.399,218.4,218.401,218.402, 218.402,218.402,218.402,218.401,218.4, 218.399,218.397,218.396,218.394,218.392 ,218.389,218.386,218.384,218.381, 218.377,218.37,218.365,218.361,218.356, 218.35,218.345,218.339,218.332,218.326, 218.316,218.307,218.299,218.291,218.282 ,218.278,218.274,218.646,219.244,219.76 ,220.071,220.089,220.1,220.095,220.09, 220.085,220.081,220.076,220.071,220.066 ,220.059,220.055,220.048,220.043, 220.041,220.031,220.026,220.02,220.015, 220.01,220.006,220.001,219.996,219.991, 219.985,219.98,219.974,219.967,219.962, 219.958,219.954,219.946,219.941,219.936 ,219.93,219.922,219.917,219.913,219.902 ,219.889,219.876,219.865,219.858, 219.846,219.839,219.836,219.813)
ORBIT_NUMBER = 6425
ORBITAL_ECCENTRICITY = 0.575
ORBITAL_INCLINATION = 86.77
ORBITAL_SEMIMAJOR_AXIS = 8673.67
PERIAPSIS_ALTITUDE = 305.44
PERIAPSIS_ARGUMENT_ANGLE = 308.72
PERIAPSIS_TIME = 2009-01-02T21:04:55.000Z
SPACECRAFT_ORIENTATION = (0.0,1.0,0.0)
^MEX_ORIENTATION_DESC = "MEX_ORIENTATION_DESC.TXT"
SPACECRAFT_POINTING_MODE = ACROSSTRACK
^MEX_POINTING_DESC = "MEX_POINTING_DESC.TXT"
RIGHT_ASCENSION = -1e+32
DECLINATION = -1e+32
OFFSET_ANGLE = -0.35
SPACECRAFT_SOLAR_DISTANCE = 2.17815e+08
TARGET_NAME = MARS
/* CAMERA DATA ELEMENTS */
DETECTOR_TEMPERATURE = 17.9627
FOCAL_PLANE_TEMPERATURE = 7.7677
INST_CMPRS_NAME = "DISCRETE COSINE TRANSFORMATION (DCT)"
INST_CMPRS_RATIO = 14.0161
INST_CMPRS_QUALITY = 0
INST_CMPRS_QUANTZ_TBL_ID = 0
INSTRUMENT_TEMPERATURE = 10.8262
LENS_TEMPERATURE = 8.1755
MACROPIXEL_SIZE = 8
MISSING_FRAMES = 0
PIXEL_SUBSAMPLING_FLAG = N
SIGNAL_CHAIN_ID = 2
/* RADIOMETRIC DATA ELEMENTS */
BANDWIDTH = 88.0
CENTER_FILTER_WAVELENGTH = 538.0
RADIANCE_OFFSET = 1.01722
RADIANCE_SCALING_FACTOR = 0.00782173
REFLECTANCE_SCALING_FACTOR = 0.000319496
MEX:REFLECTANCE_OFFSET = 0.0415504
/* IMAGE OBJECT DEFINITIONS */
OBJECT = IMAGE
  INTERCHANGE_FORMAT = BINARY
  LINES = 9789
  LINE_SAMPLES = 1009
  SAMPLE_TYPE = UNSIGNED_INTEGER
  SAMPLE_BITS = 8
  BANDS = 1
  BAND_STORAGE_TYPE = BAND_SEQUENTIAL
  MAXIMUM = 255
  MEAN = 129.685
  MINIMUM = 1
  STANDARD_DEVIATION = 43.0191
END_OBJECT = IMAGE
/* MAP OBJECT DEFINITIONS */
OBJECT = IMAGE_MAP_PROJECTION
  ^DATA_SET_MAP_PROJECTION_CATALOG= "DSMAP.CAT"
  A_AXIS_RADIUS = 3396.0
  B_AXIS_RADIUS = 3396.0
  C_AXIS_RADIUS = 3396.0
  CENTER_LATITUDE = 0.0
  CENTER_LONGITUDE = 219.0
  COORDINATE_SYSTEM_NAME = PLANETOGRAPHIC
  COORDINATE_SYSTEM_TYPE = "BODY-FIXED ROTATING"
  EASTERNMOST_LONGITUDE = 220.1
  FIRST_STANDARD_PARALLEL = "N/A"
  LINE_FIRST_PIXEL = 1
  LINE_LAST_PIXEL = 9789
  LINE_PROJECTION_OFFSET = -12506.8125
  MAP_PROJECTION_ROTATION = 0.0
  MAP_PROJECTION_TYPE = SINUSOIDAL
  MAP_RESOLUTION = 592.713803866667
  MAP_SCALE = 0.1
  MAXIMUM_LATITUDE = -21.0806
  MINIMUM_LATITUDE = -37.5917
  POSITIVE_LONGITUDE_DIRECTION = EAST
  REFERENCE_LATITUDE = "N/A"
  REFERENCE_LONGITUDE = "N/A"
  SAMPLE_FIRST_PIXEL = 1
  SAMPLE_LAST_PIXEL = 1009
  SAMPLE_PROJECTION_OFFSET = 406.6875
  SECOND_STANDARD_PARALLEL = "N/A"
  WESTERNMOST_LONGITUDE = 218.274
END_OBJECT = IMAGE_MAP_PROJECTION
END
