PDS_VERSION_ID = PDS3
/* FILE DATA ELEMENTS */
RECORD_TYPE = UNDEFINED
/* POINTERS TO DATA OBJECTS */
^IMAGE = ("H6414_0000_ND4.TIF")
/* IDENTIFICATION DATA ELEMENTS */
DATA_SET_ID = "MEX-M-HRSC-4-REFDR-MAPPROJECT-EXT2-V4.0"
DATA_SET_NAME = "MARS EXPRESS HRSC MAP PROJECTED REFDR EXTENSION2 V4.0"
DETECTOR_ID = MEX_HRSC_NADIR
EVENT_TYPE = "MARS-REGIONAL-MAPPING-Vo-Te-Im"
INSTRUMENT_HOST_ID = MEX
INSTRUMENT_HOST_NAME = "MARS EXPRESS"
INSTRUMENT_ID = HRSC
INSTRUMENT_NAME = "HIGH RESOLUTION STEREO CAMERA"
MISSION_NAME = "MARS EXPRESS"
MISSION_PHASE_NAME = ME_Phase_15
PROCESSING_LEVEL_ID = 4
PRODUCT_CREATION_TIME = 2023-02-05T03:41:04.000Z
PRODUCT_ID = "H6414_0000_ND4.TIF"
RELEASE_ID = 0006
REVISION_ID = 0000
/* QUALITY DATA ELEMENTS */
DATA_QUALITY_ID = 1
DATA_QUALITY_DESC = "Data calculated based on original SPICE kernels"
/* TIME DATA ELEMENTS */
SPACECRAFT_CLOCK_START_COUNT = "1/0178739101.07282"
SPACECRAFT_CLOCK_STOP_COUNT = "1/0178739451.54282"
START_TIME = 2008-12-30T17:45:31.809Z
STOP_TIME = 2008-12-30T17:50:16.808Z
/* ORBITAL DATA ELEMENTS */
ASCENDING_NODE_LONGITUDE = 95.57
MAXIMUM_RESOLUTION = 0.0121
FOOTPRINT_POINT_LATITUDE = (-48.8422,-48.7919,-48.7913,-48.7889, -47.9268,-47.2371,-46.7066,-46.349, -45.9915,-45.6341,-45.2767,-44.9194, -44.5622,-44.2051,-43.8482,-43.4913, -42.7779,-42.0652,-41.3532,-40.991, -40.6227,-40.2547,-39.887,-39.5196, -39.1524,-38.7855,-38.4189,-38.0438, -37.6653,-37.2871,-36.9092,-36.5316, -36.1545,-35.573,-35.1843,-34.7962, -34.4085,-34.0213,-33.6346,-33.2483, -32.8626,-32.4774,-32.0928,-31.7087, -31.3252,-30.9006,-30.4444,-30.2126, -30.2,-30.2098,-30.216,-30.2161, -30.2163,-30.9055,-31.3328,-31.7169, -32.1016,-32.4869,-32.8727,-33.259, -33.6459,-34.0332,-34.4211,-34.8094, -35.1982,-35.5874,-36.1704,-36.5481, -36.9262,-37.3047,-37.6837,-38.063, -38.439,-38.8062,-39.1737,-39.5415, -39.9096,-40.278,-40.6467,-41.0155, -41.379,-42.0923,-42.4493,-42.8065, -43.1638,-43.5213,-43.8789,-44.2367, -44.5946,-44.9526,-45.3107,-45.669, -46.0273,-46.3857,-46.7441,-47.2763, -47.9678,-48.6595,-48.8324,-48.8422)
FOOTPRINT_POINT_LONGITUDE = (240.205,238.667,238.651,238.61,238.687 ,238.745,238.787,238.814,238.841, 238.867,238.892,238.917,238.94,238.963, 238.987,239.008,239.046,239.084,239.12, 239.14,239.153,239.169,239.185,239.2, 239.214,239.228,239.241,239.252,239.266 ,239.278,239.289,239.297,239.307, 239.325,239.335,239.343,239.351,239.359 ,239.366,239.372,239.378,239.383, 239.388,239.393,239.397,239.4,239.405, 239.406,239.406,240.119,240.885,240.9, 240.907,240.891,240.881,240.872,240.863 ,240.854,240.844,240.834,240.824, 240.814,240.804,240.793,240.782,240.771 ,240.755,240.743,240.733,240.721, 240.708,240.695,240.682,240.671,240.659 ,240.646,240.634,240.62,240.607,240.593 ,240.578,240.55,240.535,240.521,240.506 ,240.49,240.474,240.457,240.441,240.425 ,240.409,240.391,240.374,240.356, 240.337,240.309,240.27,240.23,240.22, 240.205)
ORBIT_NUMBER = 6414
ORBITAL_ECCENTRICITY = 0.575
ORBITAL_INCLINATION = 86.76
ORBITAL_SEMIMAJOR_AXIS = 8678.82
PERIAPSIS_ALTITUDE = 305.38
PERIAPSIS_ARGUMENT_ANGLE = 310.61
PERIAPSIS_TIME = 2008-12-30T17:45:25.000Z
SPACECRAFT_ORIENTATION = (0.0,1.0,0.0)
^MEX_ORIENTATION_DESC = "MEX_ORIENTATION_DESC.TXT"
SPACECRAFT_POINTING_MODE = ACROSSTRACK
^MEX_POINTING_DESC = "MEX_POINTING_DESC.TXT"
RIGHT_ASCENSION = -1e+32
DECLINATION = -1e+32
OFFSET_ANGLE = 0.2
SPACECRAFT_SOLAR_DISTANCE = 2.18381e+08
TARGET_NAME = MARS
/* CAMERA DATA ELEMENTS */
DETECTOR_TEMPERATURE = 18.1666
FOCAL_PLANE_TEMPERATURE = 8.1755
INST_CMPRS_NAME = "DISCRETE COSINE TRANSFORMATION (DCT)"
INST_CMPRS_RATIO = 7.69098
INST_CMPRS_QUALITY = 0
INST_CMPRS_QUANTZ_TBL_ID = 0
INSTRUMENT_TEMPERATURE = 10.8262
LENS_TEMPERATURE = 8.5833
MACROPIXEL_SIZE = 1
PIXEL_SUBSAMPLING_FLAG = N
SIGNAL_CHAIN_ID = 0
/* RADIOMETRIC DATA ELEMENTS */
BANDWIDTH = 177.0
CENTER_FILTER_WAVELENGTH = 677.5
RADIANCE_OFFSET = 2.07911
RADIANCE_SCALING_FACTOR = 0.0237016
REFLECTANCE_SCALING_FACTOR = 0.000600475
MEX:REFLECTANCE_OFFSET = 0.0526737
/* IMAGE OBJECT DEFINITIONS */
OBJECT = IMAGE
  INTERCHANGE_FORMAT = BINARY
  LINES = 88395
  LINE_SAMPLES = 8060
  SAMPLE_TYPE = UNSIGNED_INTEGER
  SAMPLE_BITS = 8
  BANDS = 1
  BAND_STORAGE_TYPE = BAND_SEQUENTIAL
  MAXIMUM = 255
  MEAN = 83.671
  MINIMUM = 1
  STANDARD_DEVIATION = 31.862
END_OBJECT = IMAGE
/* MAP OBJECT DEFINITIONS */
OBJECT = IMAGE_MAP_PROJECTION
  ^DATA_SET_MAP_PROJECTION_CATALOG= "DSMAP.CAT"
  A_AXIS_RADIUS = 3396.0
  B_AXIS_RADIUS = 3396.0
  C_AXIS_RADIUS = 3396.0
  CENTER_LATITUDE = 0.0
  CENTER_LONGITUDE = 240.0
  COORDINATE_SYSTEM_NAME = PLANETOGRAPHIC
  COORDINATE_SYSTEM_TYPE = "BODY-FIXED ROTATING"
  EASTERNMOST_LONGITUDE = 240.907
  FIRST_STANDARD_PARALLEL = "N/A"
  LINE_FIRST_PIXEL = 1
  LINE_LAST_PIXEL = 88395
  LINE_PROJECTION_OFFSET = -143200.0
  MAP_PROJECTION_ROTATION = 0.0
  MAP_PROJECTION_TYPE = SINUSOIDAL
  MAP_RESOLUTION = 4741.71043093333
  MAP_SCALE = 0.0125
  MAXIMUM_LATITUDE = -30.2
  MINIMUM_LATITUDE = -48.8422
  POSITIVE_LONGITUDE_DIRECTION = EAST
  REFERENCE_LATITUDE = "N/A"
  REFERENCE_LONGITUDE = "N/A"
  SAMPLE_FIRST_PIXEL = 1
  SAMPLE_LAST_PIXEL = 8060
  SAMPLE_PROJECTION_OFFSET = 4337.0
  SECOND_STANDARD_PARALLEL = "N/A"
  WESTERNMOST_LONGITUDE = 238.61
END_OBJECT = IMAGE_MAP_PROJECTION
END
