PDS_VERSION_ID = PDS3
/* FILE DATA ELEMENTS */
RECORD_TYPE = UNDEFINED
/* POINTERS TO DATA OBJECTS */
^IMAGE = ("H6398_0000_P24.TIF")
/* IDENTIFICATION DATA ELEMENTS */
DATA_SET_ID = "MEX-M-HRSC-4-REFDR-MAPPROJECT-EXT2-V4.0"
DATA_SET_NAME = "MARS EXPRESS HRSC MAP PROJECTED REFDR EXTENSION2 V4.0"
DETECTOR_ID = MEX_HRSC_P2
EVENT_TYPE = "MARS-REGIONAL-MAPPING-Te-Im-Fl"
INSTRUMENT_HOST_ID = MEX
INSTRUMENT_HOST_NAME = "MARS EXPRESS"
INSTRUMENT_ID = HRSC
INSTRUMENT_NAME = "HIGH RESOLUTION STEREO CAMERA"
MISSION_NAME = "MARS EXPRESS"
MISSION_PHASE_NAME = ME_Phase_15
PROCESSING_LEVEL_ID = 4
PRODUCT_CREATION_TIME = 2023-02-05T01:11:29.000Z
PRODUCT_ID = "H6398_0000_P24.TIF"
RELEASE_ID = 0005
REVISION_ID = 0000
/* QUALITY DATA ELEMENTS */
DATA_QUALITY_ID = 1
DATA_QUALITY_DESC = "Data calculated based on original SPICE kernels"
/* TIME DATA ELEMENTS */
SPACECRAFT_CLOCK_START_COUNT = "1/0178344948.08265"
SPACECRAFT_CLOCK_STOP_COUNT = "1/0178345398.40988"
START_TIME = 2008-12-26T04:16:02.810Z
STOP_TIME = 2008-12-26T04:21:23.452Z
/* ORBITAL DATA ELEMENTS */
ASCENDING_NODE_LONGITUDE = 95.89
MAXIMUM_RESOLUTION = 0.0298
FOOTPRINT_POINT_LATITUDE = (-27.7191,-27.709,-27.6967,-27.679, -27.6785,-27.6697,-27.1513,-26.7912, -26.077,-25.539,-25.1772,-24.639, -23.7476,-23.39,-22.6767,-22.3163, -21.9521,-21.5893,-21.2198,-20.847, -20.4749,-19.9036,-19.3274,-18.9395, -18.5492,-18.1516,-17.7553,-17.15, -16.7455,-16.332,-15.919,-15.4974, -14.8627,-14.4352,-14.0007,-13.5584, -13.1201,-12.6715,-11.9867,-11.5243, -11.066,-10.5948,-10.1201,-9.6386, -9.1522,-8.65967,-8.16205,-7.65716, -7.40247,-7.35112,-7.35374,-7.35591, -7.3554,-7.35312,-7.35247,-7.35317, -8.11633,-8.61751,-9.11172,-9.59862, -10.0816,-10.5567,-11.0279,-11.4955, -11.9567,-12.4131,-12.8661,-13.3088, -13.9681,-14.4069,-14.8391,-15.2653, -15.6874,-16.3124,-16.727,-17.1339, -17.5395,-17.9391,-18.5363,-19.1211, -19.5112,-19.8932,-20.2756,-20.6543, -21.0262,-21.5833,-21.9467,-22.3115, -23.0297,-23.565,-24.1061,-24.8206, -25.1795,-25.7189,-26.2566,-26.6156, -26.9772,-27.5182,-27.6774,-27.7191)
FOOTPRINT_POINT_LONGITUDE = (42.9794,42.5416,42.0993,41.5675, 41.5533,41.5418,41.5411,41.5429,41.5495 ,41.551,41.5486,41.5476,41.5475,41.5456 ,41.5413,41.5392,41.537,41.5354,41.532, 41.5285,41.5249,41.5175,41.5081,41.5038 ,41.4969,41.49,41.4839,41.4731,41.4657, 41.4574,41.4487,41.4395,41.4259,41.4165 ,41.4059,41.3903,41.3829,41.3694, 41.3463,41.3304,41.3209,41.3046,41.2886 ,41.2722,41.2549,41.2363,41.2172, 41.1973,41.1872,41.1853,41.572,42.1787, 42.6409,43.2404,43.2605,43.2677,43.2591 ,43.2532,43.2477,43.2427,43.2375, 43.2323,43.2272,43.2219,43.2165,43.2112 ,43.206,43.2014,43.1939,43.1882,43.1825 ,43.1775,43.1722,43.1645,43.1592, 43.1538,43.1486,43.1433,43.1352,43.127, 43.1213,43.1157,43.1101,43.1042,43.0988 ,43.0904,43.0849,43.0792,43.0676, 43.0587,43.0487,43.0364,43.0299,43.0198 ,43.0099,43.0031,42.9958,42.9849, 42.9817,42.9794)
ORBIT_NUMBER = 6398
ORBITAL_ECCENTRICITY = 0.575
ORBITAL_INCLINATION = 86.76
ORBITAL_SEMIMAJOR_AXIS = 8685.09
PERIAPSIS_ALTITUDE = 306.52
PERIAPSIS_ARGUMENT_ANGLE = 313.41
PERIAPSIS_TIME = 2008-12-26T04:11:37.000Z
SPACECRAFT_ORIENTATION = (0.0,1.0,0.0)
^MEX_ORIENTATION_DESC = "MEX_ORIENTATION_DESC.TXT"
SPACECRAFT_POINTING_MODE = ACROSSTRACK
^MEX_POINTING_DESC = "MEX_POINTING_DESC.TXT"
RIGHT_ASCENSION = -1e+32
DECLINATION = -1e+32
OFFSET_ANGLE = 0.45
SPACECRAFT_SOLAR_DISTANCE = 2.19218e+08
TARGET_NAME = MARS
/* CAMERA DATA ELEMENTS */
DETECTOR_TEMPERATURE = 18.3705
FOCAL_PLANE_TEMPERATURE = 8.1755
INST_CMPRS_NAME = "DISCRETE COSINE TRANSFORMATION (DCT)"
INST_CMPRS_RATIO = 8.12461
INST_CMPRS_QUALITY = 0
INST_CMPRS_QUANTZ_TBL_ID = 0
INSTRUMENT_TEMPERATURE = 11.234
LENS_TEMPERATURE = 8.5833
MACROPIXEL_SIZE = 2
MISSING_FRAMES = 0
PIXEL_SUBSAMPLING_FLAG = N
SIGNAL_CHAIN_ID = 3
/* RADIOMETRIC DATA ELEMENTS */
BANDWIDTH = 177.0
CENTER_FILTER_WAVELENGTH = 676.5
RADIANCE_OFFSET = 3.18802
RADIANCE_SCALING_FACTOR = 0.0255639
REFLECTANCE_SCALING_FACTOR = 0.000651384
MEX:REFLECTANCE_OFFSET = 0.0812328
/* IMAGE OBJECT DEFINITIONS */
OBJECT = IMAGE
  INTERCHANGE_FORMAT = BINARY
  LINES = 48288
  LINE_SAMPLES = 5197
  SAMPLE_TYPE = UNSIGNED_INTEGER
  SAMPLE_BITS = 8
  BANDS = 1
  BAND_STORAGE_TYPE = BAND_SEQUENTIAL
  MAXIMUM = 255
  MEAN = 99.6119
  MINIMUM = 1
  STANDARD_DEVIATION = 46.4633
END_OBJECT = IMAGE
/* MAP OBJECT DEFINITIONS */
OBJECT = IMAGE_MAP_PROJECTION
  ^DATA_SET_MAP_PROJECTION_CATALOG= "DSMAP.CAT"
  A_AXIS_RADIUS = 3396.0
  B_AXIS_RADIUS = 3396.0
  C_AXIS_RADIUS = 3396.0
  CENTER_LATITUDE = 0.0
  CENTER_LONGITUDE = 42.0
  COORDINATE_SYSTEM_NAME = PLANETOGRAPHIC
  COORDINATE_SYSTEM_TYPE = "BODY-FIXED ROTATING"
  EASTERNMOST_LONGITUDE = 43.2677
  FIRST_STANDARD_PARALLEL = "N/A"
  LINE_FIRST_PIXEL = 1
  LINE_LAST_PIXEL = 48288
  LINE_PROJECTION_OFFSET = -17346.75
  MAP_PROJECTION_ROTATION = 0.0
  MAP_PROJECTION_TYPE = SINUSOIDAL
  MAP_RESOLUTION = 2370.85521546667
  MAP_SCALE = 0.025
  MAXIMUM_LATITUDE = -7.35112
  MINIMUM_LATITUDE = -27.7191
  POSITIVE_LONGITUDE_DIRECTION = EAST
  REFERENCE_LATITUDE = "N/A"
  REFERENCE_LONGITUDE = "N/A"
  SAMPLE_FIRST_PIXEL = 1
  SAMPLE_LAST_PIXEL = 5197
  SAMPLE_PROJECTION_OFFSET = 2063.25
  SECOND_STANDARD_PARALLEL = "N/A"
  WESTERNMOST_LONGITUDE = 41.1853
END_OBJECT = IMAGE_MAP_PROJECTION
END
