PDS_VERSION_ID = PDS3
/* FILE DATA ELEMENTS */
RECORD_TYPE = UNDEFINED
/* POINTERS TO DATA OBJECTS */
^IMAGE = ("H6397_0000_S14.TIF")
/* IDENTIFICATION DATA ELEMENTS */
DATA_SET_ID = "MEX-M-HRSC-4-REFDR-MAPPROJECT-EXT2-V4.0"
DATA_SET_NAME = "MARS EXPRESS HRSC MAP PROJECTED REFDR EXTENSION2 V4.0"
DETECTOR_ID = MEX_HRSC_S1
EVENT_TYPE = "MARS-REGIONAL-MAPPING-Im-Fl"
INSTRUMENT_HOST_ID = MEX
INSTRUMENT_HOST_NAME = "MARS EXPRESS"
INSTRUMENT_ID = HRSC
INSTRUMENT_NAME = "HIGH RESOLUTION STEREO CAMERA"
MISSION_NAME = "MARS EXPRESS"
MISSION_PHASE_NAME = ME_Phase_15
PROCESSING_LEVEL_ID = 4
PRODUCT_CREATION_TIME = 2023-02-05T01:11:29.000Z
PRODUCT_ID = "H6397_0000_S14.TIF"
RELEASE_ID = 0005
REVISION_ID = 0000
/* QUALITY DATA ELEMENTS */
DATA_QUALITY_ID = 1
DATA_QUALITY_DESC = "Data calculated based on original SPICE kernels"
/* TIME DATA ELEMENTS */
SPACECRAFT_CLOCK_START_COUNT = "1/0178320169.07285"
SPACECRAFT_CLOCK_STOP_COUNT = "1/0178320503.46404"
START_TIME = 2008-12-25T21:23:51.199Z
STOP_TIME = 2008-12-25T21:28:25.193Z
/* ORBITAL DATA ELEMENTS */
ASCENDING_NODE_LONGITUDE = 95.91
MAXIMUM_RESOLUTION = 0.0283
FOOTPRINT_POINT_LATITUDE = (-36.0005,-36.0004,-35.9992,-35.9968, -35.9967,-36.0318,-35.5976,-35.3043, -35.0117,-34.7186,-34.1409,-33.8452, -33.5549,-33.1197,-32.6894,-32.4002, -32.1125,-31.8252,-31.2533,-30.9667, -30.4725,-29.9646,-29.6235,-29.2865, -28.95,-28.6148,-28.1124,-27.6115, -27.2776,-26.9455,-26.6146,-26.1171, -25.7827,-25.455,-25.1159,-24.7733, -24.4296,-24.0763,-23.5531,-23.2002, -22.6698,-22.3097,-21.9508,-21.5878, -21.2239,-20.6703,-20.3004,-19.9234, -19.7351,-19.6894,-19.6807,-19.6721, -19.6658,-19.6595,-19.6592,-19.659, -20.0377,-20.4158,-20.7873,-21.1568, -21.5216,-22.0667,-22.4262,-22.7878, -23.1428,-23.4973,-24.0181,-24.3673, -24.7076,-25.049,-25.3957,-25.7321, -26.0651,-26.3992,-26.8957,-27.228, -27.5619,-28.0635,-28.3991,-28.7349, -29.2388,-29.5765,-29.9183,-30.4269, -30.93,-31.6457,-31.9328,-32.2201, -32.508,-32.9404,-33.3741,-33.6639, -34.0997,-34.3904,-34.6811,-34.9742, -35.4137,-35.8633,-36.0065,-36.0005)
FOOTPRINT_POINT_LONGITUDE = (143.188,142.75,142.308,141.78,141.766, 141.741,141.755,141.762,141.769,141.777 ,141.786,141.795,141.801,141.809, 141.814,141.819,141.824,141.828,141.834 ,141.838,141.842,141.846,141.848,141.85 ,141.852,141.853,141.855,141.857, 141.858,141.858,141.858,141.857,141.854 ,141.849,141.847,141.844,141.843, 141.842,141.838,141.833,141.827,141.822 ,141.817,141.811,141.804,141.794, 141.786,141.779,141.775,141.774,142.3, 142.858,143.223,143.552,143.569,143.575 ,143.568,143.561,143.554,143.547, 143.539,143.528,143.521,143.514,143.507 ,143.5,143.489,143.482,143.475,143.467, 143.461,143.454,143.446,143.439,143.428 ,143.421,143.414,143.403,143.396, 143.388,143.377,143.369,143.36,143.348, 143.336,143.318,143.31,143.302,143.295, 143.283,143.271,143.263,143.25,143.242, 143.233,143.225,143.212,143.201,143.197 ,143.188)
ORBIT_NUMBER = 6397
ORBITAL_ECCENTRICITY = 0.575
ORBITAL_INCLINATION = 86.75
ORBITAL_SEMIMAJOR_AXIS = 8684.9
PERIAPSIS_ALTITUDE = 306.98
PERIAPSIS_ARGUMENT_ANGLE = 313.59
PERIAPSIS_TIME = 2008-12-25T21:20:45.000Z
SPACECRAFT_ORIENTATION = (0.0,1.0,0.0)
^MEX_ORIENTATION_DESC = "MEX_ORIENTATION_DESC.TXT"
SPACECRAFT_POINTING_MODE = ACROSSTRACK
^MEX_POINTING_DESC = "MEX_POINTING_DESC.TXT"
RIGHT_ASCENSION = -1e+32
DECLINATION = -1e+32
OFFSET_ANGLE = 0.25
SPACECRAFT_SOLAR_DISTANCE = 2.19271e+08
TARGET_NAME = MARS
/* CAMERA DATA ELEMENTS */
DETECTOR_TEMPERATURE = 17.5549
FOCAL_PLANE_TEMPERATURE = 8.1755
INST_CMPRS_NAME = "DISCRETE COSINE TRANSFORMATION (DCT)"
INST_CMPRS_RATIO = 7.81366
INST_CMPRS_QUALITY = 0
INST_CMPRS_QUANTZ_TBL_ID = 0
INSTRUMENT_TEMPERATURE = 11.234
LENS_TEMPERATURE = 8.3794
MACROPIXEL_SIZE = 2
MISSING_FRAMES = 1
PIXEL_SUBSAMPLING_FLAG = N
SIGNAL_CHAIN_ID = 1
/* RADIOMETRIC DATA ELEMENTS */
BANDWIDTH = 180.0
CENTER_FILTER_WAVELENGTH = 677.0
RADIANCE_OFFSET = 2.48178
RADIANCE_SCALING_FACTOR = 0.018744
REFLECTANCE_SCALING_FACTOR = 0.000470182
MEX:REFLECTANCE_OFFSET = 0.0622539
/* IMAGE OBJECT DEFINITIONS */
OBJECT = IMAGE
  INTERCHANGE_FORMAT = BINARY
  LINES = 38754
  LINE_SAMPLES = 3706
  SAMPLE_TYPE = UNSIGNED_INTEGER
  SAMPLE_BITS = 8
  BANDS = 1
  BAND_STORAGE_TYPE = BAND_SEQUENTIAL
  MAXIMUM = 255
  MEAN = 117.656
  MINIMUM = 1
  STANDARD_DEVIATION = 22.4515
END_OBJECT = IMAGE
/* MAP OBJECT DEFINITIONS */
OBJECT = IMAGE_MAP_PROJECTION
  ^DATA_SET_MAP_PROJECTION_CATALOG= "DSMAP.CAT"
  A_AXIS_RADIUS = 3396.0
  B_AXIS_RADIUS = 3396.0
  C_AXIS_RADIUS = 3396.0
  CENTER_LATITUDE = 0.0
  CENTER_LONGITUDE = 143.0
  COORDINATE_SYSTEM_NAME = PLANETOGRAPHIC
  COORDINATE_SYSTEM_TYPE = "BODY-FIXED ROTATING"
  EASTERNMOST_LONGITUDE = 143.575
  FIRST_STANDARD_PARALLEL = "N/A"
  LINE_FIRST_PIXEL = 1
  LINE_LAST_PIXEL = 38754
  LINE_PROJECTION_OFFSET = -46737.25
  MAP_PROJECTION_ROTATION = 0.0
  MAP_PROJECTION_TYPE = SINUSOIDAL
  MAP_RESOLUTION = 2370.85521546667
  MAP_SCALE = 0.025
  MAXIMUM_LATITUDE = -19.659
  MINIMUM_LATITUDE = -36.0318
  POSITIVE_LONGITUDE_DIRECTION = EAST
  REFERENCE_LATITUDE = "N/A"
  REFERENCE_LONGITUDE = "N/A"
  SAMPLE_FIRST_PIXEL = 1
  SAMPLE_LAST_PIXEL = 3706
  SAMPLE_PROJECTION_OFFSET = 2583.75
  SECOND_STANDARD_PARALLEL = "N/A"
  WESTERNMOST_LONGITUDE = 141.741
END_OBJECT = IMAGE_MAP_PROJECTION
END
