PDS_VERSION_ID = PDS3
/* FILE DATA ELEMENTS */
RECORD_TYPE = UNDEFINED
/* POINTERS TO DATA OBJECTS */
^IMAGE = ("H6250_0000_BL4.TIF")
/* IDENTIFICATION DATA ELEMENTS */
DATA_SET_ID = "MEX-M-HRSC-4-REFDR-MAPPROJECT-EXT2-V4.0"
DATA_SET_NAME = "MARS EXPRESS HRSC MAP PROJECTED REFDR EXTENSION2 V4.0"
DETECTOR_ID = MEX_HRSC_BLUE
EVENT_TYPE = "MARS-REGIONAL-MAPPING-Vo-Im-Fl"
INSTRUMENT_HOST_ID = MEX
INSTRUMENT_HOST_NAME = "MARS EXPRESS"
INSTRUMENT_ID = HRSC
INSTRUMENT_NAME = "HIGH RESOLUTION STEREO CAMERA"
MISSION_NAME = "MARS EXPRESS"
MISSION_PHASE_NAME = ME_Phase_15
PROCESSING_LEVEL_ID = 4
PRODUCT_CREATION_TIME = 2023-02-05T01:11:29.000Z
PRODUCT_ID = "H6250_0000_BL4.TIF"
RELEASE_ID = 0005
REVISION_ID = 0000
/* QUALITY DATA ELEMENTS */
DATA_QUALITY_ID = 1
DATA_QUALITY_DESC = "Data calculated based on original SPICE kernels"
/* TIME DATA ELEMENTS */
SPACECRAFT_CLOCK_START_COUNT = "1/0174696444.08253"
SPACECRAFT_CLOCK_STOP_COUNT = "1/0174696679.07235"
START_TIME = 2008-11-13T22:47:55.945Z
STOP_TIME = 2008-11-13T22:50:22.021Z
/* ORBITAL DATA ELEMENTS */
ASCENDING_NODE_LONGITUDE = 98.85
MAXIMUM_RESOLUTION = 0.0614
FOOTPRINT_POINT_LATITUDE = (-1.5121,-1.51519,-1.51703,-1.51841, -1.52034,-1.52155,-1.52163,-1.52095, -1.25803,-1.08285,-0.907808,-0.558124, -0.20818,0.139563,0.574885,0.922722, 1.26984,1.7094,1.88708,2.06452,2.24168, 2.41934,2.59858,2.78049,2.96173,3.23287 ,3.41409,3.59599,3.78155,3.96681, 4.15187,4.33663,4.61668,4.80577,4.99464 ,5.18336,5.3719,5.65999,5.85267,6.04511 ,6.23747,6.53051,6.72689,6.92297, 7.11871,7.31754,7.51714,7.6175,7.6198, 7.6228,7.62562,7.62934,7.6319,7.63513, 7.63493,7.63375,7.434,7.2336,7.03635, 6.84052,6.64437,6.44783,6.25294,6.06061 ,5.86805,5.67521,5.38688,5.1982,5.00935 ,4.82032,4.63119,4.44362,4.25867, 4.07353,3.8882,3.70275,3.51838,3.33718, 3.15587,2.97439,2.79285,2.52135,2.34403 ,2.16661,1.98894,1.81117,1.63328, 1.45659,1.10953,0.761903,0.413826, 0.0652419,-0.284082,-0.459264,-0.808563 ,-0.983688,-1.1587,-1.4218,-1.50963, -1.5121)
FOOTPRINT_POINT_LONGITUDE = (105.504,105.106,104.857,104.658, 104.371,104.185,104.172,104.169,104.164 ,104.16,104.156,104.149,104.14,104.133, 104.123,104.114,104.106,104.094,104.09, 104.085,104.081,104.076,104.07,104.064, 104.06,104.054,104.049,104.044,104.039, 104.034,104.028,104.024,104.015,104.01, 104.004,103.999,103.993,103.984,103.978 ,103.973,103.967,103.958,103.951, 103.945,103.939,103.934,103.928,103.924 ,103.924,104.234,104.498,104.871, 105.167,105.571,105.586,105.591,105.589 ,105.586,105.583,105.581,105.579, 105.577,105.574,105.572,105.57,105.568, 105.564,105.562,105.56,105.558,105.556, 105.554,105.552,105.55,105.548,105.546, 105.544,105.543,105.541,105.539,105.538 ,105.535,105.534,105.532,105.53,105.529 ,105.527,105.526,105.523,105.521, 105.518,105.515,105.513,105.511,105.509 ,105.508,105.507,105.505,105.505, 105.504)
ORBIT_NUMBER = 6250
ORBITAL_ECCENTRICITY = 0.575
ORBITAL_INCLINATION = 86.74
ORBITAL_SEMIMAJOR_AXIS = 8724.16
PERIAPSIS_ALTITUDE = 312.09
PERIAPSIS_ARGUMENT_ANGLE = 339.13
PERIAPSIS_TIME = 2008-11-13T22:43:05.000Z
SPACECRAFT_ORIENTATION = (0.0,1.0,0.0)
^MEX_ORIENTATION_DESC = "MEX_ORIENTATION_DESC.TXT"
SPACECRAFT_POINTING_MODE = NADIR
^MEX_POINTING_DESC = "MEX_POINTING_DESC.TXT"
RIGHT_ASCENSION = -1e+32
DECLINATION = -1e+32
OFFSET_ANGLE = -1e+32
SPACECRAFT_SOLAR_DISTANCE = 2.27356e+08
TARGET_NAME = MARS
/* CAMERA DATA ELEMENTS */
DETECTOR_TEMPERATURE = 16.3315
FOCAL_PLANE_TEMPERATURE = 7.7677
INST_CMPRS_NAME = "DISCRETE COSINE TRANSFORMATION (DCT)"
INST_CMPRS_RATIO = 4.6156
INST_CMPRS_QUALITY = 0
INST_CMPRS_QUANTZ_TBL_ID = 0
INSTRUMENT_TEMPERATURE = 11.234
LENS_TEMPERATURE = 8.1755
MACROPIXEL_SIZE = 4
MISSING_FRAMES = 0
PIXEL_SUBSAMPLING_FLAG = N
SIGNAL_CHAIN_ID = 2
/* RADIOMETRIC DATA ELEMENTS */
BANDWIDTH = 76.0
CENTER_FILTER_WAVELENGTH = 444.0
RADIANCE_OFFSET = 0.343476
RADIANCE_SCALING_FACTOR = 0.000854804
REFLECTANCE_SCALING_FACTOR = 4.53976e-05
MEX:REFLECTANCE_OFFSET = 0.0182416
/* IMAGE OBJECT DEFINITIONS */
OBJECT = IMAGE
  INTERCHANGE_FORMAT = BINARY
  LINES = 10866
  LINE_SAMPLES = 1994
  SAMPLE_TYPE = UNSIGNED_INTEGER
  SAMPLE_BITS = 8
  BANDS = 1
  BAND_STORAGE_TYPE = BAND_SEQUENTIAL
  MAXIMUM = 255
  MEAN = 119.309
  MINIMUM = 1
  STANDARD_DEVIATION = 27.2926
END_OBJECT = IMAGE
/* MAP OBJECT DEFINITIONS */
OBJECT = IMAGE_MAP_PROJECTION
  ^DATA_SET_MAP_PROJECTION_CATALOG= "DSMAP.CAT"
  A_AXIS_RADIUS = 3396.0
  B_AXIS_RADIUS = 3396.0
  C_AXIS_RADIUS = 3396.0
  CENTER_LATITUDE = 0.0
  CENTER_LONGITUDE = 105.0
  COORDINATE_SYSTEM_NAME = PLANETOGRAPHIC
  COORDINATE_SYSTEM_TYPE = "BODY-FIXED ROTATING"
  EASTERNMOST_LONGITUDE = 105.591
  FIRST_STANDARD_PARALLEL = "N/A"
  LINE_FIRST_PIXEL = 1
  LINE_LAST_PIXEL = 10866
  LINE_PROJECTION_OFFSET = 9045.125
  MAP_PROJECTION_ROTATION = 0.0
  MAP_PROJECTION_TYPE = SINUSOIDAL
  MAP_RESOLUTION = 1185.42760773333
  MAP_SCALE = 0.05
  MAXIMUM_LATITUDE = 7.63513
  MINIMUM_LATITUDE = -1.52163
  POSITIVE_LONGITUDE_DIRECTION = EAST
  REFERENCE_LATITUDE = "N/A"
  REFERENCE_LONGITUDE = "N/A"
  SAMPLE_FIRST_PIXEL = 1
  SAMPLE_LAST_PIXEL = 1994
  SAMPLE_PROJECTION_OFFSET = 1288.625
  SECOND_STANDARD_PARALLEL = "N/A"
  WESTERNMOST_LONGITUDE = 103.924
END_OBJECT = IMAGE_MAP_PROJECTION
END
