PDS_VERSION_ID = PDS3
/* FILE DATA ELEMENTS */
RECORD_TYPE = UNDEFINED
/* POINTERS TO DATA OBJECTS */
^IMAGE = ("H6245_0000_P14.TIF")
/* IDENTIFICATION DATA ELEMENTS */
DATA_SET_ID = "MEX-M-HRSC-4-REFDR-MAPPROJECT-EXT2-V4.0"
DATA_SET_NAME = "MARS EXPRESS HRSC MAP PROJECTED REFDR EXTENSION2 V4.0"
DETECTOR_ID = MEX_HRSC_P1
EVENT_TYPE = "MARS-REGIONAL-MAPPING-Vo"
INSTRUMENT_HOST_ID = MEX
INSTRUMENT_HOST_NAME = "MARS EXPRESS"
INSTRUMENT_ID = HRSC
INSTRUMENT_NAME = "HIGH RESOLUTION STEREO CAMERA"
MISSION_NAME = "MARS EXPRESS"
MISSION_PHASE_NAME = ME_Phase_15
PROCESSING_LEVEL_ID = 4
PRODUCT_CREATION_TIME = 2023-02-05T01:11:29.000Z
PRODUCT_ID = "H6245_0000_P14.TIF"
RELEASE_ID = 0005
REVISION_ID = 0000
/* QUALITY DATA ELEMENTS */
DATA_QUALITY_ID = 1
DATA_QUALITY_DESC = "Data calculated based on original SPICE kernels"
/* TIME DATA ELEMENTS */
SPACECRAFT_CLOCK_START_COUNT = "1/0174573097.07287"
SPACECRAFT_CLOCK_STOP_COUNT = "1/0174573278.58273"
START_TIME = 2008-11-12T12:32:29.467Z
STOP_TIME = 2008-11-12T12:34:27.724Z
/* ORBITAL DATA ELEMENTS */
ASCENDING_NODE_LONGITUDE = 98.95
MAXIMUM_RESOLUTION = 0.0271
FOOTPRINT_POINT_LATITUDE = (-9.8968,-9.89823,-9.89943,-9.90022, -9.90104,-9.90172,-9.90177,-9.87063, -9.59048,-9.4472,-9.2323,-9.08922, -8.8747,-8.73166,-8.58877,-8.44604, -8.30336,-8.16072,-8.01834,-7.87587, -7.73328,-7.59101,-7.44863,-7.30677, -7.16516,-7.0235,-6.88206,-6.66993, -6.3169,-6.10533,-5.8234,-5.54194, -5.26116,-5.02448,-4.81423,-4.53423, -4.37832,-4.21165,-4.04521,-3.8789, -3.71264,-3.54655,-3.38068,-3.21495, -3.04925,-2.88355,-2.71826,-2.55299, -2.4704,-2.45585,-2.45325,-2.45048, -2.44809,-2.44673,-2.44542,-2.44484, -2.44477,-2.44523,-2.61053,-2.77599, -2.94158,-3.10733,-3.27321,-3.52253, -3.68877,-3.85514,-4.0218,-4.18855, -4.35544,-4.51387,-4.79405,-5.07464, -5.24141,-5.52252,-5.87496,-6.08669, -6.36905,-6.65183,-6.79331,-7.00599, -7.14777,-7.28969,-7.43168,-7.57374, -7.71586,-7.858,-8.00031,-8.14284, -8.35685,-8.49957,-8.64247,-8.85701, -9.00005,-9.14323,-9.2865,-9.42982, -9.57321,-9.78437,-9.85383,-9.8968)
FOOTPRINT_POINT_LONGITUDE = (246.02,245.661,245.361,245.176,244.991 ,244.84,244.829,244.839,244.837,244.835 ,244.833,244.831,244.829,244.827, 244.825,244.824,244.822,244.82,244.818, 244.817,244.815,244.813,244.811,244.809 ,244.807,244.805,244.803,244.8,244.795, 244.791,244.787,244.782,244.778,244.774 ,244.77,244.765,244.762,244.759,244.756 ,244.753,244.75,244.747,244.744,244.741 ,244.738,244.734,244.731,244.728, 244.726,244.726,244.929,245.208,245.449 ,245.639,245.867,246.019,246.032, 246.037,246.036,246.035,246.034,246.033 ,246.032,246.03,246.03,246.029,246.028, 246.027,246.026,246.025,246.024,246.022 ,246.022,246.02,246.019,246.018,246.017 ,246.016,246.015,246.014,246.014, 246.013,246.013,246.012,246.011,246.011 ,246.01,246.01,246.009,246.009,246.008, 246.008,246.007,246.007,246.007,246.006 ,246.006,246.005,246.005,246.02)
ORBIT_NUMBER = 6245
ORBITAL_ECCENTRICITY = 0.575
ORBITAL_INCLINATION = 86.74
ORBITAL_SEMIMAJOR_AXIS = 8730.5
PERIAPSIS_ALTITUDE = 312.38
PERIAPSIS_ARGUMENT_ANGLE = 339.99
PERIAPSIS_TIME = 2008-11-12T12:29:37.000Z
SPACECRAFT_ORIENTATION = (0.0,1.0,0.0)
^MEX_ORIENTATION_DESC = "MEX_ORIENTATION_DESC.TXT"
SPACECRAFT_POINTING_MODE = NADIR
^MEX_POINTING_DESC = "MEX_POINTING_DESC.TXT"
RIGHT_ASCENSION = -1e+32
DECLINATION = -1e+32
OFFSET_ANGLE = -1e+32
SPACECRAFT_SOLAR_DISTANCE = 2.27634e+08
TARGET_NAME = MARS
/* CAMERA DATA ELEMENTS */
DETECTOR_TEMPERATURE = 16.1276
FOCAL_PLANE_TEMPERATURE = 7.7677
INST_CMPRS_NAME = "DISCRETE COSINE TRANSFORMATION (DCT)"
INST_CMPRS_RATIO = 13.0152
INST_CMPRS_QUALITY = 0
INST_CMPRS_QUANTZ_TBL_ID = 0
INSTRUMENT_TEMPERATURE = 11.0301
LENS_TEMPERATURE = 8.3794
MACROPIXEL_SIZE = 2
PIXEL_SUBSAMPLING_FLAG = N
SIGNAL_CHAIN_ID = 3
/* RADIOMETRIC DATA ELEMENTS */
BANDWIDTH = 174.0
CENTER_FILTER_WAVELENGTH = 675.0
RADIANCE_OFFSET = 2.47367
RADIANCE_SCALING_FACTOR = 0.00433769
REFLECTANCE_SCALING_FACTOR = 0.000120898
MEX:REFLECTANCE_OFFSET = 0.0689448
/* IMAGE OBJECT DEFINITIONS */
OBJECT = IMAGE
  INTERCHANGE_FORMAT = BINARY
  LINES = 17603
  LINE_SAMPLES = 3010
  SAMPLE_TYPE = UNSIGNED_INTEGER
  SAMPLE_BITS = 8
  BANDS = 1
  BAND_STORAGE_TYPE = BAND_SEQUENTIAL
  MAXIMUM = 255
  MEAN = 89.7029
  MINIMUM = 1
  STANDARD_DEVIATION = 29.1418
END_OBJECT = IMAGE
/* MAP OBJECT DEFINITIONS */
OBJECT = IMAGE_MAP_PROJECTION
  ^DATA_SET_MAP_PROJECTION_CATALOG= "DSMAP.CAT"
  A_AXIS_RADIUS = 3396.0
  B_AXIS_RADIUS = 3396.0
  C_AXIS_RADIUS = 3396.0
  CENTER_LATITUDE = 0.0
  CENTER_LONGITUDE = 245.0
  COORDINATE_SYSTEM_NAME = PLANETOGRAPHIC
  COORDINATE_SYSTEM_TYPE = "BODY-FIXED ROTATING"
  EASTERNMOST_LONGITUDE = 246.037
  FIRST_STANDARD_PARALLEL = "N/A"
  LINE_FIRST_PIXEL = 1
  LINE_LAST_PIXEL = 17603
  LINE_PROJECTION_OFFSET = -5889.25
  MAP_PROJECTION_ROTATION = 0.0
  MAP_PROJECTION_TYPE = SINUSOIDAL
  MAP_RESOLUTION = 2370.85521546667
  MAP_SCALE = 0.025
  MAXIMUM_LATITUDE = -2.44477
  MINIMUM_LATITUDE = -9.901770000000001
  POSITIVE_LONGITUDE_DIRECTION = EAST
  REFERENCE_LATITUDE = "N/A"
  REFERENCE_LONGITUDE = "N/A"
  SAMPLE_FIRST_PIXEL = 1
  SAMPLE_LAST_PIXEL = 3010
  SAMPLE_PROJECTION_OFFSET = 603.75
  SECOND_STANDARD_PARALLEL = "N/A"
  WESTERNMOST_LONGITUDE = 244.726
END_OBJECT = IMAGE_MAP_PROJECTION
END
