PDS_VERSION_ID = PDS3
/* FILE DATA ELEMENTS */
RECORD_TYPE = UNDEFINED
/* POINTERS TO DATA OBJECTS */
^IMAGE = ("H6241_0000_S24.TIF")
/* IDENTIFICATION DATA ELEMENTS */
DATA_SET_ID = "MEX-M-HRSC-4-REFDR-MAPPROJECT-EXT2-V4.0"
DATA_SET_NAME = "MARS EXPRESS HRSC MAP PROJECTED REFDR EXTENSION2 V4.0"
DETECTOR_ID = MEX_HRSC_S2
EVENT_TYPE = "MARS-REGIONAL-MAPPING-Vo-Te-Fl"
INSTRUMENT_HOST_ID = MEX
INSTRUMENT_HOST_NAME = "MARS EXPRESS"
INSTRUMENT_ID = HRSC
INSTRUMENT_NAME = "HIGH RESOLUTION STEREO CAMERA"
MISSION_NAME = "MARS EXPRESS"
MISSION_PHASE_NAME = ME_Phase_15
PROCESSING_LEVEL_ID = 4
PRODUCT_CREATION_TIME = 2023-02-05T01:11:29.000Z
PRODUCT_ID = "H6241_0000_S24.TIF"
RELEASE_ID = 0005
REVISION_ID = 0000
/* QUALITY DATA ELEMENTS */
DATA_QUALITY_ID = 1
DATA_QUALITY_DESC = "Data calculated based on original SPICE kernels"
/* TIME DATA ELEMENTS */
SPACECRAFT_CLOCK_START_COUNT = "1/0174474644.08243"
SPACECRAFT_CLOCK_STOP_COUNT = "1/0174475003.00682"
START_TIME = 2008-11-11T09:10:47.614Z
STOP_TIME = 2008-11-11T09:14:52.966Z
/* ORBITAL DATA ELEMENTS */
ASCENDING_NODE_LONGITUDE = 99.03
MAXIMUM_RESOLUTION = 0.0302
FOOTPRINT_POINT_LATITUDE = (-2.07639,-2.07564,-2.07369,-2.0698, -2.06968,-2.09707,-1.82098,-1.52728, -1.26753,-1.01079,-0.400288,0.062899, 0.372035,0.682222,0.991828,1.30134, 1.76762,2.07899,2.54605,3.01334,3.32535 ,3.63654,3.94544,4.40846,4.87173, 5.18827,5.50517,5.8219,6.14288,6.46779, 6.79185,7.11817,7.4508,7.78267,8.11889, 8.4594,8.79858,9.13916,9.48507,9.83011, 10.3567,10.7081,11.2463,11.6061,11.9707 ,12.3378,12.8949,13.2692,13.8395, 14.0301,14.0391,14.0389,14.039,14.038, 14.0391,14.0392,14.0386,13.4661,13.0897 ,12.525,12.1578,11.6096,11.2493,10.7117 ,10.3584,9.83128,9.48518,8.96727, 8.62819,8.11954,7.78714,7.45535,6.95974 ,6.63567,6.3116,5.98708,5.67051,5.20182 ,4.72639,4.26108,3.95214,3.48578, 3.17426,2.8621,2.54854,2.24444,1.92718, 1.6171,1.30676,0.996184,0.686261, 0.375297,-0.0903784,-0.400063,-0.660585 ,-0.921507,-1.55441,-1.96208,-2.09681, -2.07639)
FOOTPRINT_POINT_LONGITUDE = (286.228,285.839,285.449,284.982,284.97 ,284.976,284.966,284.949,284.944, 284.941,284.944,284.935,284.93,284.923, 284.917,284.911,284.9,284.892,284.881, 284.869,284.86,284.852,284.845,284.833, 284.821,284.812,284.804,284.795,284.786 ,284.776,284.767,284.757,284.747, 284.737,284.726,284.715,284.704,284.694 ,284.683,284.672,284.655,284.644, 284.625,284.613,284.601,284.588,284.568 ,284.555,284.534,284.527,284.526, 284.795,285.243,285.654,286.348,286.366 ,286.373,286.364,286.358,286.349, 286.343,286.336,286.331,286.324,286.32, 286.313,286.309,286.303,286.3,286.294, 286.291,286.287,286.282,286.279,286.276 ,286.274,286.271,286.268,286.264,286.26 ,286.257,286.254,286.251,286.248, 286.246,286.245,286.242,286.24,286.238, 286.236,286.235,286.233,286.231,286.23, 286.229,286.228,286.229,286.224,286.223 ,286.228)
ORBIT_NUMBER = 6241
ORBITAL_ECCENTRICITY = 0.575
ORBITAL_INCLINATION = 86.74
ORBITAL_SEMIMAJOR_AXIS = 8725.97
PERIAPSIS_ALTITUDE = 313.05
PERIAPSIS_ARGUMENT_ANGLE = 340.73
PERIAPSIS_TIME = 2008-11-11T09:06:57.000Z
SPACECRAFT_ORIENTATION = (0.0,1.0,0.0)
^MEX_ORIENTATION_DESC = "MEX_ORIENTATION_DESC.TXT"
SPACECRAFT_POINTING_MODE = ACROSSTRACK
^MEX_POINTING_DESC = "MEX_POINTING_DESC.TXT"
RIGHT_ASCENSION = -1e+32
DECLINATION = -1e+32
OFFSET_ANGLE = 0.17
SPACECRAFT_SOLAR_DISTANCE = 2.27857e+08
TARGET_NAME = MARS
/* CAMERA DATA ELEMENTS */
DETECTOR_TEMPERATURE = 18.3705
FOCAL_PLANE_TEMPERATURE = 8.3794
INST_CMPRS_NAME = "DISCRETE COSINE TRANSFORMATION (DCT)"
INST_CMPRS_RATIO = 9.90032
INST_CMPRS_QUALITY = 0
INST_CMPRS_QUANTZ_TBL_ID = 0
INSTRUMENT_TEMPERATURE = 11.0301
LENS_TEMPERATURE = 8.5833
MACROPIXEL_SIZE = 2
MISSING_FRAMES = 0
PIXEL_SUBSAMPLING_FLAG = N
SIGNAL_CHAIN_ID = 1
/* RADIOMETRIC DATA ELEMENTS */
BANDWIDTH = 178.0
CENTER_FILTER_WAVELENGTH = 679.0
RADIANCE_OFFSET = 2.1751
RADIANCE_SCALING_FACTOR = 0.0121213
REFLECTANCE_SCALING_FACTOR = 0.000333274
MEX:REFLECTANCE_OFFSET = 0.0598042
/* IMAGE OBJECT DEFINITIONS */
OBJECT = IMAGE
  INTERCHANGE_FORMAT = BINARY
  LINES = 38225
  LINE_SAMPLES = 4544
  SAMPLE_TYPE = UNSIGNED_INTEGER
  SAMPLE_BITS = 8
  BANDS = 1
  BAND_STORAGE_TYPE = BAND_SEQUENTIAL
  MAXIMUM = 255
  MEAN = 84.4963
  MINIMUM = 1
  STANDARD_DEVIATION = 26.0025
END_OBJECT = IMAGE
/* MAP OBJECT DEFINITIONS */
OBJECT = IMAGE_MAP_PROJECTION
  ^DATA_SET_MAP_PROJECTION_CATALOG= "DSMAP.CAT"
  A_AXIS_RADIUS = 3396.0
  B_AXIS_RADIUS = 3396.0
  C_AXIS_RADIUS = 3396.0
  CENTER_LATITUDE = 0.0
  CENTER_LONGITUDE = 286.0
  COORDINATE_SYSTEM_NAME = PLANETOGRAPHIC
  COORDINATE_SYSTEM_TYPE = "BODY-FIXED ROTATING"
  EASTERNMOST_LONGITUDE = 286.373
  FIRST_STANDARD_PARALLEL = "N/A"
  LINE_FIRST_PIXEL = 1
  LINE_LAST_PIXEL = 38225
  LINE_PROJECTION_OFFSET = 33280.25
  MAP_PROJECTION_ROTATION = 0.0
  MAP_PROJECTION_TYPE = SINUSOIDAL
  MAP_RESOLUTION = 2370.85521546667
  MAP_SCALE = 0.025
  MAXIMUM_LATITUDE = 14.0392
  MINIMUM_LATITUDE = -2.09707
  POSITIVE_LONGITUDE_DIRECTION = EAST
  REFERENCE_LATITUDE = "N/A"
  REFERENCE_LONGITUDE = "N/A"
  SAMPLE_FIRST_PIXEL = 1
  SAMPLE_LAST_PIXEL = 4544
  SAMPLE_PROJECTION_OFFSET = 3531.25
  SECOND_STANDARD_PARALLEL = "N/A"
  WESTERNMOST_LONGITUDE = 284.526
END_OBJECT = IMAGE_MAP_PROJECTION
END
