PDS_VERSION_ID = PDS3
/* FILE DATA ELEMENTS */
RECORD_TYPE = UNDEFINED
/* POINTERS TO DATA OBJECTS */
^IMAGE = ("H6241_0000_RE4.TIF")
/* IDENTIFICATION DATA ELEMENTS */
DATA_SET_ID = "MEX-M-HRSC-4-REFDR-MAPPROJECT-EXT2-V4.0"
DATA_SET_NAME = "MARS EXPRESS HRSC MAP PROJECTED REFDR EXTENSION2 V4.0"
DETECTOR_ID = MEX_HRSC_RED
EVENT_TYPE = "MARS-REGIONAL-MAPPING-Vo-Te-Fl"
INSTRUMENT_HOST_ID = MEX
INSTRUMENT_HOST_NAME = "MARS EXPRESS"
INSTRUMENT_ID = HRSC
INSTRUMENT_NAME = "HIGH RESOLUTION STEREO CAMERA"
MISSION_NAME = "MARS EXPRESS"
MISSION_PHASE_NAME = ME_Phase_15
PROCESSING_LEVEL_ID = 4
PRODUCT_CREATION_TIME = 2023-02-05T01:11:29.000Z
PRODUCT_ID = "H6241_0000_RE4.TIF"
RELEASE_ID = 0005
REVISION_ID = 0000
/* QUALITY DATA ELEMENTS */
DATA_QUALITY_ID = 1
DATA_QUALITY_DESC = "Data calculated based on original SPICE kernels"
/* TIME DATA ELEMENTS */
SPACECRAFT_CLOCK_START_COUNT = "1/0174474644.08243"
SPACECRAFT_CLOCK_STOP_COUNT = "1/0174475003.00682"
START_TIME = 2008-11-11T09:10:53.008Z
STOP_TIME = 2008-11-11T09:15:00.934Z
/* ORBITAL DATA ELEMENTS */
ASCENDING_NODE_LONGITUDE = 99.03
MAXIMUM_RESOLUTION = 0.0597
FOOTPRINT_POINT_LATITUDE = (-2.07873,-2.07855,-2.07749,-2.07493, -2.07485,-2.09523,-1.81759,-1.28617, -0.777645,-0.505551,-0.206948,0.0991745 ,0.557052,0.862201,1.31981,1.77843, 2.08501,2.5447,2.85062,3.15767,3.46405, 3.76828,4.07211,4.37561,4.84101,5.15228 ,5.46361,5.94023,6.25936,6.57796, 6.90365,7.23039,7.55642,8.05817,8.39145 ,8.72829,9.06828,9.40767,9.92497, 10.2717,10.7987,11.1526,11.6912,12.0512 ,12.4181,12.7853,13.1577,13.7199, 13.9105,14.027,14.0277,14.0286,14.0288, 14.0306,14.0307,14.0294,13.6484,13.0868 ,12.7126,12.3453,11.9798,11.6197, 11.2589,10.7284,10.3744,9.85429,9.50729 ,9.16752,8.82744,8.32224,7.98967, 7.49268,7.16685,6.8406,6.51691,6.19846, 5.87957,5.5603,5.09755,4.78662,4.47003, 4.16649,3.86256,3.55699,3.25062,2.94389 ,2.63726,2.18045,1.71894,1.41311, 1.10754,0.649099,0.342676,0.0359236, -0.269208,-0.575687,-1.12029,-1.88262, -2.02167,-2.07873)
FOOTPRINT_POINT_LONGITUDE = (286.23,285.808,285.443,284.981,284.97, 284.976,284.962,284.945,284.938,284.944 ,284.941,284.935,284.926,284.92,284.91, 284.9,284.892,284.881,284.873,284.864, 284.856,284.848,284.841,284.833,284.821 ,284.812,284.804,284.79,284.781,284.772 ,284.762,284.752,284.743,284.726, 284.715,284.704,284.694,284.683,284.667 ,284.655,284.638,284.626,284.608, 284.595,284.582,284.569,284.555,284.535 ,284.527,284.523,284.818,285.338, 285.754,286.357,286.375,286.38,286.374, 286.365,286.359,286.353,286.348,286.343 ,286.338,286.331,286.326,286.319, 286.315,286.311,286.307,286.301,286.298 ,286.293,286.289,286.286,286.283,286.28 ,286.277,286.274,286.271,286.269, 286.265,286.262,286.26,286.258,286.255, 286.252,286.25,286.247,286.243,286.241, 286.24,286.237,286.236,286.234,286.233, 286.231,286.229,286.228,286.225,286.23)
ORBIT_NUMBER = 6241
ORBITAL_ECCENTRICITY = 0.575
ORBITAL_INCLINATION = 86.74
ORBITAL_SEMIMAJOR_AXIS = 8725.97
PERIAPSIS_ALTITUDE = 313.05
PERIAPSIS_ARGUMENT_ANGLE = 340.73
PERIAPSIS_TIME = 2008-11-11T09:06:57.000Z
SPACECRAFT_ORIENTATION = (0.0,1.0,0.0)
^MEX_ORIENTATION_DESC = "MEX_ORIENTATION_DESC.TXT"
SPACECRAFT_POINTING_MODE = ACROSSTRACK
^MEX_POINTING_DESC = "MEX_POINTING_DESC.TXT"
RIGHT_ASCENSION = -1e+32
DECLINATION = -1e+32
OFFSET_ANGLE = 0.17
SPACECRAFT_SOLAR_DISTANCE = 2.27857e+08
TARGET_NAME = MARS
/* CAMERA DATA ELEMENTS */
DETECTOR_TEMPERATURE = 18.3705
FOCAL_PLANE_TEMPERATURE = 8.3794
INST_CMPRS_NAME = "DISCRETE COSINE TRANSFORMATION (DCT)"
INST_CMPRS_RATIO = 11.3255
INST_CMPRS_QUALITY = 0
INST_CMPRS_QUANTZ_TBL_ID = 0
INSTRUMENT_TEMPERATURE = 11.0301
LENS_TEMPERATURE = 8.5833
MACROPIXEL_SIZE = 4
MISSING_FRAMES = 0
PIXEL_SUBSAMPLING_FLAG = N
SIGNAL_CHAIN_ID = 2
/* RADIOMETRIC DATA ELEMENTS */
BANDWIDTH = 48.0
CENTER_FILTER_WAVELENGTH = 748.0
RADIANCE_OFFSET = 0.558959
RADIANCE_SCALING_FACTOR = 0.003288
REFLECTANCE_SCALING_FACTOR = 0.000389564
MEX:REFLECTANCE_OFFSET = 0.066226
/* IMAGE OBJECT DEFINITIONS */
OBJECT = IMAGE
  INTERCHANGE_FORMAT = BINARY
  LINES = 19113
  LINE_SAMPLES = 2272
  SAMPLE_TYPE = UNSIGNED_INTEGER
  SAMPLE_BITS = 8
  BANDS = 1
  BAND_STORAGE_TYPE = BAND_SEQUENTIAL
  MAXIMUM = 255
  MEAN = 84.5716
  MINIMUM = 1
  STANDARD_DEVIATION = 25.8637
END_OBJECT = IMAGE
/* MAP OBJECT DEFINITIONS */
OBJECT = IMAGE_MAP_PROJECTION
  ^DATA_SET_MAP_PROJECTION_CATALOG= "DSMAP.CAT"
  A_AXIS_RADIUS = 3396.0
  B_AXIS_RADIUS = 3396.0
  C_AXIS_RADIUS = 3396.0
  CENTER_LATITUDE = 0.0
  CENTER_LONGITUDE = 286.0
  COORDINATE_SYSTEM_NAME = PLANETOGRAPHIC
  COORDINATE_SYSTEM_TYPE = "BODY-FIXED ROTATING"
  EASTERNMOST_LONGITUDE = 286.38
  FIRST_STANDARD_PARALLEL = "N/A"
  LINE_FIRST_PIXEL = 1
  LINE_LAST_PIXEL = 19113
  LINE_PROJECTION_OFFSET = 16639.875
  MAP_PROJECTION_ROTATION = 0.0
  MAP_PROJECTION_TYPE = SINUSOIDAL
  MAP_RESOLUTION = 1185.42760773333
  MAP_SCALE = 0.05
  MAXIMUM_LATITUDE = 14.0307
  MINIMUM_LATITUDE = -2.09523
  POSITIVE_LONGITUDE_DIRECTION = EAST
  REFERENCE_LATITUDE = "N/A"
  REFERENCE_LONGITUDE = "N/A"
  SAMPLE_FIRST_PIXEL = 1
  SAMPLE_LAST_PIXEL = 2272
  SAMPLE_PROJECTION_OFFSET = 1765.375
  SECOND_STANDARD_PARALLEL = "N/A"
  WESTERNMOST_LONGITUDE = 284.523
END_OBJECT = IMAGE_MAP_PROJECTION
END
