PDS_VERSION_ID = PDS3
/* FILE DATA ELEMENTS */
RECORD_TYPE = UNDEFINED
/* POINTERS TO DATA OBJECTS */
^IMAGE = ("H6241_0000_GR4.TIF")
/* IDENTIFICATION DATA ELEMENTS */
DATA_SET_ID = "MEX-M-HRSC-4-REFDR-MAPPROJECT-EXT2-V4.0"
DATA_SET_NAME = "MARS EXPRESS HRSC MAP PROJECTED REFDR EXTENSION2 V4.0"
DETECTOR_ID = MEX_HRSC_GREEN
EVENT_TYPE = "MARS-REGIONAL-MAPPING-Vo-Te-Fl"
INSTRUMENT_HOST_ID = MEX
INSTRUMENT_HOST_NAME = "MARS EXPRESS"
INSTRUMENT_ID = HRSC
INSTRUMENT_NAME = "HIGH RESOLUTION STEREO CAMERA"
MISSION_NAME = "MARS EXPRESS"
MISSION_PHASE_NAME = ME_Phase_15
PROCESSING_LEVEL_ID = 4
PRODUCT_CREATION_TIME = 2023-02-05T01:11:29.000Z
PRODUCT_ID = "H6241_0000_GR4.TIF"
RELEASE_ID = 0005
REVISION_ID = 0000
/* QUALITY DATA ELEMENTS */
DATA_QUALITY_ID = 1
DATA_QUALITY_DESC = "Data calculated based on original SPICE kernels"
/* TIME DATA ELEMENTS */
SPACECRAFT_CLOCK_START_COUNT = "1/0174474644.08243"
SPACECRAFT_CLOCK_STOP_COUNT = "1/0174475003.00682"
START_TIME = 2008-11-11T09:11:26.101Z
STOP_TIME = 2008-11-11T09:15:52.665Z
/* ORBITAL DATA ELEMENTS */
ASCENDING_NODE_LONGITUDE = 99.03
MAXIMUM_RESOLUTION = 0.0593
FOOTPRINT_POINT_LATITUDE = (-2.06904,-2.07286,-2.0756,-2.07878, -2.07887,-2.07406,-1.63754,-1.34377, -1.0497,-0.606685,-0.309205,-0.0165075, 0.275989,0.859586,1.44141,2.02099, 2.46447,2.76064,3.05626,3.50847,3.81093 ,4.11286,4.4218,4.73028,5.03825,5.35249 ,5.82388,6.14178,6.46226,6.78209, 7.27052,7.59627,8.09317,8.42444,8.76201 ,9.09962,9.61304,9.95611,10.3055, 10.6545,11.009,11.3633,11.7236,12.2671, 12.6326,13.0029,13.3742,13.7509,13.9389 ,14.0184,14.024,14.0311,14.0348,14.0383 ,14.0385,14.0372,13.6602,13.2845, 12.9137,12.3623,11.9972,11.6369,11.2785 ,10.9237,10.5707,10.2215,9.87386, 9.53041,9.18732,8.84971,8.34482,8.01273 ,7.68003,7.35382,7.02723,6.54352, 6.22286,5.90318,5.58897,5.27321,4.80671 ,4.49904,4.03743,3.73515,3.43268, 3.12992,2.8343,2.38932,2.09264,1.51277, 0.930916,0.347294,-0.238105,-0.531371, -0.825009,-1.11902,-1.41355,-1.85768, -2.00378,-2.06904)
FOOTPRINT_POINT_LONGITUDE = (286.254,285.745,285.381,284.965, 284.953,284.959,284.936,284.928,284.922 ,284.919,284.923,284.917,284.91,284.898 ,284.884,284.869,284.857,284.849,284.84 ,284.827,284.818,284.81,284.802,284.793 ,284.784,284.774,284.76,284.75,284.74, 284.729,284.713,284.702,284.684,284.672 ,284.661,284.649,284.631,284.619, 284.607,284.594,284.581,284.567,284.554 ,284.533,284.518,284.503,284.488, 284.473,284.465,284.462,284.871,285.485 ,285.893,286.43,286.449,286.455,286.447 ,286.439,286.431,286.42,286.413,286.406 ,286.4,286.394,286.388,286.382,286.376, 286.371,286.365,286.36,286.353,286.348, 286.343,286.339,286.334,286.328,286.324 ,286.32,286.316,286.314,286.309,286.304 ,286.299,286.296,286.293,286.289, 286.286,286.282,286.279,286.273,286.269 ,286.264,286.26,286.258,286.256,286.254 ,286.253,286.253,286.249,286.254)
ORBIT_NUMBER = 6241
ORBITAL_ECCENTRICITY = 0.575
ORBITAL_INCLINATION = 86.74
ORBITAL_SEMIMAJOR_AXIS = 8725.97
PERIAPSIS_ALTITUDE = 313.05
PERIAPSIS_ARGUMENT_ANGLE = 340.73
PERIAPSIS_TIME = 2008-11-11T09:06:57.000Z
SPACECRAFT_ORIENTATION = (0.0,1.0,0.0)
^MEX_ORIENTATION_DESC = "MEX_ORIENTATION_DESC.TXT"
SPACECRAFT_POINTING_MODE = ACROSSTRACK
^MEX_POINTING_DESC = "MEX_POINTING_DESC.TXT"
RIGHT_ASCENSION = -1e+32
DECLINATION = -1e+32
OFFSET_ANGLE = 0.17
SPACECRAFT_SOLAR_DISTANCE = 2.27857e+08
TARGET_NAME = MARS
/* CAMERA DATA ELEMENTS */
DETECTOR_TEMPERATURE = 18.9822
FOCAL_PLANE_TEMPERATURE = 8.3794
INST_CMPRS_NAME = "DISCRETE COSINE TRANSFORMATION (DCT)"
INST_CMPRS_RATIO = 10.1085
INST_CMPRS_QUALITY = 0
INST_CMPRS_QUANTZ_TBL_ID = 0
INSTRUMENT_TEMPERATURE = 11.0301
LENS_TEMPERATURE = 8.5833
MACROPIXEL_SIZE = 4
MISSING_FRAMES = 0
PIXEL_SUBSAMPLING_FLAG = N
SIGNAL_CHAIN_ID = 2
/* RADIOMETRIC DATA ELEMENTS */
BANDWIDTH = 88.0
CENTER_FILTER_WAVELENGTH = 538.0
RADIANCE_OFFSET = 0.721385
RADIANCE_SCALING_FACTOR = 0.00326678
REFLECTANCE_SCALING_FACTOR = 0.000146026
MEX:REFLECTANCE_OFFSET = 0.0322462
/* IMAGE OBJECT DEFINITIONS */
OBJECT = IMAGE
  INTERCHANGE_FORMAT = BINARY
  LINES = 19113
  LINE_SAMPLES = 2272
  SAMPLE_TYPE = UNSIGNED_INTEGER
  SAMPLE_BITS = 8
  BANDS = 1
  BAND_STORAGE_TYPE = BAND_SEQUENTIAL
  MAXIMUM = 255
  MEAN = 86.5041
  MINIMUM = 1
  STANDARD_DEVIATION = 25.2895
END_OBJECT = IMAGE
/* MAP OBJECT DEFINITIONS */
OBJECT = IMAGE_MAP_PROJECTION
  ^DATA_SET_MAP_PROJECTION_CATALOG= "DSMAP.CAT"
  A_AXIS_RADIUS = 3396.0
  B_AXIS_RADIUS = 3396.0
  C_AXIS_RADIUS = 3396.0
  CENTER_LATITUDE = 0.0
  CENTER_LONGITUDE = 286.0
  COORDINATE_SYSTEM_NAME = PLANETOGRAPHIC
  COORDINATE_SYSTEM_TYPE = "BODY-FIXED ROTATING"
  EASTERNMOST_LONGITUDE = 286.455
  FIRST_STANDARD_PARALLEL = "N/A"
  LINE_FIRST_PIXEL = 1
  LINE_LAST_PIXEL = 19113
  LINE_PROJECTION_OFFSET = 16639.875
  MAP_PROJECTION_ROTATION = 0.0
  MAP_PROJECTION_TYPE = SINUSOIDAL
  MAP_RESOLUTION = 1185.42760773333
  MAP_SCALE = 0.05
  MAXIMUM_LATITUDE = 14.0385
  MINIMUM_LATITUDE = -2.07887
  POSITIVE_LONGITUDE_DIRECTION = EAST
  REFERENCE_LATITUDE = "N/A"
  REFERENCE_LONGITUDE = "N/A"
  SAMPLE_FIRST_PIXEL = 1
  SAMPLE_LAST_PIXEL = 2272
  SAMPLE_PROJECTION_OFFSET = 1765.375
  SECOND_STANDARD_PARALLEL = "N/A"
  WESTERNMOST_LONGITUDE = 284.462
END_OBJECT = IMAGE_MAP_PROJECTION
END
