PDS_VERSION_ID = PDS3
/* FILE DATA ELEMENTS */
RECORD_TYPE = UNDEFINED
/* POINTERS TO DATA OBJECTS */
^IMAGE = ("H6224_0000_S24.TIF")
/* IDENTIFICATION DATA ELEMENTS */
DATA_SET_ID = "MEX-M-HRSC-4-REFDR-MAPPROJECT-EXT2-V4.0"
DATA_SET_NAME = "MARS EXPRESS HRSC MAP PROJECTED REFDR EXTENSION2 V4.0"
DETECTOR_ID = MEX_HRSC_S2
EVENT_TYPE = "MARS-REGIONAL-MAPPING-Vo-Im-Fl"
INSTRUMENT_HOST_ID = MEX
INSTRUMENT_HOST_NAME = "MARS EXPRESS"
INSTRUMENT_ID = HRSC
INSTRUMENT_NAME = "HIGH RESOLUTION STEREO CAMERA"
MISSION_NAME = "MARS EXPRESS"
MISSION_PHASE_NAME = ME_Phase_15
PROCESSING_LEVEL_ID = 4
PRODUCT_CREATION_TIME = 2023-02-05T01:11:29.000Z
PRODUCT_ID = "H6224_0000_S24.TIF"
RELEASE_ID = 0005
REVISION_ID = 0000
/* QUALITY DATA ELEMENTS */
DATA_QUALITY_ID = 1
DATA_QUALITY_DESC = "Data calculated based on original SPICE kernels"
/* TIME DATA ELEMENTS */
SPACECRAFT_CLOCK_START_COUNT = "1/0174055878.09027"
SPACECRAFT_CLOCK_STOP_COUNT = "1/0174056121.24585"
START_TIME = 2008-11-06T12:51:21.595Z
STOP_TIME = 2008-11-06T12:53:24.357Z
/* ORBITAL DATA ELEMENTS */
ASCENDING_NODE_LONGITUDE = 99.37
MAXIMUM_RESOLUTION = 0.0189
FOOTPRINT_POINT_LATITUDE = (10.5732,10.5719,10.5712,10.5707, 10.5705,10.5705,10.5707,10.5707,10.6012 ,11.0392,11.3313,11.6354,11.789,11.942, 12.167,12.467,12.755,12.9062,13.0625, 13.2176,13.3719,13.5254,13.6814,13.8388 ,14.0747,14.2317,14.4671,14.7074, 14.8677,15.0277,15.2677,15.5119,15.6753 ,15.9202,16.0833,16.3322,16.4988, 16.6651,16.8312,17.0839,17.2534,17.4227 ,17.5919,17.7611,17.93,18.0984,18.2678, 18.4364,18.5207,18.5436,18.5437,18.5429 ,18.5438,18.5458,18.5467,18.5476, 18.5486,18.5488,18.5485,18.379,18.2108, 18.0403,17.8713,17.701,17.4482,17.2784, 17.0244,16.8556,16.6939,16.5256,16.3592 ,16.1097,15.8646,15.7009,15.4568, 15.2939,15.1338,14.9736,14.8134,14.6531 ,14.414,14.2571,14.0216,13.8646,13.7072 ,13.5513,13.3979,13.244,13.0129,12.8589 ,12.6294,12.4782,12.0269,11.7265, 11.5053,11.2104,10.9892,10.6962,10.624, 10.5732)
FOOTPRINT_POINT_LONGITUDE = (188.173,187.85,187.603,187.356,187.108 ,186.86,186.627,186.612,186.593,186.58, 186.572,186.56,186.553,186.548,186.541, 186.532,186.528,186.524,186.518,186.513 ,186.507,186.502,186.497,186.492, 186.484,186.478,186.47,186.462,186.457, 186.451,186.443,186.434,186.428,186.42, 186.414,186.405,186.398,186.392,186.386 ,186.377,186.371,186.364,186.358, 186.351,186.345,186.339,186.332,186.325 ,186.322,186.321,186.617,186.833,187.01 ,187.323,187.676,187.93,188.282,188.302 ,188.311,188.308,188.304,188.3,188.297, 188.293,188.288,188.284,188.28,188.276, 188.274,188.271,188.267,188.263,188.258 ,188.255,188.251,188.248,188.246, 188.243,188.24,188.238,188.234,188.231, 188.228,188.225,188.223,188.22,188.218, 188.216,188.213,188.21,188.207,188.205, 188.199,188.195,188.192,188.189,188.186 ,188.182,188.181,188.173)
ORBIT_NUMBER = 6224
ORBITAL_ECCENTRICITY = 0.575
ORBITAL_INCLINATION = 86.75
ORBITAL_SEMIMAJOR_AXIS = 8720.5
PERIAPSIS_ALTITUDE = 314.39
PERIAPSIS_ARGUMENT_ANGLE = 343.69
PERIAPSIS_TIME = 2008-11-06T12:45:04.000Z
SPACECRAFT_ORIENTATION = (0.0,1.0,0.0)
^MEX_ORIENTATION_DESC = "MEX_ORIENTATION_DESC.TXT"
SPACECRAFT_POINTING_MODE = ACROSSTRACK
^MEX_POINTING_DESC = "MEX_POINTING_DESC.TXT"
RIGHT_ASCENSION = -1e+32
DECLINATION = -1e+32
OFFSET_ANGLE = 0.12
SPACECRAFT_SOLAR_DISTANCE = 2.288e+08
TARGET_NAME = MARS
/* CAMERA DATA ELEMENTS */
DETECTOR_TEMPERATURE = 18.1666
FOCAL_PLANE_TEMPERATURE = 6.9521
INST_CMPRS_NAME = "DISCRETE COSINE TRANSFORMATION (DCT)"
INST_CMPRS_RATIO = 6.40894
INST_CMPRS_QUALITY = 0
INST_CMPRS_QUANTZ_TBL_ID = 0
INSTRUMENT_TEMPERATURE = 11.0301
LENS_TEMPERATURE = 8.3794
MACROPIXEL_SIZE = 1
MISSING_FRAMES = 0
PIXEL_SUBSAMPLING_FLAG = N
SIGNAL_CHAIN_ID = 1
/* RADIOMETRIC DATA ELEMENTS */
BANDWIDTH = 178.0
CENTER_FILTER_WAVELENGTH = 679.0
RADIANCE_OFFSET = 2.22473
RADIANCE_SCALING_FACTOR = 0.00652214
REFLECTANCE_SCALING_FACTOR = 0.000180812
MEX:REFLECTANCE_OFFSET = 0.0616758
/* IMAGE OBJECT DEFINITIONS */
OBJECT = IMAGE
  INTERCHANGE_FORMAT = BINARY
  LINES = 18840
  LINE_SAMPLES = 4794
  SAMPLE_TYPE = UNSIGNED_INTEGER
  SAMPLE_BITS = 8
  BANDS = 1
  BAND_STORAGE_TYPE = BAND_SEQUENTIAL
  MAXIMUM = 255
  MEAN = 99.8342
  MINIMUM = 1
  STANDARD_DEVIATION = 32.405
END_OBJECT = IMAGE
/* MAP OBJECT DEFINITIONS */
OBJECT = IMAGE_MAP_PROJECTION
  ^DATA_SET_MAP_PROJECTION_CATALOG= "DSMAP.CAT"
  A_AXIS_RADIUS = 3396.0
  B_AXIS_RADIUS = 3396.0
  C_AXIS_RADIUS = 3396.0
  CENTER_LATITUDE = 0.0
  CENTER_LONGITUDE = 187.0
  COORDINATE_SYSTEM_NAME = PLANETOGRAPHIC
  COORDINATE_SYSTEM_TYPE = "BODY-FIXED ROTATING"
  EASTERNMOST_LONGITUDE = 188.311
  FIRST_STANDARD_PARALLEL = "N/A"
  LINE_FIRST_PIXEL = 1
  LINE_LAST_PIXEL = 18840
  LINE_PROJECTION_OFFSET = 43913.0
  MAP_PROJECTION_ROTATION = 0.0
  MAP_PROJECTION_TYPE = SINUSOIDAL
  MAP_RESOLUTION = 2370.85521546667
  MAP_SCALE = 0.025
  MAXIMUM_LATITUDE = 18.5488
  MINIMUM_LATITUDE = 10.5705
  POSITIVE_LONGITUDE_DIRECTION = EAST
  REFERENCE_LATITUDE = "N/A"
  REFERENCE_LONGITUDE = "N/A"
  SAMPLE_FIRST_PIXEL = 1
  SAMPLE_LAST_PIXEL = 4794
  SAMPLE_PROJECTION_OFFSET = 1674.0
  SECOND_STANDARD_PARALLEL = "N/A"
  WESTERNMOST_LONGITUDE = 186.321
END_OBJECT = IMAGE_MAP_PROJECTION
END
