PDS_VERSION_ID = PDS3
/* FILE DATA ELEMENTS */
RECORD_TYPE = UNDEFINED
/* POINTERS TO DATA OBJECTS */
^IMAGE = ("H5909_0000_IR4.TIF")
/* IDENTIFICATION DATA ELEMENTS */
DATA_SET_ID = "MEX-M-HRSC-4-REFDR-MAPPROJECT-EXT2-V4.0"
DATA_SET_NAME = "MARS EXPRESS HRSC MAP PROJECTED REFDR EXTENSION2 V4.0"
DETECTOR_ID = MEX_HRSC_IR
EVENT_TYPE = "MARS-REGIONAL-VARIABLE-Gl-La-Ot"
INSTRUMENT_HOST_ID = MEX
INSTRUMENT_HOST_NAME = "MARS EXPRESS"
INSTRUMENT_ID = HRSC
INSTRUMENT_NAME = "HIGH RESOLUTION STEREO CAMERA"
MISSION_NAME = "MARS EXPRESS"
MISSION_PHASE_NAME = ME_Phase_14
PROCESSING_LEVEL_ID = 4
PRODUCT_CREATION_TIME = 2023-02-04T19:55:08.000Z
PRODUCT_ID = "H5909_0000_IR4.TIF"
RELEASE_ID = 0004
REVISION_ID = 0000
/* QUALITY DATA ELEMENTS */
DATA_QUALITY_ID = 1
DATA_QUALITY_DESC = "Data calculated based on original SPICE kernels"
/* TIME DATA ELEMENTS */
SPACECRAFT_CLOCK_START_COUNT = "1/0166294013.07275"
SPACECRAFT_CLOCK_STOP_COUNT = "1/0166294591.13117"
START_TIME = 2008-08-08T16:49:23.463Z
STOP_TIME = 2008-08-08T16:55:51.748Z
/* ORBITAL DATA ELEMENTS */
ASCENDING_NODE_LONGITUDE = 105.71
MAXIMUM_RESOLUTION = 0.0679
FOOTPRINT_POINT_LATITUDE = (80.1469,80.2322,80.2993,80.3472, 80.3745,80.3803,80.3515,80.3491,80.2118 ,80.6552,81.2433,81.8403,82.4439, 83.0521,83.6667,84.2876,84.6006,84.9149 ,85.3971,85.7148,86.0329,86.3541, 86.6736,86.9931,87.3115,87.6294,87.942, 88.2472,88.5369,88.7978,89.0109,89.1393 ,89.148,89.0353,88.8378,88.5924,88.3214 ,88.0362,87.743,87.4461,87.1464,86.8447 ,86.2419,85.7929,85.1949,84.6054, 84.0201,83.8756,83.8219,83.9039,83.9212 ,83.917,83.8912,83.8452,83.7799,83.6834 ,83.5784,83.4575,83.1891,83.0263,83.005 ,82.9981,83.5189,84.035,84.5422,85.0351 ,85.6137,86.1353,86.3206,86.4881, 86.6345,86.7562,86.8854,86.931,86.942, 86.9171,86.8564,86.7605,86.6331,86.479, 86.3012,85.9979,85.777,85.5436,85.301, 85.0498,84.7918,84.5227,84.2548,83.9841 ,83.5723,83.1564,82.7382,82.1786, 81.4781,80.7751,80.2187,80.0798, 80.1469)
FOOTPRINT_POINT_LONGITUDE = (51.2353,48.7787,46.2527,43.661,41.0148 ,38.322,34.555,34.3824,33.6419,33.437, 33.0869,32.6903,32.2263,31.6644,30.9847 ,30.1486,29.6535,29.0946,28.0959, 27.3055,26.3779,25.305,23.9962,22.4, 20.4075,17.8861,14.5569,10.012,3.60742, 354.302,340.543,321.279,298.883,279.143 ,264.935,255.334,248.755,244.073, 240.612,237.999,235.932,234.248,231.737 ,230.375,228.927,227.859,226.996, 226.816,226.747,220.648,217.139,213.65, 210.198,206.806,203.491,199.872,196.769 ,193.785,188.531,185.911,185.592, 185.475,183.291,180.676,177.514,173.644 ,167.559,159.554,155.683,151.391, 146.662,141.507,133.047,127.076,120.92, 114.768,108.737,102.92,97.5031,92.5644, 88.0836,82.1997,78.8057,75.7752,73.0799 ,70.6662,68.5033,66.5204,64.773,63.1989 ,61.1023,59.2818,57.6908,55.8619, 53.9488,52.3479,51.2626,51.0125, 51.2353)
ORBIT_NUMBER = 5909
ORBITAL_ECCENTRICITY = 0.571
ORBITAL_INCLINATION = 86.75
ORBITAL_SEMIMAJOR_AXIS = 8696.86
PERIAPSIS_ALTITUDE = 343.5
PERIAPSIS_ARGUMENT_ANGLE = 39.09
PERIAPSIS_TIME = 2008-08-08T16:36:54.000Z
SPACECRAFT_ORIENTATION = (0.0,1.0,0.0)
^MEX_ORIENTATION_DESC = "MEX_ORIENTATION_DESC.TXT"
SPACECRAFT_POINTING_MODE = ACROSSTRACK
^MEX_POINTING_DESC = "MEX_POINTING_DESC.TXT"
RIGHT_ASCENSION = -1e+32
DECLINATION = -1e+32
OFFSET_ANGLE = 1.98
SPACECRAFT_SOLAR_DISTANCE = 2.43676e+08
TARGET_NAME = MARS
/* CAMERA DATA ELEMENTS */
DETECTOR_TEMPERATURE = 17.351
FOCAL_PLANE_TEMPERATURE = 7.9716
INST_CMPRS_NAME = "DISCRETE COSINE TRANSFORMATION (DCT)"
INST_CMPRS_RATIO = 8.79818
INST_CMPRS_QUALITY = 0
INST_CMPRS_QUANTZ_TBL_ID = 0
INSTRUMENT_TEMPERATURE = 11.234
LENS_TEMPERATURE = 8.1755
MACROPIXEL_SIZE = 2
MISSING_FRAMES = 1
PIXEL_SUBSAMPLING_FLAG = N
SIGNAL_CHAIN_ID = 3
/* RADIOMETRIC DATA ELEMENTS */
BANDWIDTH = 81.0
CENTER_FILTER_WAVELENGTH = 955.5
RADIANCE_OFFSET = 0.444151
RADIANCE_SCALING_FACTOR = 0.00748591
REFLECTANCE_SCALING_FACTOR = 0.000958946
MEX:REFLECTANCE_OFFSET = 0.0568958
/* IMAGE OBJECT DEFINITIONS */
OBJECT = IMAGE
  INTERCHANGE_FORMAT = BINARY
  LINES = 17538
  LINE_SAMPLES = 14044
  SAMPLE_TYPE = UNSIGNED_INTEGER
  SAMPLE_BITS = 8
  BANDS = 1
  BAND_STORAGE_TYPE = BAND_SEQUENTIAL
  MAXIMUM = 255
  MEAN = 122.084
  MINIMUM = 1
  STANDARD_DEVIATION = 41.7619
END_OBJECT = IMAGE
/* MAP OBJECT DEFINITIONS */
OBJECT = IMAGE_MAP_PROJECTION
  ^DATA_SET_MAP_PROJECTION_CATALOG= "DSMAP.CAT"
  A_AXIS_RADIUS = 3396.0
  B_AXIS_RADIUS = 3396.0
  C_AXIS_RADIUS = 3396.0
  CENTER_LATITUDE = 90.0
  CENTER_LONGITUDE = 0.0
  COORDINATE_SYSTEM_NAME = PLANETOGRAPHIC
  COORDINATE_SYSTEM_TYPE = "BODY-FIXED ROTATING"
  EASTERNMOST_LONGITUDE = 360.0
  FIRST_STANDARD_PARALLEL = "N/A"
  LINE_FIRST_PIXEL = 1
  LINE_LAST_PIXEL = 17538
  LINE_PROJECTION_OFFSET = 8069.75
  MAP_PROJECTION_ROTATION = 0.0
  MAP_PROJECTION_TYPE = STEREOGRAPHIC
  MAP_RESOLUTION = 1185.42760773333
  MAP_SCALE = 0.05
  MAXIMUM_LATITUDE = 90.0
  MINIMUM_LATITUDE = 80.07980000000001
  POSITIVE_LONGITUDE_DIRECTION = EAST
  REFERENCE_LATITUDE = "N/A"
  REFERENCE_LONGITUDE = "N/A"
  SAMPLE_FIRST_PIXEL = 1
  SAMPLE_LAST_PIXEL = 14044
  SAMPLE_PROJECTION_OFFSET = 4924.75
  SECOND_STANDARD_PARALLEL = "N/A"
  WESTERNMOST_LONGITUDE = 0.0
END_OBJECT = IMAGE_MAP_PROJECTION
END
