PDS_VERSION_ID = PDS3
/* FILE DATA ELEMENTS */
RECORD_TYPE = UNDEFINED
/* POINTERS TO DATA OBJECTS */
^IMAGE = ("H5909_0000_GR4.TIF")
/* IDENTIFICATION DATA ELEMENTS */
DATA_SET_ID = "MEX-M-HRSC-4-REFDR-MAPPROJECT-EXT2-V4.0"
DATA_SET_NAME = "MARS EXPRESS HRSC MAP PROJECTED REFDR EXTENSION2 V4.0"
DETECTOR_ID = MEX_HRSC_GREEN
EVENT_TYPE = "MARS-REGIONAL-VARIABLE-Gl-La-Ot"
INSTRUMENT_HOST_ID = MEX
INSTRUMENT_HOST_NAME = "MARS EXPRESS"
INSTRUMENT_ID = HRSC
INSTRUMENT_NAME = "HIGH RESOLUTION STEREO CAMERA"
MISSION_NAME = "MARS EXPRESS"
MISSION_PHASE_NAME = ME_Phase_14
PROCESSING_LEVEL_ID = 4
PRODUCT_CREATION_TIME = 2023-02-04T19:55:08.000Z
PRODUCT_ID = "H5909_0000_GR4.TIF"
RELEASE_ID = 0004
REVISION_ID = 0000
/* QUALITY DATA ELEMENTS */
DATA_QUALITY_ID = 1
DATA_QUALITY_DESC = "Data calculated based on original SPICE kernels"
/* TIME DATA ELEMENTS */
SPACECRAFT_CLOCK_START_COUNT = "1/0166294013.07275"
SPACECRAFT_CLOCK_STOP_COUNT = "1/0166294591.13117"
START_TIME = 2008-08-08T16:48:22.222Z
STOP_TIME = 2008-08-08T16:53:50.462Z
/* ORBITAL DATA ELEMENTS */
ASCENDING_NODE_LONGITUDE = 105.71
MAXIMUM_RESOLUTION = 0.0595
FOOTPRINT_POINT_LATITUDE = (80.0326,80.1178,80.1892,80.246,80.2871 ,80.3118,80.3172,80.3166,80.2904,80.84, 81.3944,81.9567,82.3821,82.9543,83.533, 84.1185,84.7107,85.309,85.9144,86.5255, 87.1412,87.4502,87.7596,88.0682,88.3747 ,88.6753,88.9648,89.2255,89.4143, 89.4484,89.3005,89.0502,88.7563,88.4417 ,88.1157,87.7821,87.4427,87.0997, 86.7567,86.4143,86.0725,85.7318,85.3921 ,85.0539,84.7165,84.3807,84.0464, 83.8795,83.8247,83.8762,83.8827,83.8726 ,83.8465,83.7482,83.5919,83.3839, 83.1299,83.1126,83.1072,83.4082,83.7074 ,84.0041,84.2979,84.5877,84.8726, 85.1514,85.4224,85.6846,85.9357,86.1713 ,86.3879,86.582,86.7499,86.8885,86.9943 ,87.0644,87.0975,87.0927,87.051,86.9745 ,86.8665,86.7307,86.5709,86.391,86.1942 ,85.7612,85.291,84.7959,84.2842,83.7627 ,83.2352,82.7045,82.0402,81.5088, 81.1111,80.7152,80.1895,80.0591, 80.0326)
FOOTPRINT_POINT_LONGITUDE = (50.5389,48.3409,46.0805,43.7572, 41.3811,38.9534,35.5364,35.3793,34.6111 ,34.4368,34.2023,33.95,33.7296,33.3849, 32.9748,32.4802,31.8727,31.1104,30.1027 ,28.7535,26.7891,25.439,23.7201,21.4184 ,18.2298,13.5278,6.15944,353.359, 330.131,296.286,268.292,252.387,243.469 ,238.026,234.395,231.837,229.925, 228.459,227.299,226.404,225.613,224.983 ,224.426,223.994,223.557,223.21,222.918 ,222.765,222.717,217.46,214.452,211.467 ,208.519,202.784,197.325,192.218, 187.493,187.211,187.106,185.923,184.617 ,183.17,181.562,179.769,177.761,175.505 ,172.965,170.089,166.827,163.144, 159.015,154.412,149.328,143.772,137.807 ,131.525,125.051,118.555,112.205, 106.143,100.47,95.2628,90.5421,86.2972, 82.4921,76.0814,70.9825,66.891,63.5675, 60.8365,58.5683,56.6541,54.662,53.3152, 52.4191,51.6125,50.6523,50.4313, 50.5389)
ORBIT_NUMBER = 5909
ORBITAL_ECCENTRICITY = 0.571
ORBITAL_INCLINATION = 86.75
ORBITAL_SEMIMAJOR_AXIS = 8696.86
PERIAPSIS_ALTITUDE = 343.5
PERIAPSIS_ARGUMENT_ANGLE = 39.09
PERIAPSIS_TIME = 2008-08-08T16:36:54.000Z
SPACECRAFT_ORIENTATION = (0.0,1.0,0.0)
^MEX_ORIENTATION_DESC = "MEX_ORIENTATION_DESC.TXT"
SPACECRAFT_POINTING_MODE = ACROSSTRACK
^MEX_POINTING_DESC = "MEX_POINTING_DESC.TXT"
RIGHT_ASCENSION = -1e+32
DECLINATION = -1e+32
OFFSET_ANGLE = 1.98
SPACECRAFT_SOLAR_DISTANCE = 2.43676e+08
TARGET_NAME = MARS
/* CAMERA DATA ELEMENTS */
DETECTOR_TEMPERATURE = 18.1666
FOCAL_PLANE_TEMPERATURE = 7.9716
INST_CMPRS_NAME = "DISCRETE COSINE TRANSFORMATION (DCT)"
INST_CMPRS_RATIO = 10.9787
INST_CMPRS_QUALITY = 0
INST_CMPRS_QUANTZ_TBL_ID = 0
INSTRUMENT_TEMPERATURE = 11.234
LENS_TEMPERATURE = 8.1755
MACROPIXEL_SIZE = 2
MISSING_FRAMES = 0
PIXEL_SUBSAMPLING_FLAG = N
SIGNAL_CHAIN_ID = 2
/* RADIOMETRIC DATA ELEMENTS */
BANDWIDTH = 88.0
CENTER_FILTER_WAVELENGTH = 538.0
RADIANCE_OFFSET = 0.666
RADIANCE_SCALING_FACTOR = 0.0184689
REFLECTANCE_SCALING_FACTOR = 0.000944173
MEX:REFLECTANCE_OFFSET = 0.0340474
/* IMAGE OBJECT DEFINITIONS */
OBJECT = IMAGE
  INTERCHANGE_FORMAT = BINARY
  LINES = 17538
  LINE_SAMPLES = 14044
  SAMPLE_TYPE = UNSIGNED_INTEGER
  SAMPLE_BITS = 8
  BANDS = 1
  BAND_STORAGE_TYPE = BAND_SEQUENTIAL
  MAXIMUM = 255
  MEAN = 113.117
  MINIMUM = 1
  STANDARD_DEVIATION = 46.5716
END_OBJECT = IMAGE
/* MAP OBJECT DEFINITIONS */
OBJECT = IMAGE_MAP_PROJECTION
  ^DATA_SET_MAP_PROJECTION_CATALOG= "DSMAP.CAT"
  A_AXIS_RADIUS = 3396.0
  B_AXIS_RADIUS = 3396.0
  C_AXIS_RADIUS = 3396.0
  CENTER_LATITUDE = 90.0
  CENTER_LONGITUDE = 0.0
  COORDINATE_SYSTEM_NAME = PLANETOGRAPHIC
  COORDINATE_SYSTEM_TYPE = "BODY-FIXED ROTATING"
  EASTERNMOST_LONGITUDE = 360.0
  FIRST_STANDARD_PARALLEL = "N/A"
  LINE_FIRST_PIXEL = 1
  LINE_LAST_PIXEL = 17538
  LINE_PROJECTION_OFFSET = 8069.75
  MAP_PROJECTION_ROTATION = 0.0
  MAP_PROJECTION_TYPE = STEREOGRAPHIC
  MAP_RESOLUTION = 1185.42760773333
  MAP_SCALE = 0.05
  MAXIMUM_LATITUDE = 90.0
  MINIMUM_LATITUDE = 80.0326
  POSITIVE_LONGITUDE_DIRECTION = EAST
  REFERENCE_LATITUDE = "N/A"
  REFERENCE_LONGITUDE = "N/A"
  SAMPLE_FIRST_PIXEL = 1
  SAMPLE_LAST_PIXEL = 14044
  SAMPLE_PROJECTION_OFFSET = 4924.75
  SECOND_STANDARD_PARALLEL = "N/A"
  WESTERNMOST_LONGITUDE = 0.0
END_OBJECT = IMAGE_MAP_PROJECTION
END
