PDS_VERSION_ID = PDS3
/* FILE DATA ELEMENTS */
RECORD_TYPE = UNDEFINED
/* POINTERS TO DATA OBJECTS */
^IMAGE = ("H5858_0000_P24.TIF")
/* IDENTIFICATION DATA ELEMENTS */
DATA_SET_ID = "MEX-M-HRSC-4-REFDR-MAPPROJECT-EXT2-V4.0"
DATA_SET_NAME = "MARS EXPRESS HRSC MAP PROJECTED REFDR EXTENSION2 V4.0"
DETECTOR_ID = MEX_HRSC_P2
EVENT_TYPE = "MARS-REGIONAL-MAPPING-Im-Pf"
INSTRUMENT_HOST_ID = MEX
INSTRUMENT_HOST_NAME = "MARS EXPRESS"
INSTRUMENT_ID = HRSC
INSTRUMENT_NAME = "HIGH RESOLUTION STEREO CAMERA"
MISSION_NAME = "MARS EXPRESS"
MISSION_PHASE_NAME = ME_Phase_14
PROCESSING_LEVEL_ID = 4
PRODUCT_CREATION_TIME = 2023-02-04T19:55:08.000Z
PRODUCT_ID = "H5858_0000_P24.TIF"
RELEASE_ID = 0004
REVISION_ID = 0000
/* QUALITY DATA ELEMENTS */
DATA_QUALITY_ID = 1
DATA_QUALITY_DESC = "Data calculated based on original SPICE kernels"
/* TIME DATA ELEMENTS */
SPACECRAFT_CLOCK_START_COUNT = "1/0165037534.09122"
SPACECRAFT_CLOCK_STOP_COUNT = "1/0165038075.34259"
START_TIME = 2008-07-25T03:46:11.063Z
STOP_TIME = 2008-07-25T03:48:56.626Z
/* ORBITAL DATA ELEMENTS */
ASCENDING_NODE_LONGITUDE = 106.73
MAXIMUM_RESOLUTION = 0.0755
FOOTPRINT_POINT_LATITUDE = (77.8303,77.9362,78.0253,78.1303,78.209 ,78.2831,78.3523,78.4165,78.4966, 78.5489,78.5962,78.6383,78.6751,78.6793 ,78.5755,78.1758,77.9337,77.609,77.2818 ,77.0354,76.7041,76.3705,76.034,75.6953 ,75.3537,75.01,74.8368,74.6634,74.4891, 74.2264,74.0504,73.8736,73.6086,73.344, 73.1679,72.9039,72.7283,72.5529,72.3778 ,72.203,72.0285,71.8542,71.6802,71.5065 ,71.333,71.1597,70.8139,70.4691,70.1253 ,70.0394,70.0006,69.9879,69.9713, 69.9571,69.9304,69.903,69.8764,69.8521, 69.8094,69.7555,69.7024,69.6292,69.5737 ,69.5141,69.4419,69.4325,69.4302, 69.7657,70.186,70.523,70.7767,71.1152, 71.4545,71.7945,71.9647,72.1352,72.3057 ,72.4765,72.6474,72.8186,72.9897, 73.1611,73.3327,73.5028,73.7575,73.9263 ,74.261,74.593,74.8395,75.1666,75.4098, 75.8114,76.129,76.3654,76.6008,76.9888, 77.295,77.5986,77.6739,77.8303)
FOOTPRINT_POINT_LONGITUDE = (256.706,257.91,258.995,260.373,261.491 ,262.625,263.773,264.934,266.55,267.74, 268.942,270.156,271.379,271.533,271.915 ,272.245,272.435,272.676,272.905,273.07 ,273.281,273.482,273.675,273.858, 274.035,274.203,274.285,274.365,274.442 ,274.557,274.631,274.704,274.809, 274.911,274.977,275.073,275.135,275.195 ,275.254,275.311,275.368,275.422, 275.476,275.528,275.579,275.629,275.725 ,275.817,275.905,275.927,275.936, 275.153,274.367,273.807,272.915,272.138 ,271.474,270.922,270.042,269.056, 268.184,267.102,266.348,265.598,264.744 ,264.638,264.599,264.424,264.194, 264.001,263.85,263.641,263.422,263.192, 263.073,262.951,262.827,262.699,262.568 ,262.434,262.296,262.155,262.011, 261.864,261.638,261.484,261.165,260.834 ,260.576,260.22,259.943,259.462,259.058 ,258.744,258.419,257.853,257.378, 256.881,256.753,256.706)
ORBIT_NUMBER = 5858
ORBITAL_ECCENTRICITY = 0.57
ORBITAL_INCLINATION = 86.75
ORBITAL_SEMIMAJOR_AXIS = 8684.53
PERIAPSIS_ALTITUDE = 349.21
PERIAPSIS_ARGUMENT_ANGLE = 48.01
PERIAPSIS_TIME = 2008-07-25T03:32:12.000Z
SPACECRAFT_ORIENTATION = (0.0,1.0,0.0)
^MEX_ORIENTATION_DESC = "MEX_ORIENTATION_DESC.TXT"
SPACECRAFT_POINTING_MODE = NADIR
^MEX_POINTING_DESC = "MEX_POINTING_DESC.TXT"
RIGHT_ASCENSION = -1e+32
DECLINATION = -1e+32
OFFSET_ANGLE = -1e+32
SPACECRAFT_SOLAR_DISTANCE = 2.45328e+08
TARGET_NAME = MARS
/* CAMERA DATA ELEMENTS */
DETECTOR_TEMPERATURE = 18.3705
FOCAL_PLANE_TEMPERATURE = 7.5638
INST_CMPRS_NAME = "DISCRETE COSINE TRANSFORMATION (DCT)"
INST_CMPRS_RATIO = 8.28606
INST_CMPRS_QUALITY = 0
INST_CMPRS_QUANTZ_TBL_ID = 0
INSTRUMENT_TEMPERATURE = 10.8262
LENS_TEMPERATURE = 7.9716
MACROPIXEL_SIZE = 2
MISSING_FRAMES = 0
PIXEL_SUBSAMPLING_FLAG = N
SIGNAL_CHAIN_ID = 3
/* RADIOMETRIC DATA ELEMENTS */
BANDWIDTH = 177.0
CENTER_FILTER_WAVELENGTH = 676.5
RADIANCE_OFFSET = 1.9905
RADIANCE_SCALING_FACTOR = 0.0210759
REFLECTANCE_SCALING_FACTOR = 0.00067256
MEX:REFLECTANCE_OFFSET = 0.0635196
/* IMAGE OBJECT DEFINITIONS */
OBJECT = IMAGE
  INTERCHANGE_FORMAT = BINARY
  LINES = 5443
  LINE_SAMPLES = 3244
  SAMPLE_TYPE = UNSIGNED_INTEGER
  SAMPLE_BITS = 8
  BANDS = 1
  BAND_STORAGE_TYPE = BAND_SEQUENTIAL
  MAXIMUM = 255
  MEAN = 104.257
  MINIMUM = 1
  STANDARD_DEVIATION = 40.4983
END_OBJECT = IMAGE
/* MAP OBJECT DEFINITIONS */
OBJECT = IMAGE_MAP_PROJECTION
  ^DATA_SET_MAP_PROJECTION_CATALOG= "DSMAP.CAT"
  A_AXIS_RADIUS = 3396.0
  B_AXIS_RADIUS = 3396.0
  C_AXIS_RADIUS = 3396.0
  CENTER_LATITUDE = 0.0
  CENTER_LONGITUDE = 268.0
  COORDINATE_SYSTEM_NAME = PLANETOGRAPHIC
  COORDINATE_SYSTEM_TYPE = "BODY-FIXED ROTATING"
  EASTERNMOST_LONGITUDE = 275.936
  FIRST_STANDARD_PARALLEL = "N/A"
  LINE_FIRST_PIXEL = 1
  LINE_LAST_PIXEL = 5443
  LINE_PROJECTION_OFFSET = 46586.25
  MAP_PROJECTION_ROTATION = 0.0
  MAP_PROJECTION_TYPE = SINUSOIDAL
  MAP_RESOLUTION = 592.713803866667
  MAP_SCALE = 0.1
  MAXIMUM_LATITUDE = 78.6793
  MINIMUM_LATITUDE = 69.4302
  POSITIVE_LONGITUDE_DIRECTION = EAST
  REFERENCE_LATITUDE = "N/A"
  REFERENCE_LONGITUDE = "N/A"
  SAMPLE_FIRST_PIXEL = 1
  SAMPLE_LAST_PIXEL = 3244
  SAMPLE_PROJECTION_OFFSET = 1528.25
  SECOND_STANDARD_PARALLEL = "N/A"
  WESTERNMOST_LONGITUDE = 256.706
END_OBJECT = IMAGE_MAP_PROJECTION
END
