PDS_VERSION_ID = PDS3
/* FILE DATA ELEMENTS */
RECORD_TYPE = UNDEFINED
/* POINTERS TO DATA OBJECTS */
^IMAGE = ("H5831_0000_S24.TIF")
/* IDENTIFICATION DATA ELEMENTS */
DATA_SET_ID = "MEX-M-HRSC-4-REFDR-MAPPROJECT-EXT2-V4.0"
DATA_SET_NAME = "MARS EXPRESS HRSC MAP PROJECTED REFDR EXTENSION2 V4.0"
DETECTOR_ID = MEX_HRSC_S2
EVENT_TYPE = "MARS-LOCAL-STEREO-Vo-Fl-La"
INSTRUMENT_HOST_ID = MEX
INSTRUMENT_HOST_NAME = "MARS EXPRESS"
INSTRUMENT_ID = HRSC
INSTRUMENT_NAME = "HIGH RESOLUTION STEREO CAMERA"
MISSION_NAME = "MARS EXPRESS"
MISSION_PHASE_NAME = ME_Phase_14
PROCESSING_LEVEL_ID = 4
PRODUCT_CREATION_TIME = 2023-02-04T19:55:08.000Z
PRODUCT_ID = "H5831_0000_S24.TIF"
RELEASE_ID = 0004
REVISION_ID = 0000
/* QUALITY DATA ELEMENTS */
DATA_QUALITY_ID = 1
DATA_QUALITY_DESC = "Data calculated based on original SPICE kernels"
/* TIME DATA ELEMENTS */
SPACECRAFT_CLOCK_START_COUNT = "1/0164371796.08243"
SPACECRAFT_CLOCK_STOP_COUNT = "1/0164372095.31661"
START_TIME = 2008-07-17T10:49:59.659Z
STOP_TIME = 2008-07-17T10:52:38.276Z
/* ORBITAL DATA ELEMENTS */
ASCENDING_NODE_LONGITUDE = 107.27
MAXIMUM_RESOLUTION = 0.0203
FOOTPRINT_POINT_LATITUDE = (78.0412,78.1405,78.2186,78.2917, 78.3599,78.4232,78.4851,78.4886,78.6406 ,78.9061,79.2607,79.6209,79.9798, 80.4321,80.7951,81.2517,81.4356,81.7105 ,81.8931,82.1715,82.3563,82.5389, 82.8158,83.0002,83.1846,83.4589,83.6448 ,83.9178,84.0998,84.282,84.4659,84.7345 ,84.9098,85.0877,85.3495,85.5196, 85.6909,85.8572,86.0155,86.171,86.3965, 86.5381,86.7354,86.8553,86.9643,87.1051 ,87.1449,87.1551,86.9606,86.665,86.4657 ,86.1452,85.9432,85.7195,85.392,85.1436 ,85.1229,85.1127,85.0551,85.0033, 84.9101,84.7986,84.7151,84.624,84.5257, 84.4226,84.313,84.197,84.077,83.8885, 83.757,83.6219,83.4846,83.3438,83.1994, 83.0529,82.9051,82.7544,82.6008,82.4463 ,82.2911,82.1339,81.9747,81.8148, 81.6551,81.4941,81.3315,81.086,80.9232, 80.7594,80.5942,80.345,79.9312,79.5129, 79.2641,78.8457,78.512,78.2624,78.179, 78.0412)
FOOTPRINT_POINT_LONGITUDE = (306.486,305.083,303.892,302.693, 301.488,300.276,298.979,298.903,298.97, 299.297,299.759,300.263,300.804,301.546 ,302.198,303.099,303.491,304.112, 304.549,305.258,305.759,306.282,307.128 ,307.734,308.374,309.402,310.152, 311.353,312.222,313.154,314.164,315.794 ,316.971,318.265,320.39,321.94,323.658, 325.509,327.48,329.642,333.285,335.975, 340.46,343.769,347.337,353.236,355.331, 355.922,357.199,358.84,359.746,361.059, 361.801,362.529,363.471,364.146,364.196 ,364.216,360.329,357.907,354.387, 350.897,348.702,346.592,344.557,342.669 ,340.793,338.976,337.279,334.851, 333.321,331.866,330.489,329.177,327.919 ,326.721,325.588,324.501,323.454, 322.462,321.519,320.617,319.751,318.924 ,318.139,317.387,316.663,315.629, 314.983,314.361,313.759,312.898,311.575 ,310.363,309.693,308.644,307.869, 307.322,307.145,306.486)
ORBIT_NUMBER = 5831
ORBITAL_ECCENTRICITY = 0.569
ORBITAL_INCLINATION = 86.76
ORBITAL_SEMIMAJOR_AXIS = 8670.17
PERIAPSIS_ALTITUDE = 350.95
PERIAPSIS_ARGUMENT_ANGLE = 52.77
PERIAPSIS_TIME = 2008-07-17T10:43:52.000Z
SPACECRAFT_ORIENTATION = (0.0,1.0,0.0)
^MEX_ORIENTATION_DESC = "MEX_ORIENTATION_DESC.TXT"
SPACECRAFT_POINTING_MODE = ACROSSTRACK
^MEX_POINTING_DESC = "MEX_POINTING_DESC.TXT"
RIGHT_ASCENSION = -1e+32
DECLINATION = -1e+32
OFFSET_ANGLE = -0.5
SPACECRAFT_SOLAR_DISTANCE = 2.46092e+08
TARGET_NAME = MARS
/* CAMERA DATA ELEMENTS */
DETECTOR_TEMPERATURE = 17.7588
FOCAL_PLANE_TEMPERATURE = 7.5638
INST_CMPRS_NAME = "DISCRETE COSINE TRANSFORMATION (DCT)"
INST_CMPRS_RATIO = 7.6144
INST_CMPRS_QUALITY = 0
INST_CMPRS_QUANTZ_TBL_ID = 0
INSTRUMENT_TEMPERATURE = 10.8262
LENS_TEMPERATURE = 7.9716
MACROPIXEL_SIZE = 1
MISSING_FRAMES = 0
PIXEL_SUBSAMPLING_FLAG = N
SIGNAL_CHAIN_ID = 1
/* RADIOMETRIC DATA ELEMENTS */
BANDWIDTH = 178.0
CENTER_FILTER_WAVELENGTH = 679.0
RADIANCE_OFFSET = 1.35867
RADIANCE_SCALING_FACTOR = 0.0257004
REFLECTANCE_SCALING_FACTOR = 0.000824258
MEX:REFLECTANCE_OFFSET = 0.0435751
/* IMAGE OBJECT DEFINITIONS */
OBJECT = IMAGE
  INTERCHANGE_FORMAT = BINARY
  LINES = 21669
  LINE_SAMPLES = 17648
  SAMPLE_TYPE = UNSIGNED_INTEGER
  SAMPLE_BITS = 8
  BANDS = 1
  BAND_STORAGE_TYPE = BAND_SEQUENTIAL
  MAXIMUM = 254
  MEAN = 92.0532
  MINIMUM = 1
  STANDARD_DEVIATION = 50.4193
END_OBJECT = IMAGE
/* MAP OBJECT DEFINITIONS */
OBJECT = IMAGE_MAP_PROJECTION
  ^DATA_SET_MAP_PROJECTION_CATALOG= "DSMAP.CAT"
  A_AXIS_RADIUS = 3396.0
  B_AXIS_RADIUS = 3396.0
  C_AXIS_RADIUS = 3396.0
  CENTER_LATITUDE = 0.0
  CENTER_LONGITUDE = 315.0
  COORDINATE_SYSTEM_NAME = PLANETOGRAPHIC
  COORDINATE_SYSTEM_TYPE = "BODY-FIXED ROTATING"
  EASTERNMOST_LONGITUDE = 4.216
  FIRST_STANDARD_PARALLEL = "N/A"
  LINE_FIRST_PIXEL = 1
  LINE_LAST_PIXEL = 21669
  LINE_PROJECTION_OFFSET = 206827.0
  MAP_PROJECTION_ROTATION = 0.0
  MAP_PROJECTION_TYPE = SINUSOIDAL
  MAP_RESOLUTION = 2370.85521546667
  MAP_SCALE = 0.025
  MAXIMUM_LATITUDE = 87.1551
  MINIMUM_LATITUDE = 78.0412
  POSITIVE_LONGITUDE_DIRECTION = EAST
  REFERENCE_LATITUDE = "N/A"
  REFERENCE_LONGITUDE = "N/A"
  SAMPLE_FIRST_PIXEL = 1
  SAMPLE_LAST_PIXEL = 17648
  SAMPLE_PROJECTION_OFFSET = 7562.0
  SECOND_STANDARD_PARALLEL = "N/A"
  WESTERNMOST_LONGITUDE = -61.097
END_OBJECT = IMAGE_MAP_PROJECTION
END
