PDS_VERSION_ID = PDS3
/* FILE DATA ELEMENTS */
RECORD_TYPE = UNDEFINED
/* POINTERS TO DATA OBJECTS */
^IMAGE = ("H5829_0000_RE4.TIF")
/* IDENTIFICATION DATA ELEMENTS */
DATA_SET_ID = "MEX-M-HRSC-4-REFDR-MAPPROJECT-EXT2-V4.0"
DATA_SET_NAME = "MARS EXPRESS HRSC MAP PROJECTED REFDR EXTENSION2 V4.0"
DETECTOR_ID = MEX_HRSC_RED
EVENT_TYPE = "MARS-LOCAL-STEREO-Vo-Fl-La"
INSTRUMENT_HOST_ID = MEX
INSTRUMENT_HOST_NAME = "MARS EXPRESS"
INSTRUMENT_ID = HRSC
INSTRUMENT_NAME = "HIGH RESOLUTION STEREO CAMERA"
MISSION_NAME = "MARS EXPRESS"
MISSION_PHASE_NAME = ME_Phase_14
PROCESSING_LEVEL_ID = 4
PRODUCT_CREATION_TIME = 2023-02-04T19:55:08.000Z
PRODUCT_ID = "H5829_0000_RE4.TIF"
RELEASE_ID = 0004
REVISION_ID = 0000
/* QUALITY DATA ELEMENTS */
DATA_QUALITY_ID = 1
DATA_QUALITY_DESC = "Data calculated based on original SPICE kernels"
/* TIME DATA ELEMENTS */
SPACECRAFT_CLOCK_START_COUNT = "1/0164322762.09068"
SPACECRAFT_CLOCK_STOP_COUNT = "1/0164323192.45561"
START_TIME = 2008-07-16T21:12:57.477Z
STOP_TIME = 2008-07-16T21:15:54.185Z
/* ORBITAL DATA ELEMENTS */
ASCENDING_NODE_LONGITUDE = 107.31
MAXIMUM_RESOLUTION = 0.1151
FOOTPRINT_POINT_LATITUDE = (82.2153,82.3938,82.6704,82.9356, 83.1891,83.4298,83.6575,83.8719,83.8848 ,83.7797,83.389,83.0663,82.7366,82.3119 ,81.9633,81.6953,81.3376,80.9736, 80.6018,80.3199,80.0335,79.6477,79.4531 ,79.2568,79.0602,78.7608,78.5608, 78.3583,78.1554,77.9524,77.7493,77.5462 ,77.343,77.1401,76.937,76.7338,76.5307, 76.3278,76.1248,75.9221,75.7193,75.5167 ,75.3143,75.1123,74.8098,74.6066, 74.4048,74.3039,74.2856,74.2348,74.1798 ,74.1211,74.059,73.9936,73.9244,73.8516 ,73.765,73.6534,73.568,73.4787,73.3136, 73.3013,73.299,73.4932,73.6874,73.8817, 74.076,74.2698,74.464,74.7546,74.9484, 75.1421,75.3354,75.5287,75.7218,75.9145 ,76.1068,76.2991,76.491,76.6826,76.8736 ,77.1595,77.3493,77.5368,77.8158, 77.9994,78.3613,78.629,78.9798,79.4072, 79.7405,80.066,80.3052,80.6936,81.0693, 81.3603,81.7074,81.9726,82.0374, 82.2153)
FOOTPRINT_POINT_LONGITUDE = (254.752,255.832,257.649,259.589, 261.659,263.864,266.214,268.719,268.881 ,269.513,271.875,273.583,275.145, 276.926,278.226,279.14,280.264,281.306, 282.277,282.959,283.608,284.421,284.807 ,285.18,285.54,286.061,286.393,286.716, 287.028,287.329,287.619,287.899,288.17, 288.431,288.683,288.927,289.164,289.392 ,289.613,289.828,290.035,290.237, 290.432,290.621,290.894,291.07,291.241, 291.324,291.34,290.525,289.707,288.892, 288.082,287.275,286.472,285.672,284.777 ,283.69,282.905,282.125,280.77,280.674, 280.64,280.409,280.172,279.929,279.678, 279.42,279.155,278.743,278.459,278.166, 277.864,277.553,277.232,276.902,276.561 ,276.21,275.847,275.473,275.087,274.484 ,274.066,273.639,272.973,272.516, 271.561,270.808,269.754,268.35,267.154, 265.887,264.886,263.116,261.21,259.581, 257.406,255.548,255.066,254.752)
ORBIT_NUMBER = 5829
ORBITAL_ECCENTRICITY = 0.569
ORBITAL_INCLINATION = 86.75
ORBITAL_SEMIMAJOR_AXIS = 8672.77
PERIAPSIS_ALTITUDE = 351.91
PERIAPSIS_ARGUMENT_ANGLE = 53.13
PERIAPSIS_TIME = 2008-07-16T21:02:28.000Z
SPACECRAFT_ORIENTATION = (0.0,1.0,0.0)
^MEX_ORIENTATION_DESC = "MEX_ORIENTATION_DESC.TXT"
SPACECRAFT_POINTING_MODE = ACROSSTRACK
^MEX_POINTING_DESC = "MEX_POINTING_DESC.TXT"
RIGHT_ASCENSION = -1e+32
DECLINATION = -1e+32
OFFSET_ANGLE = -1.374
SPACECRAFT_SOLAR_DISTANCE = 2.46145e+08
TARGET_NAME = MARS
/* CAMERA DATA ELEMENTS */
DETECTOR_TEMPERATURE = 18.1666
FOCAL_PLANE_TEMPERATURE = 7.7677
INST_CMPRS_NAME = "DISCRETE COSINE TRANSFORMATION (DCT)"
INST_CMPRS_RATIO = 21.4658
INST_CMPRS_QUALITY = 0
INST_CMPRS_QUANTZ_TBL_ID = 0
INSTRUMENT_TEMPERATURE = 10.8262
LENS_TEMPERATURE = 8.1755
MACROPIXEL_SIZE = 4
MISSING_FRAMES = 0
PIXEL_SUBSAMPLING_FLAG = N
SIGNAL_CHAIN_ID = 2
/* RADIOMETRIC DATA ELEMENTS */
BANDWIDTH = 48.0
CENTER_FILTER_WAVELENGTH = 748.0
RADIANCE_OFFSET = 0.518741
RADIANCE_SCALING_FACTOR = 0.00502587
REFLECTANCE_SCALING_FACTOR = 0.000694897
MEX:REFLECTANCE_OFFSET = 0.0717233
/* IMAGE OBJECT DEFINITIONS */
OBJECT = IMAGE
  INTERCHANGE_FORMAT = BINARY
  LINES = 6199
  LINE_SAMPLES = 4136
  SAMPLE_TYPE = UNSIGNED_INTEGER
  SAMPLE_BITS = 8
  BANDS = 1
  BAND_STORAGE_TYPE = BAND_SEQUENTIAL
  MAXIMUM = 255
  MEAN = 76.6828
  MINIMUM = 1
  STANDARD_DEVIATION = 65.1439
END_OBJECT = IMAGE
/* MAP OBJECT DEFINITIONS */
OBJECT = IMAGE_MAP_PROJECTION
  ^DATA_SET_MAP_PROJECTION_CATALOG= "DSMAP.CAT"
  A_AXIS_RADIUS = 3396.0
  B_AXIS_RADIUS = 3396.0
  C_AXIS_RADIUS = 3396.0
  CENTER_LATITUDE = 0.0
  CENTER_LONGITUDE = 279.0
  COORDINATE_SYSTEM_NAME = PLANETOGRAPHIC
  COORDINATE_SYSTEM_TYPE = "BODY-FIXED ROTATING"
  EASTERNMOST_LONGITUDE = 291.34
  FIRST_STANDARD_PARALLEL = "N/A"
  LINE_FIRST_PIXEL = 1
  LINE_LAST_PIXEL = 6199
  LINE_PROJECTION_OFFSET = 49670.875
  MAP_PROJECTION_ROTATION = 0.0
  MAP_PROJECTION_TYPE = SINUSOIDAL
  MAP_RESOLUTION = 592.713803866667
  MAP_SCALE = 0.1
  MAXIMUM_LATITUDE = 83.8848
  MINIMUM_LATITUDE = 73.29900000000001
  POSITIVE_LONGITUDE_DIRECTION = EAST
  REFERENCE_LATITUDE = "N/A"
  REFERENCE_LONGITUDE = "N/A"
  SAMPLE_FIRST_PIXEL = 1
  SAMPLE_LAST_PIXEL = 4136
  SAMPLE_PROJECTION_OFFSET = 2051.875
  SECOND_STANDARD_PARALLEL = "N/A"
  WESTERNMOST_LONGITUDE = 254.752
END_OBJECT = IMAGE_MAP_PROJECTION
END
