PDS_VERSION_ID = PDS3
/* FILE DATA ELEMENTS */
RECORD_TYPE = UNDEFINED
/* POINTERS TO DATA OBJECTS */
^IMAGE = ("H5823_0000_RE4.TIF")
/* IDENTIFICATION DATA ELEMENTS */
DATA_SET_ID = "MEX-M-HRSC-4-REFDR-MAPPROJECT-EXT2-V4.0"
DATA_SET_NAME = "MARS EXPRESS HRSC MAP PROJECTED REFDR EXTENSION2 V4.0"
DETECTOR_ID = MEX_HRSC_RED
EVENT_TYPE = "MARS-LOCAL-CARTOGRAPHY-Gl-La-Ot"
INSTRUMENT_HOST_ID = MEX
INSTRUMENT_HOST_NAME = "MARS EXPRESS"
INSTRUMENT_ID = HRSC
INSTRUMENT_NAME = "HIGH RESOLUTION STEREO CAMERA"
MISSION_NAME = "MARS EXPRESS"
MISSION_PHASE_NAME = ME_Phase_14
PROCESSING_LEVEL_ID = 4
PRODUCT_CREATION_TIME = 2023-02-04T19:55:08.000Z
PRODUCT_ID = "H5823_0000_RE4.TIF"
RELEASE_ID = 0004
REVISION_ID = 0000
/* QUALITY DATA ELEMENTS */
DATA_QUALITY_ID = 1
DATA_QUALITY_DESC = "Data calculated based on original SPICE kernels"
/* TIME DATA ELEMENTS */
SPACECRAFT_CLOCK_START_COUNT = "1/0164174685.07294"
SPACECRAFT_CLOCK_STOP_COUNT = "1/0164175041.43176"
START_TIME = 2008-07-15T04:04:55.401Z
STOP_TIME = 2008-07-15T04:08:36.686Z
/* ORBITAL DATA ELEMENTS */
ASCENDING_NODE_LONGITUDE = 107.43
MAXIMUM_RESOLUTION = 0.0414
FOOTPRINT_POINT_LATITUDE = (79.9506,80.012,80.0451,80.0492,80.0393 ,80.0384,80.0631,80.5956,81.2622, 81.8036,82.3456,82.8927,83.4422,83.7174 ,83.9913,84.2679,84.543,84.8158,85.0895 ,85.361,85.6285,85.8951,86.1563,86.4103 ,86.6579,86.8954,87.1182,87.3232, 87.5831,87.7169,87.809,87.8538,87.8465, 87.7352,87.6003,87.4252,87.0943,86.8454 ,86.5732,86.2769,85.9759,85.6574, 85.3263,84.9841,84.4521,84.0921,83.7262 ,83.3505,83.1619,83.1469,83.4048,83.606 ,83.7684,83.9258,84.005,84.051,84.0528, 84.0545,84.4419,84.8257,85.2039,85.7753 ,86.1455,86.5116,87.055,87.5885,87.9396 ,88.284,88.6236,88.9525,89.2663,89.5329 ,89.645,89.4933,89.2226,88.9203,88.6113 ,88.1398,87.8269,87.5134,87.205,86.8946 ,86.5867,86.1307,85.8266,85.5281, 85.2289,84.9313,84.6391,84.345,83.7638, 83.0451,82.4803,81.9212,81.3683,80.8222 ,80.1457,80.0116,79.9506)
FOOTPRINT_POINT_LONGITUDE = (10.8165,7.67388,4.31152,2.54739, 0.0233621,359.906,358.562,357.896, 356.984,356.076,355.018,353.765,352.273 ,351.416,350.473,349.406,348.231, 346.928,345.479,343.933,342.166,340.065 ,337.695,334.943,331.669,328.063, 323.705,318.593,309.337,302.044,293.956 ,285.199,276.274,263.299,255.532, 248.611,239.965,235.211,231.153,227.718 ,224.722,222.164,219.941,218.025, 215.576,214.153,212.89,211.759,211.239, 211.199,207.149,203.22,199.212,193.88, 189.823,185.812,185.563,185.473,185.229 ,184.956,184.665,183.986,183.512, 182.959,181.84,180.272,178.813,176.776, 173.777,168.905,159.763,139.327,93.5089 ,52.7264,35.487,27.551,23.1363,19.3572, 17.7574,16.5496,15.6133,14.896,14.294, 13.568,13.1802,12.839,12.5487,12.2865, 12.0414,11.847,11.505,11.1645,10.937, 10.7394,10.5632,10.405,10.2296,10.199, 10.8165)
ORBIT_NUMBER = 5823
ORBITAL_ECCENTRICITY = 0.569
ORBITAL_INCLINATION = 86.74
ORBITAL_SEMIMAJOR_AXIS = 8669.24
PERIAPSIS_ALTITUDE = 352.63
PERIAPSIS_ARGUMENT_ANGLE = 54.16
PERIAPSIS_TIME = 2008-07-15T03:58:21.000Z
SPACECRAFT_ORIENTATION = (0.0,1.0,0.0)
^MEX_ORIENTATION_DESC = "MEX_ORIENTATION_DESC.TXT"
SPACECRAFT_POINTING_MODE = INERT
^MEX_POINTING_DESC = "MEX_POINTING_DESC.TXT"
RIGHT_ASCENSION = 61.568
DECLINATION = -76.945
OFFSET_ANGLE = -1e+32
SPACECRAFT_SOLAR_DISTANCE = 2.46303e+08
TARGET_NAME = MARS
/* CAMERA DATA ELEMENTS */
DETECTOR_TEMPERATURE = 18.1666
FOCAL_PLANE_TEMPERATURE = 7.3599
INST_CMPRS_NAME = "DISCRETE COSINE TRANSFORMATION (DCT)"
INST_CMPRS_RATIO = 8.63426
INST_CMPRS_QUALITY = 0
INST_CMPRS_QUANTZ_TBL_ID = 0
INSTRUMENT_TEMPERATURE = 10.8262
LENS_TEMPERATURE = 7.7677
MACROPIXEL_SIZE = 2
MISSING_FRAMES = 0
PIXEL_SUBSAMPLING_FLAG = N
SIGNAL_CHAIN_ID = 3
/* RADIOMETRIC DATA ELEMENTS */
BANDWIDTH = 48.0
CENTER_FILTER_WAVELENGTH = 748.0
RADIANCE_OFFSET = 0.70705
RADIANCE_SCALING_FACTOR = 0.00806617
REFLECTANCE_SCALING_FACTOR = 0.00111669
MEX:REFLECTANCE_OFFSET = 0.0978847
/* IMAGE OBJECT DEFINITIONS */
OBJECT = IMAGE
  INTERCHANGE_FORMAT = BINARY
  LINES = 19234
  LINE_SAMPLES = 6203
  SAMPLE_TYPE = UNSIGNED_INTEGER
  SAMPLE_BITS = 8
  BANDS = 1
  BAND_STORAGE_TYPE = BAND_SEQUENTIAL
  MAXIMUM = 255
  MEAN = 128.168
  MINIMUM = 1
  STANDARD_DEVIATION = 48.6161
END_OBJECT = IMAGE
/* MAP OBJECT DEFINITIONS */
OBJECT = IMAGE_MAP_PROJECTION
  ^DATA_SET_MAP_PROJECTION_CATALOG= "DSMAP.CAT"
  A_AXIS_RADIUS = 3396.0
  B_AXIS_RADIUS = 3396.0
  C_AXIS_RADIUS = 3396.0
  CENTER_LATITUDE = 90.0
  CENTER_LONGITUDE = 0.0
  COORDINATE_SYSTEM_NAME = PLANETOGRAPHIC
  COORDINATE_SYSTEM_TYPE = "BODY-FIXED ROTATING"
  EASTERNMOST_LONGITUDE = 360.0
  FIRST_STANDARD_PARALLEL = "N/A"
  LINE_FIRST_PIXEL = 1
  LINE_LAST_PIXEL = 19234
  LINE_PROJECTION_OFFSET = 7230.75
  MAP_PROJECTION_ROTATION = 0.0
  MAP_PROJECTION_TYPE = STEREOGRAPHIC
  MAP_RESOLUTION = 1185.42760773333
  MAP_SCALE = 0.05
  MAXIMUM_LATITUDE = 90.0
  MINIMUM_LATITUDE = 79.95059999999999
  POSITIVE_LONGITUDE_DIRECTION = EAST
  REFERENCE_LATITUDE = "N/A"
  REFERENCE_LONGITUDE = "N/A"
  SAMPLE_FIRST_PIXEL = 1
  SAMPLE_LAST_PIXEL = 6203
  SAMPLE_PROJECTION_OFFSET = 4179.25
  SECOND_STANDARD_PARALLEL = "N/A"
  WESTERNMOST_LONGITUDE = 0.0
END_OBJECT = IMAGE_MAP_PROJECTION
END
