PDS_VERSION_ID = PDS3
/* FILE DATA ELEMENTS */
RECORD_TYPE = UNDEFINED
/* POINTERS TO DATA OBJECTS */
^IMAGE = ("H5818_0000_GR4.TIF")
/* IDENTIFICATION DATA ELEMENTS */
DATA_SET_ID = "MEX-M-HRSC-4-REFDR-MAPPROJECT-EXT2-V4.0"
DATA_SET_NAME = "MARS EXPRESS HRSC MAP PROJECTED REFDR EXTENSION2 V4.0"
DETECTOR_ID = MEX_HRSC_GREEN
EVENT_TYPE = "MARS-LOCAL-MAPPING-Vo-Fl-La"
INSTRUMENT_HOST_ID = MEX
INSTRUMENT_HOST_NAME = "MARS EXPRESS"
INSTRUMENT_ID = HRSC
INSTRUMENT_NAME = "HIGH RESOLUTION STEREO CAMERA"
MISSION_NAME = "MARS EXPRESS"
MISSION_PHASE_NAME = ME_Phase_14
PROCESSING_LEVEL_ID = 4
PRODUCT_CREATION_TIME = 2023-02-04T19:55:08.000Z
PRODUCT_ID = "H5818_0000_GR4.TIF"
RELEASE_ID = 0004
REVISION_ID = 0000
/* QUALITY DATA ELEMENTS */
DATA_QUALITY_ID = 1
DATA_QUALITY_DESC = "Data calculated based on original SPICE kernels"
/* TIME DATA ELEMENTS */
SPACECRAFT_CLOCK_START_COUNT = "1/0164051641.07297"
SPACECRAFT_CLOCK_STOP_COUNT = "1/0164052070.23810"
START_TIME = 2008-07-13T17:55:22.025Z
STOP_TIME = 2008-07-13T17:59:15.578Z
/* ORBITAL DATA ELEMENTS */
ASCENDING_NODE_LONGITUDE = 107.53
MAXIMUM_RESOLUTION = 0.109
FOOTPRINT_POINT_LATITUDE = (83.6919,84.1974,84.498,84.7893,85.0709 ,85.342,85.6018,85.6176,85.6338,85.2842 ,84.9791,84.6548,84.3139,84.0481, 83.6821,83.2071,82.9143,82.5146,82.3118 ,82.1058,81.8988,81.6885,81.3699, 81.1552,80.9378,80.6089,80.3876,80.1637 ,79.825,79.4826,79.1363,78.7859,78.4316 ,78.0739,77.8337,77.5911,77.347,77.1016 ,76.8545,76.6056,76.3552,76.1033, 75.8499,75.5943,75.3373,75.079,74.9492, 74.9454,74.9042,74.8589,74.8101,74.7575 ,74.6641,74.6017,74.5357,74.4567, 74.3246,74.2441,74.0939,74.0827,74.0808 ,74.4518,74.697,74.9405,75.1818,75.4211 ,75.6587,75.8945,76.128,76.3595,76.5894 ,76.8175,77.0428,77.3775,77.7077,78.033 ,78.3534,78.6688,78.979,79.1834,79.3845 ,79.682,79.8776,80.0702,80.3543,80.541, 80.7234,80.9037,81.2551,81.5927,81.9174 ,82.2285,82.5233,82.8008,82.9966, 83.2411,83.4107,83.5686,83.6183, 83.6919)
FOOTPRINT_POINT_LONGITUDE = (261.577,264.234,266.084,268.123, 270.376,272.875,275.657,275.841,275.661 ,280.598,284.065,287.149,289.893, 291.755,294.006,296.498,297.84,299.477, 300.234,300.958,301.645,302.303,303.233 ,303.818,304.379,305.174,305.676, 306.159,306.846,307.492,308.101,308.676 ,309.22,309.734,310.061,310.378,310.683 ,310.978,311.263,311.538,311.805, 312.063,312.313,312.555,312.79,313.017, 313.128,313.131,312.225,311.311,310.401 ,309.495,308.031,307.136,306.244, 305.244,303.703,302.83,301.312,301.204, 301.166,300.689,300.358,300.017,299.666 ,299.305,298.932,298.548,298.152, 297.743,297.322,296.887,296.438,295.738 ,295.004,294.231,293.421,292.571, 291.675,291.051,290.407,289.399,288.696 ,287.973,286.836,286.043,285.219, 284.365,282.571,280.632,278.557,276.341 ,273.957,271.4,269.372,266.498,264.218, 261.844,261.024,261.577)
ORBIT_NUMBER = 5818
ORBITAL_ECCENTRICITY = 0.569
ORBITAL_INCLINATION = 86.76
ORBITAL_SEMIMAJOR_AXIS = 8665.82
PERIAPSIS_ALTITUDE = 352.69
PERIAPSIS_ARGUMENT_ANGLE = 55.07
PERIAPSIS_TIME = 2008-07-13T17:44:57.000Z
SPACECRAFT_ORIENTATION = (0.0,1.0,0.0)
^MEX_ORIENTATION_DESC = "MEX_ORIENTATION_DESC.TXT"
SPACECRAFT_POINTING_MODE = ACROSSTRACK
^MEX_POINTING_DESC = "MEX_POINTING_DESC.TXT"
RIGHT_ASCENSION = -1e+32
DECLINATION = -1e+32
OFFSET_ANGLE = -1.2
SPACECRAFT_SOLAR_DISTANCE = 2.46432e+08
TARGET_NAME = MARS
/* CAMERA DATA ELEMENTS */
DETECTOR_TEMPERATURE = 17.9627
FOCAL_PLANE_TEMPERATURE = 7.5638
INST_CMPRS_NAME = "DISCRETE COSINE TRANSFORMATION (DCT)"
INST_CMPRS_RATIO = 19.3919
INST_CMPRS_QUALITY = 0
INST_CMPRS_QUANTZ_TBL_ID = 0
INSTRUMENT_TEMPERATURE = 10.8262
LENS_TEMPERATURE = 8.1755
MACROPIXEL_SIZE = 4
MISSING_FRAMES = 0
PIXEL_SUBSAMPLING_FLAG = N
SIGNAL_CHAIN_ID = 2
/* RADIOMETRIC DATA ELEMENTS */
BANDWIDTH = 88.0
CENTER_FILTER_WAVELENGTH = 538.0
RADIANCE_OFFSET = 0.80121
RADIANCE_SCALING_FACTOR = 0.0144937
REFLECTANCE_SCALING_FACTOR = 0.000757816
MEX:REFLECTANCE_OFFSET = 0.0418919
/* IMAGE OBJECT DEFINITIONS */
OBJECT = IMAGE
  INTERCHANGE_FORMAT = BINARY
  LINES = 6844
  LINE_SAMPLES = 4906
  SAMPLE_TYPE = UNSIGNED_INTEGER
  SAMPLE_BITS = 8
  BANDS = 1
  BAND_STORAGE_TYPE = BAND_SEQUENTIAL
  MAXIMUM = 255
  MEAN = 45.0627
  MINIMUM = 1
  STANDARD_DEVIATION = 27.3048
END_OBJECT = IMAGE
/* MAP OBJECT DEFINITIONS */
OBJECT = IMAGE_MAP_PROJECTION
  ^DATA_SET_MAP_PROJECTION_CATALOG= "DSMAP.CAT"
  A_AXIS_RADIUS = 3396.0
  B_AXIS_RADIUS = 3396.0
  C_AXIS_RADIUS = 3396.0
  CENTER_LATITUDE = 0.0
  CENTER_LONGITUDE = 296.0
  COORDINATE_SYSTEM_NAME = PLANETOGRAPHIC
  COORDINATE_SYSTEM_TYPE = "BODY-FIXED ROTATING"
  EASTERNMOST_LONGITUDE = 313.131
  FIRST_STANDARD_PARALLEL = "N/A"
  LINE_FIRST_PIXEL = 1
  LINE_LAST_PIXEL = 6844
  LINE_PROJECTION_OFFSET = 50759.625
  MAP_PROJECTION_ROTATION = 0.0
  MAP_PROJECTION_TYPE = SINUSOIDAL
  MAP_RESOLUTION = 592.713803866667
  MAP_SCALE = 0.1
  MAXIMUM_LATITUDE = 85.63379999999999
  MINIMUM_LATITUDE = 74.0808
  POSITIVE_LONGITUDE_DIRECTION = EAST
  REFERENCE_LATITUDE = "N/A"
  REFERENCE_LONGITUDE = "N/A"
  SAMPLE_FIRST_PIXEL = 1
  SAMPLE_LAST_PIXEL = 4906
  SAMPLE_PROJECTION_OFFSET = 2290.125
  SECOND_STANDARD_PARALLEL = "N/A"
  WESTERNMOST_LONGITUDE = 261.024
END_OBJECT = IMAGE_MAP_PROJECTION
END
