PDS_VERSION_ID = PDS3
/* FILE DATA ELEMENTS */
RECORD_TYPE = UNDEFINED
/* POINTERS TO DATA OBJECTS */
^IMAGE = ("H5779_0000_IR4.TIF")
/* IDENTIFICATION DATA ELEMENTS */
DATA_SET_ID = "MEX-M-HRSC-4-REFDR-MAPPROJECT-EXT2-V4.0"
DATA_SET_NAME = "MARS EXPRESS HRSC MAP PROJECTED REFDR EXTENSION2 V4.0"
DETECTOR_ID = MEX_HRSC_IR
EVENT_TYPE = "MARS-REGIONAL-MAPPING-Im-Pf"
INSTRUMENT_HOST_ID = MEX
INSTRUMENT_HOST_NAME = "MARS EXPRESS"
INSTRUMENT_ID = HRSC
INSTRUMENT_NAME = "HIGH RESOLUTION STEREO CAMERA"
MISSION_NAME = "MARS EXPRESS"
MISSION_PHASE_NAME = ME_Phase_14
PROCESSING_LEVEL_ID = 4
PRODUCT_CREATION_TIME = 2023-02-03T16:04:45.000Z
PRODUCT_ID = "H5779_0000_IR4.TIF"
RELEASE_ID = 0003
REVISION_ID = 0000
/* QUALITY DATA ELEMENTS */
DATA_QUALITY_ID = 1
DATA_QUALITY_DESC = "Data calculated based on original SPICE kernels"
/* TIME DATA ELEMENTS */
SPACECRAFT_CLOCK_START_COUNT = "1/0163090649.07295"
SPACECRAFT_CLOCK_STOP_COUNT = "1/0163091027.45454"
START_TIME = 2008-07-02T14:59:46.652Z
STOP_TIME = 2008-07-02T15:03:23.133Z
/* ORBITAL DATA ELEMENTS */
ASCENDING_NODE_LONGITUDE = 108.31
MAXIMUM_RESOLUTION = 0.1267
FOOTPRINT_POINT_LATITUDE = (78.442,78.5517,78.677,78.7428,78.8317, 78.9482,79.0338,79.0722,79.1243,79.1283 ,79.2653,78.9613,78.759,78.5571,78.3557 ,78.1549,77.9544,77.7544,77.5545, 77.3552,77.1564,76.9583,76.7605,76.5632 ,76.3663,76.1697,75.9741,75.7789,75.584 ,75.3897,75.196,75.0027,74.8099,74.6175 ,74.4257,74.2346,74.0441,73.8539, 73.4753,73.0986,72.7238,72.3516,71.9811 ,71.6126,71.2464,70.8827,70.5209, 70.1612,69.8034,69.7142,69.6557,69.6274 ,69.6109,69.5922,69.5714,69.5487, 69.5122,69.4797,69.4358,69.3975,69.3615 ,69.3119,69.2472,69.2411,69.2402, 69.5887,69.9396,70.2925,70.6473,71.0936 ,71.4525,71.9039,72.2669,72.6322,73.091 ,73.4599,73.8308,74.2035,74.4832, 74.6707,74.8584,75.0468,75.33,75.5187, 75.7079,75.898,76.0879,76.2768,76.467, 76.7543,76.9458,77.1375,77.3291,77.5209 ,77.7128,77.9048,78.0973,78.3857, 78.4819,78.442)
FOOTPRINT_POINT_LONGITUDE = (245.42,246.884,248.719,249.768,251.303 ,253.585,255.541,256.531,258.029, 258.155,258.33,258.664,258.875,259.078, 259.273,259.461,259.643,259.817,259.986 ,260.148,260.305,260.457,260.604, 260.746,260.884,261.017,261.146,261.271 ,261.392,261.51,261.624,261.735,261.843 ,261.947,262.049,262.148,262.244, 262.338,262.518,262.689,262.851,263.005 ,263.152,263.292,263.426,263.554, 263.677,263.794,263.906,263.933,263.95, 262.531,261.868,261.207,260.547,259.889 ,258.952,258.204,257.271,256.528,255.88 ,255.049,254.036,253.944,253.913, 253.748,253.574,253.39,253.197,252.941, 252.725,252.438,252.194,251.935,251.592 ,251.3,250.989,250.66,250.402,250.222, 250.037,249.845,249.547,249.341,249.128 ,248.907,248.68,248.449,248.208,247.825 ,247.559,247.285,247.002,246.708, 246.405,246.09,245.762,245.248,245.07, 245.42)
ORBIT_NUMBER = 5779
ORBITAL_ECCENTRICITY = 0.569
ORBITAL_INCLINATION = 86.75
ORBITAL_SEMIMAJOR_AXIS = 8660.99
PERIAPSIS_ALTITUDE = 355.29
PERIAPSIS_ARGUMENT_ANGLE = 61.88
PERIAPSIS_TIME = 2008-07-02T14:48:10.000Z
SPACECRAFT_ORIENTATION = (0.0,1.0,0.0)
^MEX_ORIENTATION_DESC = "MEX_ORIENTATION_DESC.TXT"
SPACECRAFT_POINTING_MODE = NADIR
^MEX_POINTING_DESC = "MEX_POINTING_DESC.TXT"
RIGHT_ASCENSION = -1e+32
DECLINATION = -1e+32
OFFSET_ANGLE = -1e+32
SPACECRAFT_SOLAR_DISTANCE = 2.47338e+08
TARGET_NAME = MARS
/* CAMERA DATA ELEMENTS */
DETECTOR_TEMPERATURE = 16.9432
FOCAL_PLANE_TEMPERATURE = 7.3599
INST_CMPRS_NAME = "DISCRETE COSINE TRANSFORMATION (DCT)"
INST_CMPRS_RATIO = 24.072
INST_CMPRS_QUALITY = 0
INST_CMPRS_QUANTZ_TBL_ID = 0
INSTRUMENT_TEMPERATURE = 10.6223
LENS_TEMPERATURE = 7.7677
MACROPIXEL_SIZE = 4
MISSING_FRAMES = 0
PIXEL_SUBSAMPLING_FLAG = N
SIGNAL_CHAIN_ID = 2
/* RADIOMETRIC DATA ELEMENTS */
BANDWIDTH = 81.0
CENTER_FILTER_WAVELENGTH = 955.5
RADIANCE_OFFSET = 0.526463
RADIANCE_SCALING_FACTOR = 0.00582935
REFLECTANCE_SCALING_FACTOR = 0.000769359
MEX:REFLECTANCE_OFFSET = 0.0694827
/* IMAGE OBJECT DEFINITIONS */
OBJECT = IMAGE
  INTERCHANGE_FORMAT = BINARY
  LINES = 5927
  LINE_SAMPLES = 2718
  SAMPLE_TYPE = UNSIGNED_INTEGER
  SAMPLE_BITS = 8
  BANDS = 1
  BAND_STORAGE_TYPE = BAND_SEQUENTIAL
  MAXIMUM = 255
  MEAN = 147.009
  MINIMUM = 1
  STANDARD_DEVIATION = 55.2657
END_OBJECT = IMAGE
/* MAP OBJECT DEFINITIONS */
OBJECT = IMAGE_MAP_PROJECTION
  ^DATA_SET_MAP_PROJECTION_CATALOG= "DSMAP.CAT"
  A_AXIS_RADIUS = 3396.0
  B_AXIS_RADIUS = 3396.0
  C_AXIS_RADIUS = 3396.0
  CENTER_LATITUDE = 0.0
  CENTER_LONGITUDE = 256.0
  COORDINATE_SYSTEM_NAME = PLANETOGRAPHIC
  COORDINATE_SYSTEM_TYPE = "BODY-FIXED ROTATING"
  EASTERNMOST_LONGITUDE = 263.95
  FIRST_STANDARD_PARALLEL = "N/A"
  LINE_FIRST_PIXEL = 1
  LINE_LAST_PIXEL = 5927
  LINE_PROJECTION_OFFSET = 46961.625
  MAP_PROJECTION_ROTATION = 0.0
  MAP_PROJECTION_TYPE = SINUSOIDAL
  MAP_RESOLUTION = 592.713803866667
  MAP_SCALE = 0.1
  MAXIMUM_LATITUDE = 79.2653
  MINIMUM_LATITUDE = 69.2402
  POSITIVE_LONGITUDE_DIRECTION = EAST
  REFERENCE_LATITUDE = "N/A"
  REFERENCE_LONGITUDE = "N/A"
  SAMPLE_FIRST_PIXEL = 1
  SAMPLE_LAST_PIXEL = 2718
  SAMPLE_PROJECTION_OFFSET = 1228.875
  SECOND_STANDARD_PARALLEL = "N/A"
  WESTERNMOST_LONGITUDE = 245.07
END_OBJECT = IMAGE_MAP_PROJECTION
END
