PDS_VERSION_ID = PDS3
/* FILE DATA ELEMENTS */
RECORD_TYPE = UNDEFINED
/* POINTERS TO DATA OBJECTS */
^IMAGE = ("H5775_0000_RE4.TIF")
/* IDENTIFICATION DATA ELEMENTS */
DATA_SET_ID = "MEX-M-HRSC-4-REFDR-MAPPROJECT-EXT2-V4.0"
DATA_SET_NAME = "MARS EXPRESS HRSC MAP PROJECTED REFDR EXTENSION2 V4.0"
DETECTOR_ID = MEX_HRSC_RED
EVENT_TYPE = "MARS-LOCAL-MAPPING-Fl-Gl-La"
INSTRUMENT_HOST_ID = MEX
INSTRUMENT_HOST_NAME = "MARS EXPRESS"
INSTRUMENT_ID = HRSC
INSTRUMENT_NAME = "HIGH RESOLUTION STEREO CAMERA"
MISSION_NAME = "MARS EXPRESS"
MISSION_PHASE_NAME = ME_Phase_14
PROCESSING_LEVEL_ID = 4
PRODUCT_CREATION_TIME = 2023-02-03T16:04:45.000Z
PRODUCT_ID = "H5775_0000_RE4.TIF"
RELEASE_ID = 0003
REVISION_ID = 0000
/* QUALITY DATA ELEMENTS */
DATA_QUALITY_ID = 1
DATA_QUALITY_DESC = "Data calculated based on original SPICE kernels"
/* TIME DATA ELEMENTS */
SPACECRAFT_CLOCK_START_COUNT = "1/0162991933.07294"
SPACECRAFT_CLOCK_STOP_COUNT = "1/0162992329.32046"
START_TIME = 2008-07-01T11:32:24.991Z
STOP_TIME = 2008-07-01T11:36:07.696Z
/* ORBITAL DATA ELEMENTS */
ASCENDING_NODE_LONGITUDE = 108.39
MAXIMUM_RESOLUTION = 0.0857
FOOTPRINT_POINT_LATITUDE = (86.8634,87.2844,87.485,87.6751,87.8508 ,88.0928,88.1007,88.0474,87.7188, 87.2653,86.7978,86.4406,85.9556,85.4643 ,84.9646,84.4579,84.2022,83.947,83.6877 ,83.4273,83.0321,82.7668,82.3654, 82.0974,81.8289,81.5561,81.1474,80.8709 ,80.4558,80.1753,79.8944,79.6109, 79.3262,78.8942,78.6055,78.3142,78.0224 ,77.7273,77.4317,77.1327,76.8328, 76.3758,75.9166,75.609,75.2977,74.9859, 74.6705,74.5132,74.454,74.4577,74.4548, 74.4419,74.4192,74.3896,74.3489,74.2997 ,74.2964,74.297,74.6075,74.9173,75.2237 ,75.5285,75.831,76.2802,76.5781,76.8724 ,77.1657,77.4557,77.7453,78.0307, 78.3161,78.5974,79.0177,79.2936,79.5697 ,79.8414,80.1131,80.381,80.6476,81.0421 ,81.3064,81.5654,81.8216,82.1987, 82.4513,82.699,83.0663,83.308,83.5471, 83.7828,84.015,84.4679,84.9069,85.3255, 85.7236,86.0956,86.3533,86.7349,86.802, 86.8634)
FOOTPRINT_POINT_LONGITUDE = (249.008,254.848,258.564,262.967, 268.194,278.817,279.284,283.935,287.987 ,291.857,294.628,296.253,297.973, 299.337,300.425,301.337,301.735,302.09, 302.418,302.731,303.168,303.431,303.801 ,304.01,304.21,304.4,304.659,304.82, 305.045,305.185,305.318,305.443,305.562 ,305.738,305.843,305.941,306.034, 306.124,306.207,306.291,306.369,306.49, 306.595,306.662,306.726,306.787,306.846 ,306.873,306.884,305.891,304.452, 303.033,301.631,300.332,298.969,297.623 ,297.54,297.511,297.336,297.153,296.964 ,296.766,296.56,296.236,296.007,295.769 ,295.52,295.26,294.988,294.705,294.407, 294.097,293.6,293.252,292.883,292.498, 292.089,291.662,291.21,290.489,289.961, 289.412,288.831,287.907,287.222,286.506 ,285.336,284.487,283.579,282.602, 281.559,279.232,276.509,273.328,269.56, 265.086,261.188,253.442,251.706, 249.008)
ORBIT_NUMBER = 5775
ORBITAL_ECCENTRICITY = 0.568
ORBITAL_INCLINATION = 86.75
ORBITAL_SEMIMAJOR_AXIS = 8657.01
PERIAPSIS_ALTITUDE = 355.86
PERIAPSIS_ARGUMENT_ANGLE = 62.61
PERIAPSIS_TIME = 2008-07-01T11:25:26.000Z
SPACECRAFT_ORIENTATION = (0.0,1.0,0.0)
^MEX_ORIENTATION_DESC = "MEX_ORIENTATION_DESC.TXT"
SPACECRAFT_POINTING_MODE = ACROSSTRACK
^MEX_POINTING_DESC = "MEX_POINTING_DESC.TXT"
RIGHT_ASCENSION = -1e+32
DECLINATION = -1e+32
OFFSET_ANGLE = 1.374
SPACECRAFT_SOLAR_DISTANCE = 2.47422e+08
TARGET_NAME = MARS
/* CAMERA DATA ELEMENTS */
DETECTOR_TEMPERATURE = 16.7393
FOCAL_PLANE_TEMPERATURE = 7.7677
INST_CMPRS_NAME = "DISCRETE COSINE TRANSFORMATION (DCT)"
INST_CMPRS_RATIO = 15.8173
INST_CMPRS_QUALITY = 0
INST_CMPRS_QUANTZ_TBL_ID = 0
INSTRUMENT_TEMPERATURE = 10.8262
LENS_TEMPERATURE = 8.1755
MACROPIXEL_SIZE = 4
MISSING_FRAMES = 0
PIXEL_SUBSAMPLING_FLAG = N
SIGNAL_CHAIN_ID = 2
/* RADIOMETRIC DATA ELEMENTS */
BANDWIDTH = 48.0
CENTER_FILTER_WAVELENGTH = 748.0
RADIANCE_OFFSET = 0.663012
RADIANCE_SCALING_FACTOR = 0.00780014
REFLECTANCE_SCALING_FACTOR = 0.00108969
MEX:REFLECTANCE_OFFSET = 0.0926232
/* IMAGE OBJECT DEFINITIONS */
OBJECT = IMAGE
  INTERCHANGE_FORMAT = BINARY
  LINES = 8145
  LINE_SAMPLES = 3276
  SAMPLE_TYPE = UNSIGNED_INTEGER
  SAMPLE_BITS = 8
  BANDS = 1
  BAND_STORAGE_TYPE = BAND_SEQUENTIAL
  MAXIMUM = 255
  MEAN = 99.495
  MINIMUM = 1
  STANDARD_DEVIATION = 61.5092
END_OBJECT = IMAGE
/* MAP OBJECT DEFINITIONS */
OBJECT = IMAGE_MAP_PROJECTION
  ^DATA_SET_MAP_PROJECTION_CATALOG= "DSMAP.CAT"
  A_AXIS_RADIUS = 3396.0
  B_AXIS_RADIUS = 3396.0
  C_AXIS_RADIUS = 3396.0
  CENTER_LATITUDE = 0.0
  CENTER_LONGITUDE = 296.0
  COORDINATE_SYSTEM_NAME = PLANETOGRAPHIC
  COORDINATE_SYSTEM_TYPE = "BODY-FIXED ROTATING"
  EASTERNMOST_LONGITUDE = 306.884
  FIRST_STANDARD_PARALLEL = "N/A"
  LINE_FIRST_PIXEL = 1
  LINE_LAST_PIXEL = 8145
  LINE_PROJECTION_OFFSET = 52156.375
  MAP_PROJECTION_ROTATION = 0.0
  MAP_PROJECTION_TYPE = SINUSOIDAL
  MAP_RESOLUTION = 592.713803866667
  MAP_SCALE = 0.1
  MAXIMUM_LATITUDE = 88.1007
  MINIMUM_LATITUDE = 74.29640000000001
  POSITIVE_LONGITUDE_DIRECTION = EAST
  REFERENCE_LATITUDE = "N/A"
  REFERENCE_LONGITUDE = "N/A"
  SAMPLE_FIRST_PIXEL = 1
  SAMPLE_LAST_PIXEL = 3276
  SAMPLE_PROJECTION_OFFSET = 1513.625
  SECOND_STANDARD_PARALLEL = "N/A"
  WESTERNMOST_LONGITUDE = 249.008
END_OBJECT = IMAGE_MAP_PROJECTION
END
