PDS_VERSION_ID = PDS3
/* FILE DATA ELEMENTS */
RECORD_TYPE = UNDEFINED
/* POINTERS TO DATA OBJECTS */
^IMAGE = ("H5768_0000_IR4.TIF")
/* IDENTIFICATION DATA ELEMENTS */
DATA_SET_ID = "MEX-M-HRSC-4-REFDR-MAPPROJECT-EXT2-V4.0"
DATA_SET_NAME = "MARS EXPRESS HRSC MAP PROJECTED REFDR EXTENSION2 V4.0"
DETECTOR_ID = MEX_HRSC_IR
EVENT_TYPE = "MARS-REGIONAL-MAPPING-Gl-La"
INSTRUMENT_HOST_ID = MEX
INSTRUMENT_HOST_NAME = "MARS EXPRESS"
INSTRUMENT_ID = HRSC
INSTRUMENT_NAME = "HIGH RESOLUTION STEREO CAMERA"
MISSION_NAME = "MARS EXPRESS"
MISSION_PHASE_NAME = ME_Phase_13
PROCESSING_LEVEL_ID = 4
PRODUCT_CREATION_TIME = 2023-02-03T16:04:45.000Z
PRODUCT_ID = "H5768_0000_IR4.TIF"
RELEASE_ID = 0003
REVISION_ID = 0000
/* QUALITY DATA ELEMENTS */
DATA_QUALITY_ID = 1
DATA_QUALITY_DESC = "Data calculated based on original SPICE kernels"
/* TIME DATA ELEMENTS */
SPACECRAFT_CLOCK_START_COUNT = "1/0162819348.08243"
SPACECRAFT_CLOCK_STOP_COUNT = "1/0162819663.49980"
START_TIME = 2008-06-29T11:37:13.947Z
STOP_TIME = 2008-06-29T11:40:51.501Z
/* ORBITAL DATA ELEMENTS */
ASCENDING_NODE_LONGITUDE = 108.53
MAXIMUM_RESOLUTION = 0.0831
FOOTPRINT_POINT_LATITUDE = (84.9779,85.257,85.4361,85.6087,85.7737 ,85.9304,86.0956,86.1043,86.0424, 86.3084,86.6525,87.0541,87.4723,87.6921 ,87.7771,87.8429,87.888,87.9101,87.8974 ,87.8592,87.7596,87.6131,87.4939, 87.3595,87.21,87.051,86.7923,86.6103, 86.4207,86.2248,86.0257,85.8186,85.6086 ,85.3932,85.066,84.8416,84.5015,84.2704 ,84.0381,83.6843,83.4469,83.2047, 82.9637,82.7165,82.3465,82.0964,81.8436 ,81.4681,81.339,81.3304,81.2282,81.1498 ,81.0845,80.9248,80.7954,80.6913, 80.5719,80.5624,80.5605,80.9169,81.2654 ,81.4956,81.8351,82.0589,82.2775, 82.4945,82.7066,83.0194,83.2225,83.4222 ,83.6165,83.8077,83.9928,84.1737,84.434 ,84.6813,84.8366,85.0562,85.1915, 85.3189,85.4383,85.5473,85.6468,85.7756 ,85.8472,85.9073,85.9543,86.002,86.0179 ,86.0211,86.0108,85.9893,85.934,85.8203 ,85.7461,85.5766,85.2587,84.945,84.8798 ,84.9779)
FOOTPRINT_POINT_LONGITUDE = (160.87,158.012,155.909,153.63,151.163, 148.492,145.224,145.034,143.434,146.036 ,150.169,156.723,167.259,176.341, 181.511,187.051,192.944,198.998,208.241 ,214.278,222.784,230.517,235.108, 239.287,243.075,246.451,250.913,253.499 ,255.834,257.941,259.832,261.567, 263.133,264.564,266.483,267.634,269.188 ,270.131,271.0,272.193,272.917,273.599, 274.233,274.829,275.655,276.165,276.646 ,277.324,277.536,277.549,274.699, 272.881,271.508,268.561,266.486,264.97, 263.365,263.243,263.199,262.184,261.106 ,260.332,259.096,258.214,257.292, 256.314,255.288,253.633,252.454,251.205 ,249.888,248.484,247.006,245.429, 242.893,240.121,238.151,235.0,232.785, 230.45,227.964,225.381,222.667,218.392, 215.428,212.357,209.243,204.467,201.256 ,198.056,194.822,191.666,187.052, 181.142,178.322,173.108,166.122,161.052 ,160.132,160.87)
ORBIT_NUMBER = 5768
ORBITAL_ECCENTRICITY = 0.568
ORBITAL_INCLINATION = 86.74
ORBITAL_SEMIMAJOR_AXIS = 8657.37
PERIAPSIS_ALTITUDE = 356.24
PERIAPSIS_ARGUMENT_ANGLE = 63.83
PERIAPSIS_TIME = 2008-06-29T11:30:37.000Z
SPACECRAFT_ORIENTATION = (0.0,1.0,0.0)
^MEX_ORIENTATION_DESC = "MEX_ORIENTATION_DESC.TXT"
SPACECRAFT_POINTING_MODE = ACROSSTRACK
^MEX_POINTING_DESC = "MEX_POINTING_DESC.TXT"
RIGHT_ASCENSION = -1e+32
DECLINATION = -1e+32
OFFSET_ANGLE = 0.2
SPACECRAFT_SOLAR_DISTANCE = 2.47563e+08
TARGET_NAME = MARS
/* CAMERA DATA ELEMENTS */
DETECTOR_TEMPERATURE = 16.7393
FOCAL_PLANE_TEMPERATURE = 7.3599
INST_CMPRS_NAME = "DISCRETE COSINE TRANSFORMATION (DCT)"
INST_CMPRS_RATIO = 24.3174
INST_CMPRS_QUALITY = 0
INST_CMPRS_QUANTZ_TBL_ID = 0
INSTRUMENT_TEMPERATURE = 11.6418
LENS_TEMPERATURE = 7.9716
MACROPIXEL_SIZE = 4
MISSING_FRAMES = 0
PIXEL_SUBSAMPLING_FLAG = N
SIGNAL_CHAIN_ID = 2
/* RADIOMETRIC DATA ELEMENTS */
BANDWIDTH = 81.0
CENTER_FILTER_WAVELENGTH = 955.5
RADIANCE_OFFSET = 0.591105
RADIANCE_SCALING_FACTOR = 0.00620237
REFLECTANCE_SCALING_FACTOR = 0.000820077
MEX:REFLECTANCE_OFFSET = 0.0781558
/* IMAGE OBJECT DEFINITIONS */
OBJECT = IMAGE
  INTERCHANGE_FORMAT = BINARY
  LINES = 3454
  LINE_SAMPLES = 6954
  SAMPLE_TYPE = UNSIGNED_INTEGER
  SAMPLE_BITS = 8
  BANDS = 1
  BAND_STORAGE_TYPE = BAND_SEQUENTIAL
  MAXIMUM = 255
  MEAN = 152.963
  MINIMUM = 1
  STANDARD_DEVIATION = 41.642
END_OBJECT = IMAGE
/* MAP OBJECT DEFINITIONS */
OBJECT = IMAGE_MAP_PROJECTION
  ^DATA_SET_MAP_PROJECTION_CATALOG= "DSMAP.CAT"
  A_AXIS_RADIUS = 3396.0
  B_AXIS_RADIUS = 3396.0
  C_AXIS_RADIUS = 3396.0
  CENTER_LATITUDE = 90.0
  CENTER_LONGITUDE = 0.0
  COORDINATE_SYSTEM_NAME = PLANETOGRAPHIC
  COORDINATE_SYSTEM_TYPE = "BODY-FIXED ROTATING"
  EASTERNMOST_LONGITUDE = 277.549
  FIRST_STANDARD_PARALLEL = "N/A"
  LINE_FIRST_PIXEL = 1
  LINE_LAST_PIXEL = 3454
  LINE_PROJECTION_OFFSET = 2832.375
  MAP_PROJECTION_ROTATION = 0.0
  MAP_PROJECTION_TYPE = STEREOGRAPHIC
  MAP_RESOLUTION = 592.713803866667
  MAP_SCALE = 0.1
  MAXIMUM_LATITUDE = 87.9101
  MINIMUM_LATITUDE = 80.5605
  POSITIVE_LONGITUDE_DIRECTION = EAST
  REFERENCE_LATITUDE = "N/A"
  REFERENCE_LONGITUDE = "N/A"
  SAMPLE_FIRST_PIXEL = 1
  SAMPLE_LAST_PIXEL = 6954
  SAMPLE_PROJECTION_OFFSET = 5567.875
  SECOND_STANDARD_PARALLEL = "N/A"
  WESTERNMOST_LONGITUDE = 143.434
END_OBJECT = IMAGE_MAP_PROJECTION
END
