PDS_VERSION_ID = PDS3
/* FILE DATA ELEMENTS */
RECORD_TYPE = UNDEFINED
/* POINTERS TO DATA OBJECTS */
^IMAGE = ("H5734_0000_S24.TIF")
/* IDENTIFICATION DATA ELEMENTS */
DATA_SET_ID = "MEX-M-HRSC-4-REFDR-MAPPROJECT-EXT2-V4.0"
DATA_SET_NAME = "MARS EXPRESS HRSC MAP PROJECTED REFDR EXTENSION2 V4.0"
DETECTOR_ID = MEX_HRSC_S2
EVENT_TYPE = "MARS-REGIONAL-MAPPING-Gl-La"
INSTRUMENT_HOST_ID = MEX
INSTRUMENT_HOST_NAME = "MARS EXPRESS"
INSTRUMENT_ID = HRSC
INSTRUMENT_NAME = "HIGH RESOLUTION STEREO CAMERA"
MISSION_NAME = "MARS EXPRESS"
MISSION_PHASE_NAME = ME_Phase_13
PROCESSING_LEVEL_ID = 4
PRODUCT_CREATION_TIME = 2023-02-03T16:04:45.000Z
PRODUCT_ID = "H5734_0000_S24.TIF"
RELEASE_ID = 0003
REVISION_ID = 0000
/* QUALITY DATA ELEMENTS */
DATA_QUALITY_ID = 1
DATA_QUALITY_DESC = "Data calculated based on original SPICE kernels"
/* TIME DATA ELEMENTS */
SPACECRAFT_CLOCK_START_COUNT = "1/0161981620.08242"
SPACECRAFT_CLOCK_STOP_COUNT = "1/0161981866.05302"
START_TIME = 2008-06-19T18:53:43.733Z
STOP_TIME = 2008-06-19T18:55:58.109Z
/* ORBITAL DATA ELEMENTS */
ASCENDING_NODE_LONGITUDE = 109.21
MAXIMUM_RESOLUTION = 0.0366
FOOTPRINT_POINT_LATITUDE = (86.0442,86.3636,86.5857,86.9738, 87.1954,87.4589,87.4728,87.5009,87.4348 ,87.3299,87.1498,86.9733,86.7729, 86.6626,86.5475,86.4283,86.3052,86.1782 ,86.0487,85.9164,85.7089,85.5669, 85.4235,85.2781,85.1308,84.9824,84.7529 ,84.5975,84.4409,84.2832,84.0448, 83.8826,83.7188,83.5536,83.388,83.2215, 83.0547,82.7978,82.6251,82.4536,82.2798 ,82.0194,81.8427,81.665,81.4868,81.2173 ,81.0353,80.8515,80.6679,80.5764, 80.5653,80.4952,80.4217,80.3412,80.2355 ,80.127,79.9819,79.9747,79.9727,80.1467 ,80.3201,80.5789,80.747,80.9135,81.083, 81.2496,81.4149,81.5776,81.7375,81.8955 ,82.054,82.2901,82.4456,82.5978,82.7483 ,82.9714,83.1184,83.26,83.4013,83.541, 83.7467,83.8813,84.0127,84.1399,84.2648 ,84.4475,84.5659,84.6815,84.7937, 85.0036,85.1992,85.3786,85.4616,85.6096 ,85.7375,85.8435,85.9253,85.981,85.991, 86.0442)
FOOTPRINT_POINT_LONGITUDE = (7.12793,7.41607,7.65498,8.17442, 8.54597,9.08169,9.11325,12.3955,19.4619 ,26.2197,33.8629,39.2474,44.0117, 46.2176,48.2826,50.209,52.0105,53.7051, 55.2777,56.747,58.8221,60.1058,61.2992, 62.4201,63.4771,64.4669,65.8704,66.7436 ,67.5668,68.3455,69.435,70.124,70.7771, 71.4004,71.9901,72.5526,73.0855,73.858, 74.3456,74.8011,75.2459,75.8683,76.2656 ,76.6489,77.017,77.5469,77.8836,78.2106 ,78.5232,78.6734,78.6912,77.046,75.5283 ,74.0377,72.2829,70.6618,68.7104, 68.6189,68.5846,68.1596,67.7187,67.0269 ,66.553,66.0621,65.5476,65.0152,64.4634 ,63.898,63.3129,62.7058,62.0711,61.0699 ,60.3753,59.6556,58.9065,57.7217, 56.8882,56.0394,55.1495,54.2201,52.7487 ,51.7127,50.6387,49.5337,48.3791, 46.5493,45.261,43.9148,42.512,39.587, 36.4104,32.9725,31.1546,27.4144,23.427, 19.2093,14.8071,10.355,9.22459,7.12793)
ORBIT_NUMBER = 5734
ORBITAL_ECCENTRICITY = 0.568
ORBITAL_INCLINATION = 86.76
ORBITAL_SEMIMAJOR_AXIS = 8643.65
PERIAPSIS_ALTITUDE = 357.01
PERIAPSIS_ARGUMENT_ANGLE = 69.79
PERIAPSIS_TIME = 2008-06-19T18:49:03.000Z
SPACECRAFT_ORIENTATION = (0.0,1.0,0.0)
^MEX_ORIENTATION_DESC = "MEX_ORIENTATION_DESC.TXT"
SPACECRAFT_POINTING_MODE = NADIR
^MEX_POINTING_DESC = "MEX_POINTING_DESC.TXT"
RIGHT_ASCENSION = -1e+32
DECLINATION = -1e+32
OFFSET_ANGLE = -1e+32
SPACECRAFT_SOLAR_DISTANCE = 2.48169e+08
TARGET_NAME = MARS
/* CAMERA DATA ELEMENTS */
DETECTOR_TEMPERATURE = 18.3705
FOCAL_PLANE_TEMPERATURE = 7.156
INST_CMPRS_NAME = "DISCRETE COSINE TRANSFORMATION (DCT)"
INST_CMPRS_RATIO = 13.3576
INST_CMPRS_QUALITY = 0
INST_CMPRS_QUANTZ_TBL_ID = 0
INSTRUMENT_TEMPERATURE = 10.8262
LENS_TEMPERATURE = 7.9716
MACROPIXEL_SIZE = 2
MISSING_FRAMES = 0
PIXEL_SUBSAMPLING_FLAG = N
SIGNAL_CHAIN_ID = 1
/* RADIOMETRIC DATA ELEMENTS */
BANDWIDTH = 178.0
CENTER_FILTER_WAVELENGTH = 679.0
RADIANCE_OFFSET = 4.04776
RADIANCE_SCALING_FACTOR = 0.0231804
REFLECTANCE_SCALING_FACTOR = 0.000756038
MEX:REFLECTANCE_OFFSET = 0.132019
/* IMAGE OBJECT DEFINITIONS */
OBJECT = IMAGE
  INTERCHANGE_FORMAT = BINARY
  LINES = 17911
  LINE_SAMPLES = 16329
  SAMPLE_TYPE = UNSIGNED_INTEGER
  SAMPLE_BITS = 8
  BANDS = 1
  BAND_STORAGE_TYPE = BAND_SEQUENTIAL
  MAXIMUM = 255
  MEAN = 135.332
  MINIMUM = 1
  STANDARD_DEVIATION = 62.5534
END_OBJECT = IMAGE
/* MAP OBJECT DEFINITIONS */
OBJECT = IMAGE_MAP_PROJECTION
  ^DATA_SET_MAP_PROJECTION_CATALOG= "DSMAP.CAT"
  A_AXIS_RADIUS = 3396.0
  B_AXIS_RADIUS = 3396.0
  C_AXIS_RADIUS = 3396.0
  CENTER_LATITUDE = 0.0
  CENTER_LONGITUDE = 58.0
  COORDINATE_SYSTEM_NAME = PLANETOGRAPHIC
  COORDINATE_SYSTEM_TYPE = "BODY-FIXED ROTATING"
  EASTERNMOST_LONGITUDE = 78.69119999999999
  FIRST_STANDARD_PARALLEL = "N/A"
  LINE_FIRST_PIXEL = 1
  LINE_LAST_PIXEL = 17911
  LINE_PROJECTION_OFFSET = 207501.25
  MAP_PROJECTION_ROTATION = 0.0
  MAP_PROJECTION_TYPE = SINUSOIDAL
  MAP_RESOLUTION = 2370.85521546667
  MAP_SCALE = 0.025
  MAXIMUM_LATITUDE = 87.5009
  MINIMUM_LATITUDE = 79.9727
  POSITIVE_LONGITUDE_DIRECTION = EAST
  REFERENCE_LATITUDE = "N/A"
  REFERENCE_LONGITUDE = "N/A"
  SAMPLE_FIRST_PIXEL = 1
  SAMPLE_LAST_PIXEL = 16329
  SAMPLE_PROJECTION_OFFSET = 8216.75
  SECOND_STANDARD_PARALLEL = "N/A"
  WESTERNMOST_LONGITUDE = 7.12793
END_OBJECT = IMAGE_MAP_PROJECTION
END
