PDS_VERSION_ID = PDS3
/* FILE DATA ELEMENTS */
RECORD_TYPE = UNDEFINED
/* POINTERS TO DATA OBJECTS */
^IMAGE = ("H5734_0000_P24.TIF")
/* IDENTIFICATION DATA ELEMENTS */
DATA_SET_ID = "MEX-M-HRSC-4-REFDR-MAPPROJECT-EXT2-V4.0"
DATA_SET_NAME = "MARS EXPRESS HRSC MAP PROJECTED REFDR EXTENSION2 V4.0"
DETECTOR_ID = MEX_HRSC_P2
EVENT_TYPE = "MARS-REGIONAL-MAPPING-Gl-La"
INSTRUMENT_HOST_ID = MEX
INSTRUMENT_HOST_NAME = "MARS EXPRESS"
INSTRUMENT_ID = HRSC
INSTRUMENT_NAME = "HIGH RESOLUTION STEREO CAMERA"
MISSION_NAME = "MARS EXPRESS"
MISSION_PHASE_NAME = ME_Phase_13
PROCESSING_LEVEL_ID = 4
PRODUCT_CREATION_TIME = 2023-02-03T16:04:45.000Z
PRODUCT_ID = "H5734_0000_P24.TIF"
RELEASE_ID = 0003
REVISION_ID = 0000
/* QUALITY DATA ELEMENTS */
DATA_QUALITY_ID = 1
DATA_QUALITY_DESC = "Data calculated based on original SPICE kernels"
/* TIME DATA ELEMENTS */
SPACECRAFT_CLOCK_START_COUNT = "1/0161981620.08242"
SPACECRAFT_CLOCK_STOP_COUNT = "1/0161981866.05302"
START_TIME = 2008-06-19T18:53:57.215Z
STOP_TIME = 2008-06-19T18:56:14.560Z
/* ORBITAL DATA ELEMENTS */
ASCENDING_NODE_LONGITUDE = 109.21
MAXIMUM_RESOLUTION = 0.0359
FOOTPRINT_POINT_LATITUDE = (86.0285,86.2393,86.5479,86.9683, 87.1922,87.4583,87.4723,87.5049,87.3903 ,87.2689,87.0688,86.8273,86.6104, 86.4932,86.3714,86.2459,86.0517,85.8515 ,85.7148,85.5726,85.4287,85.283,85.1354 ,84.9865,84.8362,84.6814,84.5252, 84.3679,84.2096,84.0504,83.8896,83.7256 ,83.5605,83.395,83.2287,83.0621,82.806, 82.6339,82.4625,82.2896,82.0281,81.8517 ,81.6747,81.407,81.2281,81.0465,80.8641 ,80.6816,80.5906,80.5696,80.4839, 80.4184,80.3477,80.2534,80.1713,80.0565 ,79.9778,79.9705,79.9685,80.1414, 80.3138,80.4858,80.7406,80.9067,81.0736 ,81.3229,81.4885,81.6486,81.8079, 81.9657,82.1235,82.3576,82.5104,82.6613 ,82.8109,82.9591,83.1053,83.2468, 83.4579,83.6651,83.8008,83.933,84.0614, 84.1877,84.3116,84.433,84.5517,84.6666, 84.8839,84.9875,85.0877,85.184,85.3206, 85.4838,85.6611,85.8292,85.9104,85.9673 ,85.9776,86.0285)
FOOTPRINT_POINT_LONGITUDE = (7.77361,8.00195,8.39225,9.06721, 9.51689,10.161,10.1989,12.4174,22.9671, 29.3836,36.6859,42.9717,47.3096,49.3064 ,51.1794,52.9325,55.3477,57.5238, 58.8627,60.1496,61.3478,62.4725,63.5317 ,64.5241,65.4596,66.36,67.2092,68.0106, 68.7687,69.4853,70.1688,70.8227,71.446, 72.0358,72.5979,73.1308,73.9014,74.3876 ,74.8434,75.2865,75.9121,76.309,76.6912 ,77.2433,77.5885,77.9242,78.249,78.5603 ,78.7101,78.7443,76.7589,75.4235, 74.1084,72.5168,71.2471,69.6201,68.5857 ,68.4924,68.4575,68.0343,67.5951, 67.1392,66.4277,65.937,65.4267,64.6228, 64.061,63.4878,62.8914,62.2708,61.6238, 60.6097,59.9063,59.1739,58.4098,57.6125 ,56.7839,55.9355,54.5886,53.1505, 52.1378,51.0903,50.0095,48.8803,47.7002 ,46.4669,45.178,43.8424,41.0368,39.5428 ,37.9856,36.3636,33.8106,30.256,25.4547 ,19.2252,14.908,10.4386,9.30314, 7.77361)
ORBIT_NUMBER = 5734
ORBITAL_ECCENTRICITY = 0.568
ORBITAL_INCLINATION = 86.76
ORBITAL_SEMIMAJOR_AXIS = 8643.65
PERIAPSIS_ALTITUDE = 357.01
PERIAPSIS_ARGUMENT_ANGLE = 69.79
PERIAPSIS_TIME = 2008-06-19T18:49:03.000Z
SPACECRAFT_ORIENTATION = (0.0,1.0,0.0)
^MEX_ORIENTATION_DESC = "MEX_ORIENTATION_DESC.TXT"
SPACECRAFT_POINTING_MODE = NADIR
^MEX_POINTING_DESC = "MEX_POINTING_DESC.TXT"
RIGHT_ASCENSION = -1e+32
DECLINATION = -1e+32
OFFSET_ANGLE = -1e+32
SPACECRAFT_SOLAR_DISTANCE = 2.48169e+08
TARGET_NAME = MARS
/* CAMERA DATA ELEMENTS */
DETECTOR_TEMPERATURE = 18.3705
FOCAL_PLANE_TEMPERATURE = 7.156
INST_CMPRS_NAME = "DISCRETE COSINE TRANSFORMATION (DCT)"
INST_CMPRS_RATIO = 8.43022
INST_CMPRS_QUALITY = 0
INST_CMPRS_QUANTZ_TBL_ID = 0
INSTRUMENT_TEMPERATURE = 10.8262
LENS_TEMPERATURE = 7.9716
MACROPIXEL_SIZE = 2
MISSING_FRAMES = 0
PIXEL_SUBSAMPLING_FLAG = N
SIGNAL_CHAIN_ID = 3
/* RADIOMETRIC DATA ELEMENTS */
BANDWIDTH = 177.0
CENTER_FILTER_WAVELENGTH = 676.5
RADIANCE_OFFSET = 3.78365
RADIANCE_SCALING_FACTOR = 0.0223612
REFLECTANCE_SCALING_FACTOR = 0.00073021
MEX:REFLECTANCE_OFFSET = 0.123556
/* IMAGE OBJECT DEFINITIONS */
OBJECT = IMAGE
  INTERCHANGE_FORMAT = BINARY
  LINES = 17911
  LINE_SAMPLES = 16329
  SAMPLE_TYPE = UNSIGNED_INTEGER
  SAMPLE_BITS = 8
  BANDS = 1
  BAND_STORAGE_TYPE = BAND_SEQUENTIAL
  MAXIMUM = 254
  MEAN = 132.37
  MINIMUM = 1
  STANDARD_DEVIATION = 62.0416
END_OBJECT = IMAGE
/* MAP OBJECT DEFINITIONS */
OBJECT = IMAGE_MAP_PROJECTION
  ^DATA_SET_MAP_PROJECTION_CATALOG= "DSMAP.CAT"
  A_AXIS_RADIUS = 3396.0
  B_AXIS_RADIUS = 3396.0
  C_AXIS_RADIUS = 3396.0
  CENTER_LATITUDE = 0.0
  CENTER_LONGITUDE = 58.0
  COORDINATE_SYSTEM_NAME = PLANETOGRAPHIC
  COORDINATE_SYSTEM_TYPE = "BODY-FIXED ROTATING"
  EASTERNMOST_LONGITUDE = 78.7443
  FIRST_STANDARD_PARALLEL = "N/A"
  LINE_FIRST_PIXEL = 1
  LINE_LAST_PIXEL = 17911
  LINE_PROJECTION_OFFSET = 207501.25
  MAP_PROJECTION_ROTATION = 0.0
  MAP_PROJECTION_TYPE = SINUSOIDAL
  MAP_RESOLUTION = 2370.85521546667
  MAP_SCALE = 0.025
  MAXIMUM_LATITUDE = 87.50490000000001
  MINIMUM_LATITUDE = 79.96850000000001
  POSITIVE_LONGITUDE_DIRECTION = EAST
  REFERENCE_LATITUDE = "N/A"
  REFERENCE_LONGITUDE = "N/A"
  SAMPLE_FIRST_PIXEL = 1
  SAMPLE_LAST_PIXEL = 16329
  SAMPLE_PROJECTION_OFFSET = 8216.75
  SECOND_STANDARD_PARALLEL = "N/A"
  WESTERNMOST_LONGITUDE = 7.77361
END_OBJECT = IMAGE_MAP_PROJECTION
END
