PDS_VERSION_ID = PDS3
/* FILE DATA ELEMENTS */
RECORD_TYPE = UNDEFINED
/* POINTERS TO DATA OBJECTS */
^IMAGE = ("H5730_0000_GR4.TIF")
/* IDENTIFICATION DATA ELEMENTS */
DATA_SET_ID = "MEX-M-HRSC-4-REFDR-MAPPROJECT-EXT2-V4.0"
DATA_SET_NAME = "MARS EXPRESS HRSC MAP PROJECTED REFDR EXTENSION2 V4.0"
DETECTOR_ID = MEX_HRSC_GREEN
EVENT_TYPE = "MARS-REGIONAL-MAPPING-Gl-La"
INSTRUMENT_HOST_ID = MEX
INSTRUMENT_HOST_NAME = "MARS EXPRESS"
INSTRUMENT_ID = HRSC
INSTRUMENT_NAME = "HIGH RESOLUTION STEREO CAMERA"
MISSION_NAME = "MARS EXPRESS"
MISSION_PHASE_NAME = ME_Phase_13
PROCESSING_LEVEL_ID = 4
PRODUCT_CREATION_TIME = 2023-02-03T16:04:45.000Z
PRODUCT_ID = "H5730_0000_GR4.TIF"
RELEASE_ID = 0003
REVISION_ID = 0000
/* QUALITY DATA ELEMENTS */
DATA_QUALITY_ID = 1
DATA_QUALITY_DESC = "Data calculated based on original SPICE kernels"
/* TIME DATA ELEMENTS */
SPACECRAFT_CLOCK_START_COUNT = "1/0161882994.09065"
SPACECRAFT_CLOCK_STOP_COUNT = "1/0161883242.05054"
START_TIME = 2008-06-18T15:30:37.666Z
STOP_TIME = 2008-06-18T15:33:27.044Z
/* ORBITAL DATA ELEMENTS */
ASCENDING_NODE_LONGITUDE = 109.29
MAXIMUM_RESOLUTION = 0.0679
FOOTPRINT_POINT_LATITUDE = (83.9806,84.0603,84.0892,84.1098, 84.1214,84.1185,84.1178,84.0596,84.5992 ,85.2465,85.5696,86.1198,86.6704, 87.1094,87.333,87.5571,87.7805,88.0026, 88.2247,88.4451,88.6673,88.9947,89.2037 ,89.3954,89.5478,89.5925,89.4701, 89.2873,89.0791,88.8578,88.6274,88.3934 ,88.1573,87.9196,87.6754,87.431,87.1853 ,86.9393,86.6894,86.4376,86.0595, 85.8045,85.4176,85.1595,84.899,84.6354, 84.2384,84.1068,84.015,84.0356,84.0358, 84.0212,83.9642,83.9133,83.8553,83.8511 ,83.8512,84.1088,84.4923,84.7467, 84.9957,85.2426,85.4887,85.7317,85.9694 ,86.2054,86.4386,86.6677,86.8894, 87.1078,87.3214,87.5279,87.7225,87.9067 ,88.0787,88.3044,88.4242,88.5158, 88.5739,88.5941,88.5753,88.5211,88.4324 ,88.2507,88.104,87.9434,87.7738,87.5933 ,87.4065,87.2142,86.8168,86.4153, 85.9015,85.4838,84.8639,84.4471,84.133, 84.0281,83.9806)
FOOTPRINT_POINT_LONGITUDE = (329.669,325.542,323.356,321.096,318.76 ,314.808,314.652,312.659,312.31,311.799 ,311.474,310.843,309.955,308.963, 308.318,307.577,306.671,305.507,304.148 ,302.368,299.9,294.148,287.745,277.012, 257.82,209.413,184.213,170.127,162.136, 157.061,153.638,151.225,149.412,148.037 ,146.953,146.013,145.321,144.721, 144.136,143.689,143.112,142.834,142.412 ,142.168,141.999,141.793,141.58,141.48, 141.415,137.733,135.264,132.325,127.566 ,124.907,122.527,122.371,122.316, 121.714,120.732,119.974,119.197,118.287 ,117.325,116.234,115.045,113.719, 112.196,110.502,108.543,106.326,103.762 ,100.772,97.3,93.1849,88.3241,79.3482, 72.1948,64.0179,54.9775,45.4286,35.9248 ,27.0354,18.9977,8.75706,3.12872, 358.362,354.346,350.993,348.074,345.524 ,341.432,338.291,335.254,333.311, 331.002,329.779,328.982,328.735, 329.669)
ORBIT_NUMBER = 5730
ORBITAL_ECCENTRICITY = 0.568
ORBITAL_INCLINATION = 86.75
ORBITAL_SEMIMAJOR_AXIS = 8643.36
PERIAPSIS_ALTITUDE = 358.2
PERIAPSIS_ARGUMENT_ANGLE = 70.48
PERIAPSIS_TIME = 2008-06-18T15:26:52.000Z
SPACECRAFT_ORIENTATION = (0.0,1.0,0.0)
^MEX_ORIENTATION_DESC = "MEX_ORIENTATION_DESC.TXT"
SPACECRAFT_POINTING_MODE = INERT
^MEX_POINTING_DESC = "MEX_POINTING_DESC.TXT"
RIGHT_ASCENSION = 111.755
DECLINATION = -68.429
OFFSET_ANGLE = -1e+32
SPACECRAFT_SOLAR_DISTANCE = 2.48231e+08
TARGET_NAME = MARS
/* CAMERA DATA ELEMENTS */
DETECTOR_TEMPERATURE = 17.7588
FOCAL_PLANE_TEMPERATURE = 7.3599
INST_CMPRS_NAME = "DISCRETE COSINE TRANSFORMATION (DCT)"
INST_CMPRS_RATIO = 18.0681
INST_CMPRS_QUALITY = 0
INST_CMPRS_QUANTZ_TBL_ID = 0
INSTRUMENT_TEMPERATURE = 10.8262
LENS_TEMPERATURE = 7.7677
MACROPIXEL_SIZE = 4
MISSING_FRAMES = 0
PIXEL_SUBSAMPLING_FLAG = N
SIGNAL_CHAIN_ID = 2
/* RADIOMETRIC DATA ELEMENTS */
BANDWIDTH = 88.0
CENTER_FILTER_WAVELENGTH = 538.0
RADIANCE_OFFSET = 0.921782
RADIANCE_SCALING_FACTOR = 0.0157019
REFLECTANCE_SCALING_FACTOR = 0.000833019
MEX:REFLECTANCE_OFFSET = 0.0489024
/* IMAGE OBJECT DEFINITIONS */
OBJECT = IMAGE
  INTERCHANGE_FORMAT = BINARY
  LINES = 11722
  LINE_SAMPLES = 11291
  SAMPLE_TYPE = UNSIGNED_INTEGER
  SAMPLE_BITS = 8
  BANDS = 1
  BAND_STORAGE_TYPE = BAND_SEQUENTIAL
  MAXIMUM = 255
  MEAN = 146.256
  MINIMUM = 1
  STANDARD_DEVIATION = 53.3746
END_OBJECT = IMAGE
/* MAP OBJECT DEFINITIONS */
OBJECT = IMAGE_MAP_PROJECTION
  ^DATA_SET_MAP_PROJECTION_CATALOG= "DSMAP.CAT"
  A_AXIS_RADIUS = 3396.0
  B_AXIS_RADIUS = 3396.0
  C_AXIS_RADIUS = 3396.0
  CENTER_LATITUDE = 90.0
  CENTER_LONGITUDE = 0.0
  COORDINATE_SYSTEM_NAME = PLANETOGRAPHIC
  COORDINATE_SYSTEM_TYPE = "BODY-FIXED ROTATING"
  EASTERNMOST_LONGITUDE = 360.0
  FIRST_STANDARD_PARALLEL = "N/A"
  LINE_FIRST_PIXEL = 1
  LINE_LAST_PIXEL = 11722
  LINE_PROJECTION_OFFSET = 5583.875
  MAP_PROJECTION_ROTATION = 0.0
  MAP_PROJECTION_TYPE = STEREOGRAPHIC
  MAP_RESOLUTION = 1185.42760773333
  MAP_SCALE = 0.05
  MAXIMUM_LATITUDE = 90.0
  MINIMUM_LATITUDE = 83.8511
  POSITIVE_LONGITUDE_DIRECTION = EAST
  REFERENCE_LATITUDE = "N/A"
  REFERENCE_LONGITUDE = "N/A"
  SAMPLE_FIRST_PIXEL = 1
  SAMPLE_LAST_PIXEL = 11291
  SAMPLE_PROJECTION_OFFSET = 5161.625
  SECOND_STANDARD_PARALLEL = "N/A"
  WESTERNMOST_LONGITUDE = 0.0
END_OBJECT = IMAGE_MAP_PROJECTION
END
