PDS_VERSION_ID = PDS3
/* FILE DATA ELEMENTS */
RECORD_TYPE = UNDEFINED
/* POINTERS TO DATA OBJECTS */
^IMAGE = ("H5726_0001_S14.TIF")
/* IDENTIFICATION DATA ELEMENTS */
DATA_SET_ID = "MEX-M-HRSC-4-REFDR-MAPPROJECT-EXT2-V4.0"
DATA_SET_NAME = "MARS EXPRESS HRSC MAP PROJECTED REFDR EXTENSION2 V4.0"
DETECTOR_ID = MEX_HRSC_S1
EVENT_TYPE = "MARS-REGIONAL-MAPPING-Im-Gl"
INSTRUMENT_HOST_ID = MEX
INSTRUMENT_HOST_NAME = "MARS EXPRESS"
INSTRUMENT_ID = HRSC
INSTRUMENT_NAME = "HIGH RESOLUTION STEREO CAMERA"
MISSION_NAME = "MARS EXPRESS"
MISSION_PHASE_NAME = ME_Phase_13
PROCESSING_LEVEL_ID = 4
PRODUCT_CREATION_TIME = 2023-02-03T16:04:45.000Z
PRODUCT_ID = "H5726_0001_S14.TIF"
RELEASE_ID = 0003
REVISION_ID = 0000
/* QUALITY DATA ELEMENTS */
DATA_QUALITY_ID = 1
DATA_QUALITY_DESC = "Data calculated based on original SPICE kernels"
/* TIME DATA ELEMENTS */
SPACECRAFT_CLOCK_START_COUNT = "1/0161784709.07291"
SPACECRAFT_CLOCK_STOP_COUNT = "1/0161784993.56429"
START_TIME = 2008-06-17T12:13:45.121Z
STOP_TIME = 2008-06-17T12:16:35.518Z
/* ORBITAL DATA ELEMENTS */
ASCENDING_NODE_LONGITUDE = 109.37
MAXIMUM_RESOLUTION = 0.0517
FOOTPRINT_POINT_LATITUDE = (78.0335,78.1277,78.2152,78.2958, 78.3692,78.4353,78.514,78.5173,78.6774, 78.4464,78.1383,77.9046,77.4351,77.0409 ,76.8004,76.3199,75.9978,75.8347, 75.6717,75.4271,75.2626,75.0982,74.9326 ,74.7655,74.5996,74.3481,74.1802, 74.0107,73.8412,73.6717,73.5006,73.3296 ,73.1561,72.9831,72.8128,72.5529, 72.2916,72.1163,71.9407,71.7638,71.5876 ,71.41,71.2312,70.9629,70.7834,70.6026, 70.4213,70.331,70.2875,70.2726,70.2513, 70.2318,70.2138,70.1822,70.134,70.095, 70.0642,70.0367,69.9984,69.9626,69.958, 69.9571,70.2249,70.4034,70.5798,70.7567 ,70.9321,71.1952,71.4562,71.63,71.8025, 72.0609,72.2319,72.4032,72.6572,72.8265 ,72.9941,73.1623,73.4124,73.5787, 73.7445,73.9913,74.156,74.3185,74.4813, 74.644,74.8049,74.9661,75.1267,75.4448, 75.604,75.9188,76.3873,76.6199,76.9269, 77.1564,77.6107,78.0583,78.133,78.0335)
FOOTPRINT_POINT_LONGITUDE = (154.83,156.289,157.774,159.285,160.82, 162.379,164.563,164.663,164.934,165.129 ,165.377,165.557,165.896,166.162, 166.314,166.606,166.79,166.88,166.968, 167.097,167.18,167.262,167.342,167.42, 167.497,167.611,167.684,167.755,167.827 ,167.896,167.964,168.032,168.094, 168.159,168.226,168.321,168.413,168.473 ,168.531,168.59,168.648,168.704,168.758 ,168.84,168.893,168.945,168.997,169.022 ,169.034,168.404,167.616,166.989, 166.442,165.588,164.43,163.585,162.974, 162.441,161.759,161.156,161.08,161.053, 160.938,160.859,160.779,160.697,160.614 ,160.486,160.354,160.264,160.172, 160.031,159.935,159.836,159.685,159.582 ,159.478,159.37,159.205,159.092,158.977 ,158.801,158.679,158.556,158.431, 158.302,158.171,158.037,157.9,157.619, 157.473,157.173,156.697,156.447,156.101 ,155.83,155.262,154.654,154.548,154.83)
ORBIT_NUMBER = 5726
ORBITAL_ECCENTRICITY = 0.568
ORBITAL_INCLINATION = 86.74
ORBITAL_SEMIMAJOR_AXIS = 8644.47
PERIAPSIS_ALTITUDE = 358.93
PERIAPSIS_ARGUMENT_ANGLE = 71.17
PERIAPSIS_TIME = 2008-06-17T12:04:46.000Z
SPACECRAFT_ORIENTATION = (0.0,1.0,0.0)
^MEX_ORIENTATION_DESC = "MEX_ORIENTATION_DESC.TXT"
SPACECRAFT_POINTING_MODE = ACROSSTRACK
^MEX_POINTING_DESC = "MEX_POINTING_DESC.TXT"
RIGHT_ASCENSION = -1e+32
DECLINATION = -1e+32
OFFSET_ANGLE = 0.458
SPACECRAFT_SOLAR_DISTANCE = 2.48292e+08
TARGET_NAME = MARS
/* CAMERA DATA ELEMENTS */
DETECTOR_TEMPERATURE = 18.1666
FOCAL_PLANE_TEMPERATURE = 7.7677
INST_CMPRS_NAME = "DISCRETE COSINE TRANSFORMATION (DCT)"
INST_CMPRS_RATIO = 11.7261
INST_CMPRS_QUALITY = 0
INST_CMPRS_QUANTZ_TBL_ID = 0
INSTRUMENT_TEMPERATURE = 12.4574
LENS_TEMPERATURE = 8.5833
MACROPIXEL_SIZE = 2
MISSING_FRAMES = 0
PIXEL_SUBSAMPLING_FLAG = N
SIGNAL_CHAIN_ID = 1
/* RADIOMETRIC DATA ELEMENTS */
BANDWIDTH = 180.0
CENTER_FILTER_WAVELENGTH = 677.0
RADIANCE_OFFSET = 4.21618
RADIANCE_SCALING_FACTOR = 0.0362942
REFLECTANCE_SCALING_FACTOR = 0.00116735
MEX:REFLECTANCE_OFFSET = 0.135607
/* IMAGE OBJECT DEFINITIONS */
OBJECT = IMAGE
  INTERCHANGE_FORMAT = BINARY
  LINES = 10275
  LINE_SAMPLES = 4163
  SAMPLE_TYPE = UNSIGNED_INTEGER
  SAMPLE_BITS = 8
  BANDS = 1
  BAND_STORAGE_TYPE = BAND_SEQUENTIAL
  MAXIMUM = 255
  MEAN = 86.2958
  MINIMUM = 1
  STANDARD_DEVIATION = 36.2557
END_OBJECT = IMAGE
/* MAP OBJECT DEFINITIONS */
OBJECT = IMAGE_MAP_PROJECTION
  ^DATA_SET_MAP_PROJECTION_CATALOG= "DSMAP.CAT"
  A_AXIS_RADIUS = 3396.0
  B_AXIS_RADIUS = 3396.0
  C_AXIS_RADIUS = 3396.0
  CENTER_LATITUDE = 0.0
  CENTER_LONGITUDE = 163.0
  COORDINATE_SYSTEM_NAME = PLANETOGRAPHIC
  COORDINATE_SYSTEM_TYPE = "BODY-FIXED ROTATING"
  EASTERNMOST_LONGITUDE = 169.034
  FIRST_STANDARD_PARALLEL = "N/A"
  LINE_FIRST_PIXEL = 1
  LINE_LAST_PIXEL = 10275
  LINE_PROJECTION_OFFSET = 93211.75
  MAP_PROJECTION_ROTATION = 0.0
  MAP_PROJECTION_TYPE = SINUSOIDAL
  MAP_RESOLUTION = 1185.42760773333
  MAP_SCALE = 0.05
  MAXIMUM_LATITUDE = 78.67740000000001
  MINIMUM_LATITUDE = 69.9571
  POSITIVE_LONGITUDE_DIRECTION = EAST
  REFERENCE_LATITUDE = "N/A"
  REFERENCE_LONGITUDE = "N/A"
  SAMPLE_FIRST_PIXEL = 1
  SAMPLE_LAST_PIXEL = 4163
  SAMPLE_PROJECTION_OFFSET = 1972.25
  SECOND_STANDARD_PARALLEL = "N/A"
  WESTERNMOST_LONGITUDE = 154.548
END_OBJECT = IMAGE_MAP_PROJECTION
END
