PDS_VERSION_ID = PDS3
/* FILE DATA ELEMENTS */
RECORD_TYPE = UNDEFINED
/* POINTERS TO DATA OBJECTS */
^IMAGE = ("H5726_0001_P14.TIF")
/* IDENTIFICATION DATA ELEMENTS */
DATA_SET_ID = "MEX-M-HRSC-4-REFDR-MAPPROJECT-EXT2-V4.0"
DATA_SET_NAME = "MARS EXPRESS HRSC MAP PROJECTED REFDR EXTENSION2 V4.0"
DETECTOR_ID = MEX_HRSC_P1
EVENT_TYPE = "MARS-REGIONAL-MAPPING-Im-Gl"
INSTRUMENT_HOST_ID = MEX
INSTRUMENT_HOST_NAME = "MARS EXPRESS"
INSTRUMENT_ID = HRSC
INSTRUMENT_NAME = "HIGH RESOLUTION STEREO CAMERA"
MISSION_NAME = "MARS EXPRESS"
MISSION_PHASE_NAME = ME_Phase_13
PROCESSING_LEVEL_ID = 4
PRODUCT_CREATION_TIME = 2023-02-03T16:04:45.000Z
PRODUCT_ID = "H5726_0001_P14.TIF"
RELEASE_ID = 0003
REVISION_ID = 0000
/* QUALITY DATA ELEMENTS */
DATA_QUALITY_ID = 1
DATA_QUALITY_DESC = "Data calculated based on original SPICE kernels"
/* TIME DATA ELEMENTS */
SPACECRAFT_CLOCK_START_COUNT = "1/0161784709.07291"
SPACECRAFT_CLOCK_STOP_COUNT = "1/0161784993.56429"
START_TIME = 2008-06-17T12:13:22.673Z
STOP_TIME = 2008-06-17T12:16:03.973Z
/* ORBITAL DATA ELEMENTS */
ASCENDING_NODE_LONGITUDE = 109.37
MAXIMUM_RESOLUTION = 0.0483
FOOTPRINT_POINT_LATITUDE = (78.0872,78.1775,78.2614,78.3386, 78.4089,78.4723,78.5477,78.5508,78.6575 ,78.3487,78.0401,77.6487,77.3348,77.018 ,76.698,76.4572,76.2161,76.0537,75.8912 ,75.7291,75.5648,75.4005,75.2367, 75.0707,74.9046,74.7383,74.5708,74.4028 ,74.2349,74.0658,73.8955,73.7257, 73.5545,73.3828,73.2104,73.0369,72.864, 72.6043,72.4291,72.1664,71.9895,71.8135 ,71.5466,71.3685,71.1887,70.9187, 70.6462,70.373,70.2811,70.2704,70.2465, 70.227,70.1953,70.1733,70.1406,70.0978, 70.0693,70.0388,69.9608,69.9564,69.9556 ,70.1366,70.3157,70.5843,70.8502, 71.0274,71.203,71.4662,71.6401,71.9008, 72.0729,72.2452,72.4168,72.5871,72.8424 ,73.0109,73.1797,73.3479,73.5145, 73.6811,73.8472,74.0118,74.1766,74.3409 ,74.5035,74.6663,74.8291,74.9897, 75.1504,75.3113,75.6288,75.9456,76.3372 ,76.7242,77.0323,77.3363,77.7141, 78.0883,78.1628,78.0872)
FOOTPRINT_POINT_LONGITUDE = (154.88,156.291,157.727,159.189,160.673 ,162.179,164.289,164.385,164.685, 164.945,165.191,165.484,165.706,165.92, 166.121,166.267,166.411,166.504,166.594 ,166.682,166.77,166.855,166.939,167.021 ,167.102,167.179,167.256,167.332, 167.406,167.479,167.55,167.62,167.688, 167.756,167.82,167.885,167.95,168.046, 168.108,168.198,168.258,168.316,168.402 ,168.458,168.512,168.593,168.671, 168.748,168.773,168.776,167.803,167.13, 166.166,165.575,164.767,163.817,163.235 ,162.656,161.289,161.218,161.192, 161.114,161.035,160.914,160.789,160.704 ,160.618,160.484,160.393,160.254, 160.159,160.061,159.962,159.861,159.706 ,159.6,159.491,159.381,159.269,159.154, 159.037,158.918,158.796,158.671,158.545 ,158.416,158.283,158.149,158.012, 157.871,157.582,157.278,156.882,156.464 ,156.111,155.744,155.26,154.747,154.64, 154.88)
ORBIT_NUMBER = 5726
ORBITAL_ECCENTRICITY = 0.568
ORBITAL_INCLINATION = 86.74
ORBITAL_SEMIMAJOR_AXIS = 8644.47
PERIAPSIS_ALTITUDE = 358.93
PERIAPSIS_ARGUMENT_ANGLE = 71.17
PERIAPSIS_TIME = 2008-06-17T12:04:46.000Z
SPACECRAFT_ORIENTATION = (0.0,1.0,0.0)
^MEX_ORIENTATION_DESC = "MEX_ORIENTATION_DESC.TXT"
SPACECRAFT_POINTING_MODE = ACROSSTRACK
^MEX_POINTING_DESC = "MEX_POINTING_DESC.TXT"
RIGHT_ASCENSION = -1e+32
DECLINATION = -1e+32
OFFSET_ANGLE = 0.458
SPACECRAFT_SOLAR_DISTANCE = 2.48292e+08
TARGET_NAME = MARS
/* CAMERA DATA ELEMENTS */
DETECTOR_TEMPERATURE = 18.1666
FOCAL_PLANE_TEMPERATURE = 7.7677
INST_CMPRS_NAME = "DISCRETE COSINE TRANSFORMATION (DCT)"
INST_CMPRS_RATIO = 14.278
INST_CMPRS_QUALITY = 0
INST_CMPRS_QUANTZ_TBL_ID = 0
INSTRUMENT_TEMPERATURE = 12.4574
LENS_TEMPERATURE = 8.5833
MACROPIXEL_SIZE = 2
MISSING_FRAMES = 0
PIXEL_SUBSAMPLING_FLAG = N
SIGNAL_CHAIN_ID = 3
/* RADIOMETRIC DATA ELEMENTS */
BANDWIDTH = 174.0
CENTER_FILTER_WAVELENGTH = 675.0
RADIANCE_OFFSET = 3.85192
RADIANCE_SCALING_FACTOR = 0.034778
REFLECTANCE_SCALING_FACTOR = 0.00115322
MEX:REFLECTANCE_OFFSET = 0.127728
/* IMAGE OBJECT DEFINITIONS */
OBJECT = IMAGE
  INTERCHANGE_FORMAT = BINARY
  LINES = 10275
  LINE_SAMPLES = 4163
  SAMPLE_TYPE = UNSIGNED_INTEGER
  SAMPLE_BITS = 8
  BANDS = 1
  BAND_STORAGE_TYPE = BAND_SEQUENTIAL
  MAXIMUM = 255
  MEAN = 83.2356
  MINIMUM = 1
  STANDARD_DEVIATION = 36.8207
END_OBJECT = IMAGE
/* MAP OBJECT DEFINITIONS */
OBJECT = IMAGE_MAP_PROJECTION
  ^DATA_SET_MAP_PROJECTION_CATALOG= "DSMAP.CAT"
  A_AXIS_RADIUS = 3396.0
  B_AXIS_RADIUS = 3396.0
  C_AXIS_RADIUS = 3396.0
  CENTER_LATITUDE = 0.0
  CENTER_LONGITUDE = 163.0
  COORDINATE_SYSTEM_NAME = PLANETOGRAPHIC
  COORDINATE_SYSTEM_TYPE = "BODY-FIXED ROTATING"
  EASTERNMOST_LONGITUDE = 168.776
  FIRST_STANDARD_PARALLEL = "N/A"
  LINE_FIRST_PIXEL = 1
  LINE_LAST_PIXEL = 10275
  LINE_PROJECTION_OFFSET = 93211.75
  MAP_PROJECTION_ROTATION = 0.0
  MAP_PROJECTION_TYPE = SINUSOIDAL
  MAP_RESOLUTION = 1185.42760773333
  MAP_SCALE = 0.05
  MAXIMUM_LATITUDE = 78.6575
  MINIMUM_LATITUDE = 69.9556
  POSITIVE_LONGITUDE_DIRECTION = EAST
  REFERENCE_LATITUDE = "N/A"
  REFERENCE_LONGITUDE = "N/A"
  SAMPLE_FIRST_PIXEL = 1
  SAMPLE_LAST_PIXEL = 4163
  SAMPLE_PROJECTION_OFFSET = 1972.25
  SECOND_STANDARD_PARALLEL = "N/A"
  WESTERNMOST_LONGITUDE = 154.64
END_OBJECT = IMAGE_MAP_PROJECTION
END
