PDS_VERSION_ID = PDS3
/* FILE DATA ELEMENTS */
RECORD_TYPE = UNDEFINED
/* POINTERS TO DATA OBJECTS */
^IMAGE = ("H5726_0001_ND4.TIF")
/* IDENTIFICATION DATA ELEMENTS */
DATA_SET_ID = "MEX-M-HRSC-4-REFDR-MAPPROJECT-EXT2-V4.0"
DATA_SET_NAME = "MARS EXPRESS HRSC MAP PROJECTED REFDR EXTENSION2 V4.0"
DETECTOR_ID = MEX_HRSC_NADIR
EVENT_TYPE = "MARS-REGIONAL-MAPPING-Im-Gl"
INSTRUMENT_HOST_ID = MEX
INSTRUMENT_HOST_NAME = "MARS EXPRESS"
INSTRUMENT_ID = HRSC
INSTRUMENT_NAME = "HIGH RESOLUTION STEREO CAMERA"
MISSION_NAME = "MARS EXPRESS"
MISSION_PHASE_NAME = ME_Phase_13
PROCESSING_LEVEL_ID = 4
PRODUCT_CREATION_TIME = 2023-02-03T16:04:45.000Z
PRODUCT_ID = "H5726_0001_ND4.TIF"
RELEASE_ID = 0003
REVISION_ID = 0000
/* QUALITY DATA ELEMENTS */
DATA_QUALITY_ID = 1
DATA_QUALITY_DESC = "Data calculated based on original SPICE kernels"
/* TIME DATA ELEMENTS */
SPACECRAFT_CLOCK_START_COUNT = "1/0161784709.07291"
SPACECRAFT_CLOCK_STOP_COUNT = "1/0161784993.56429"
START_TIME = 2008-06-17T12:12:43.935Z
STOP_TIME = 2008-06-17T12:15:11.960Z
/* ORBITAL DATA ELEMENTS */
ASCENDING_NODE_LONGITUDE = 109.37
MAXIMUM_RESOLUTION = 0.0222
FOOTPRINT_POINT_LATITUDE = (78.1951,78.2752,78.3545,78.4274, 78.4935,78.5527,78.6197,78.6226,78.6313 ,78.4027,78.0153,77.7055,77.3906,77.076 ,76.7571,76.4376,76.1143,75.7902, 75.6266,75.4621,75.2977,75.1335,74.884, 74.7173,74.5508,74.2984,74.1295,73.9607 ,73.705,73.5339,73.3631,73.1041,72.9309 ,72.7579,72.5829,72.4075,72.2323,71.967 ,71.7896,71.6124,71.4327,71.2532, 71.0739,70.8921,70.7105,70.5292,70.3453 ,70.2535,70.2496,70.237,70.2169,70.1935 ,70.1745,70.1564,70.1284,70.1041, 70.0782,70.0506,70.0214,69.9704,69.9663 ,69.9647,70.1461,70.416,70.5953,70.7748 ,70.9517,71.1288,71.306,71.4808,71.6557 ,71.9173,72.0899,72.2628,72.4352, 72.6056,72.7762,73.031,73.1991,73.3674, 73.6188,73.7847,73.9506,74.1986,74.362, 74.5256,74.7704,74.9314,75.0925,75.414, 75.7312,76.0474,76.3594,76.6706,76.9773 ,77.2839,77.7358,78.1091,78.183, 78.1951)
FOOTPRINT_POINT_LONGITUDE = (154.971,156.254,157.644,159.06,160.496 ,161.955,163.904,163.997,164.382, 164.576,164.889,165.123,165.35,165.566, 165.77,165.966,166.157,166.338,166.426, 166.512,166.597,166.679,166.801,166.88, 166.957,167.07,167.142,167.213,167.32, 167.388,167.455,167.551,167.617,167.681 ,167.744,167.806,167.866,167.955, 168.013,168.069,168.126,168.181,168.234 ,168.287,168.339,168.39,168.44,168.465, 168.466,167.901,167.124,166.353,165.795 ,165.308,164.616,164.064,163.514, 162.967,162.423,161.542,161.474,161.441 ,161.363,161.243,161.161,161.077, 160.992,160.906,160.817,160.727,160.636 ,160.495,160.399,160.301,160.201,160.1, 159.996,159.837,159.728,159.617,159.447 ,159.331,159.212,159.029,158.905, 158.778,158.582,158.449,158.313,158.03, 157.738,157.431,157.113,156.779,156.433 ,156.068,155.493,154.981,154.876, 154.971)
ORBIT_NUMBER = 5726
ORBITAL_ECCENTRICITY = 0.568
ORBITAL_INCLINATION = 86.74
ORBITAL_SEMIMAJOR_AXIS = 8644.47
PERIAPSIS_ALTITUDE = 358.93
PERIAPSIS_ARGUMENT_ANGLE = 71.17
PERIAPSIS_TIME = 2008-06-17T12:04:46.000Z
SPACECRAFT_ORIENTATION = (0.0,1.0,0.0)
^MEX_ORIENTATION_DESC = "MEX_ORIENTATION_DESC.TXT"
SPACECRAFT_POINTING_MODE = ACROSSTRACK
^MEX_POINTING_DESC = "MEX_POINTING_DESC.TXT"
RIGHT_ASCENSION = -1e+32
DECLINATION = -1e+32
OFFSET_ANGLE = 0.458
SPACECRAFT_SOLAR_DISTANCE = 2.48292e+08
TARGET_NAME = MARS
/* CAMERA DATA ELEMENTS */
DETECTOR_TEMPERATURE = 19.1861
FOCAL_PLANE_TEMPERATURE = 7.7677
INST_CMPRS_NAME = "DISCRETE COSINE TRANSFORMATION (DCT)"
INST_CMPRS_RATIO = 6.92369
INST_CMPRS_QUALITY = 0
INST_CMPRS_QUANTZ_TBL_ID = 0
INSTRUMENT_TEMPERATURE = 12.4574
LENS_TEMPERATURE = 8.5833
MACROPIXEL_SIZE = 1
MISSING_FRAMES = 0
PIXEL_SUBSAMPLING_FLAG = N
SIGNAL_CHAIN_ID = 0
/* RADIOMETRIC DATA ELEMENTS */
BANDWIDTH = 177.0
CENTER_FILTER_WAVELENGTH = 677.5
RADIANCE_OFFSET = 3.52028
RADIANCE_SCALING_FACTOR = 0.0368852
REFLECTANCE_SCALING_FACTOR = 0.00120798
MEX:REFLECTANCE_OFFSET = 0.115288
/* IMAGE OBJECT DEFINITIONS */
OBJECT = IMAGE
  INTERCHANGE_FORMAT = BINARY
  LINES = 20549
  LINE_SAMPLES = 8326
  SAMPLE_TYPE = UNSIGNED_INTEGER
  SAMPLE_BITS = 8
  BANDS = 1
  BAND_STORAGE_TYPE = BAND_SEQUENTIAL
  MAXIMUM = 255
  MEAN = 82.9798
  MINIMUM = 1
  STANDARD_DEVIATION = 38.2342
END_OBJECT = IMAGE
/* MAP OBJECT DEFINITIONS */
OBJECT = IMAGE_MAP_PROJECTION
  ^DATA_SET_MAP_PROJECTION_CATALOG= "DSMAP.CAT"
  A_AXIS_RADIUS = 3396.0
  B_AXIS_RADIUS = 3396.0
  C_AXIS_RADIUS = 3396.0
  CENTER_LATITUDE = 0.0
  CENTER_LONGITUDE = 163.0
  COORDINATE_SYSTEM_NAME = PLANETOGRAPHIC
  COORDINATE_SYSTEM_TYPE = "BODY-FIXED ROTATING"
  EASTERNMOST_LONGITUDE = 168.466
  FIRST_STANDARD_PARALLEL = "N/A"
  LINE_FIRST_PIXEL = 1
  LINE_LAST_PIXEL = 20549
  LINE_PROJECTION_OFFSET = 186424.0
  MAP_PROJECTION_ROTATION = 0.0
  MAP_PROJECTION_TYPE = SINUSOIDAL
  MAP_RESOLUTION = 2370.85521546667
  MAP_SCALE = 0.025
  MAXIMUM_LATITUDE = 78.6313
  MINIMUM_LATITUDE = 69.96469999999999
  POSITIVE_LONGITUDE_DIRECTION = EAST
  REFERENCE_LATITUDE = "N/A"
  REFERENCE_LONGITUDE = "N/A"
  SAMPLE_FIRST_PIXEL = 1
  SAMPLE_LAST_PIXEL = 8326
  SAMPLE_PROJECTION_OFFSET = 3945.0
  SECOND_STANDARD_PARALLEL = "N/A"
  WESTERNMOST_LONGITUDE = 154.876
END_OBJECT = IMAGE_MAP_PROJECTION
END
