PDS_VERSION_ID = PDS3
/* FILE DATA ELEMENTS */
RECORD_TYPE = UNDEFINED
/* POINTERS TO DATA OBJECTS */
^IMAGE = ("H5726_0000_RE4.TIF")
/* IDENTIFICATION DATA ELEMENTS */
DATA_SET_ID = "MEX-M-HRSC-4-REFDR-MAPPROJECT-EXT2-V4.0"
DATA_SET_NAME = "MARS EXPRESS HRSC MAP PROJECTED REFDR EXTENSION2 V4.0"
DETECTOR_ID = MEX_HRSC_RED
EVENT_TYPE = "MARS-REGIONAL-MAPPING-Gl-La"
INSTRUMENT_HOST_ID = MEX
INSTRUMENT_HOST_NAME = "MARS EXPRESS"
INSTRUMENT_ID = HRSC
INSTRUMENT_NAME = "HIGH RESOLUTION STEREO CAMERA"
MISSION_NAME = "MARS EXPRESS"
MISSION_PHASE_NAME = ME_Phase_13
PROCESSING_LEVEL_ID = 4
PRODUCT_CREATION_TIME = 2023-02-03T16:04:45.000Z
PRODUCT_ID = "H5726_0000_RE4.TIF"
RELEASE_ID = 0003
REVISION_ID = 0000
/* QUALITY DATA ELEMENTS */
DATA_QUALITY_ID = 1
DATA_QUALITY_DESC = "Data calculated based on original SPICE kernels"
/* TIME DATA ELEMENTS */
SPACECRAFT_CLOCK_START_COUNT = "1/0161784365.07291"
SPACECRAFT_CLOCK_STOP_COUNT = "1/0161784527.56760"
START_TIME = 2008-06-17T12:06:14.563Z
STOP_TIME = 2008-06-17T12:07:41.686Z
/* ORBITAL DATA ELEMENTS */
ASCENDING_NODE_LONGITUDE = 109.37
MAXIMUM_RESOLUTION = 0.0619
FOOTPRINT_POINT_LATITUDE = (78.1164,78.1681,78.2176,78.2651, 78.3104,78.3535,78.3942,78.4185,78.4209 ,78.5549,78.8877,79.0762,79.3151,79.458 ,79.6256,79.8507,79.9647,80.0772, 80.2472,80.4169,80.53,80.6432,80.7561, 80.869,80.9825,81.0956,81.2089,81.3208, 81.4333,81.5461,81.6587,81.7711,81.8836 ,81.996,82.1644,82.3326,82.5005,82.6682 ,82.8356,82.947,83.1139,83.2803,83.3911 ,83.5568,83.7222,83.8871,83.9967, 84.0514,84.0884,84.015,83.9559,83.8951, 83.8323,83.7614,83.6754,83.5734,83.4671 ,83.4604,83.4572,83.3094,83.2102, 83.1104,82.9597,82.808,82.7063,82.6042, 82.5017,82.3471,82.1917,82.0877,81.9311 ,81.7738,81.6686,81.5631,81.4573, 81.3513,81.2451,81.1387,81.0319,80.8715 ,80.7642,80.6567,80.5491,80.4415, 80.2802,80.1727,80.0634,79.8477,79.7385 ,79.6295,79.5203,79.4101,79.3003, 79.0874,78.8141,78.6294,78.4905,78.3054 ,78.259,78.1164)
FOOTPRINT_POINT_LONGITUDE = (10.9974,10.1566,9.30531,8.44171, 7.56741,6.68214,5.78425,5.21616,5.15907 ,4.87672,5.17851,5.36281,5.59533, 5.74087,5.91369,6.16605,6.29335,6.4267, 6.62969,6.84052,6.98512,7.13316,7.28529 ,7.44095,7.59916,7.76247,7.92924, 8.10328,8.28037,8.46167,8.64804,8.83973 ,9.03654,9.23882,9.55329,9.88165, 10.2248,10.5838,10.9597,11.2201,11.627, 12.054,12.3509,12.8153,13.3043,13.8197, 14.1791,14.3639,14.4915,16.2367,17.4891 ,18.7097,19.9018,21.1705,22.6093,24.197 ,25.7283,25.8222,25.8487,25.0635, 24.5594,24.0699,23.362,22.6842,22.2484, 21.8249,21.4131,20.8164,20.2439,19.8751 ,19.34,18.8259,18.4942,18.171,17.8563, 17.5491,17.2499,16.9585,16.6733,16.2593 ,15.9914,15.7296,15.4742,15.2254, 14.8641,14.6306,14.3982,13.9572,13.7413 ,13.5308,13.3248,13.1212,12.9231, 12.5517,12.0991,11.8058,11.5918,11.3155 ,11.2478,10.9974)
ORBIT_NUMBER = 5726
ORBITAL_ECCENTRICITY = 0.568
ORBITAL_INCLINATION = 86.74
ORBITAL_SEMIMAJOR_AXIS = 8644.47
PERIAPSIS_ALTITUDE = 358.93
PERIAPSIS_ARGUMENT_ANGLE = 71.17
PERIAPSIS_TIME = 2008-06-17T12:04:46.000Z
SPACECRAFT_ORIENTATION = (0.0,1.0,0.0)
^MEX_ORIENTATION_DESC = "MEX_ORIENTATION_DESC.TXT"
SPACECRAFT_POINTING_MODE = ACROSSTRACK
^MEX_POINTING_DESC = "MEX_POINTING_DESC.TXT"
RIGHT_ASCENSION = -1e+32
DECLINATION = -1e+32
OFFSET_ANGLE = 0.458
SPACECRAFT_SOLAR_DISTANCE = 2.48292e+08
TARGET_NAME = MARS
/* CAMERA DATA ELEMENTS */
DETECTOR_TEMPERATURE = 17.9627
FOCAL_PLANE_TEMPERATURE = 7.7677
INST_CMPRS_NAME = "DISCRETE COSINE TRANSFORMATION (DCT)"
INST_CMPRS_RATIO = 15.2273
INST_CMPRS_QUALITY = 0
INST_CMPRS_QUANTZ_TBL_ID = 0
INSTRUMENT_TEMPERATURE = 10.6223
LENS_TEMPERATURE = 8.1755
MACROPIXEL_SIZE = 4
MISSING_FRAMES = 0
PIXEL_SUBSAMPLING_FLAG = N
SIGNAL_CHAIN_ID = 2
/* RADIOMETRIC DATA ELEMENTS */
BANDWIDTH = 48.0
CENTER_FILTER_WAVELENGTH = 748.0
RADIANCE_OFFSET = 0.558959
RADIANCE_SCALING_FACTOR = 0.00457188
REFLECTANCE_SCALING_FACTOR = 0.000643202
MEX:REFLECTANCE_OFFSET = 0.078638
/* IMAGE OBJECT DEFINITIONS */
OBJECT = IMAGE
  INTERCHANGE_FORMAT = BINARY
  LINES = 6927
  LINE_SAMPLES = 3586
  SAMPLE_TYPE = UNSIGNED_INTEGER
  SAMPLE_BITS = 8
  BANDS = 1
  BAND_STORAGE_TYPE = BAND_SEQUENTIAL
  MAXIMUM = 255
  MEAN = 169.05
  MINIMUM = 1
  STANDARD_DEVIATION = 55.1163
END_OBJECT = IMAGE
/* MAP OBJECT DEFINITIONS */
OBJECT = IMAGE_MAP_PROJECTION
  ^DATA_SET_MAP_PROJECTION_CATALOG= "DSMAP.CAT"
  A_AXIS_RADIUS = 3396.0
  B_AXIS_RADIUS = 3396.0
  C_AXIS_RADIUS = 3396.0
  CENTER_LATITUDE = 0.0
  CENTER_LONGITUDE = 12.0
  COORDINATE_SYSTEM_NAME = PLANETOGRAPHIC
  COORDINATE_SYSTEM_TYPE = "BODY-FIXED ROTATING"
  EASTERNMOST_LONGITUDE = 25.8487
  FIRST_STANDARD_PARALLEL = "N/A"
  LINE_FIRST_PIXEL = 1
  LINE_LAST_PIXEL = 6927
  LINE_PROJECTION_OFFSET = 99653.375
  MAP_PROJECTION_ROTATION = 0.0
  MAP_PROJECTION_TYPE = SINUSOIDAL
  MAP_RESOLUTION = 1185.42760773333
  MAP_SCALE = 0.05
  MAXIMUM_LATITUDE = 84.08839999999999
  MINIMUM_LATITUDE = 78.1164
  POSITIVE_LONGITUDE_DIRECTION = EAST
  REFERENCE_LATITUDE = "N/A"
  REFERENCE_LONGITUDE = "N/A"
  SAMPLE_FIRST_PIXEL = 1
  SAMPLE_LAST_PIXEL = 3586
  SAMPLE_PROJECTION_OFFSET = 1687.375
  SECOND_STANDARD_PARALLEL = "N/A"
  WESTERNMOST_LONGITUDE = 4.87672
END_OBJECT = IMAGE_MAP_PROJECTION
END
