PDS_VERSION_ID = PDS3
/* FILE DATA ELEMENTS */
RECORD_TYPE = UNDEFINED
/* POINTERS TO DATA OBJECTS */
^IMAGE = ("H5703_0000_IR4.TIF")
/* IDENTIFICATION DATA ELEMENTS */
DATA_SET_ID = "MEX-M-HRSC-4-REFDR-MAPPROJECT-EXT2-V4.0"
DATA_SET_NAME = "MARS EXPRESS HRSC MAP PROJECTED REFDR EXTENSION2 V4.0"
DETECTOR_ID = MEX_HRSC_IR
EVENT_TYPE = "MARS-REGIONAL-MAPPING-Gl-La-Ot"
INSTRUMENT_HOST_ID = MEX
INSTRUMENT_HOST_NAME = "MARS EXPRESS"
INSTRUMENT_ID = HRSC
INSTRUMENT_NAME = "HIGH RESOLUTION STEREO CAMERA"
MISSION_NAME = "MARS EXPRESS"
MISSION_PHASE_NAME = ME_Phase_13
PROCESSING_LEVEL_ID = 4
PRODUCT_CREATION_TIME = 2023-02-03T16:04:45.000Z
PRODUCT_ID = "H5703_0000_IR4.TIF"
RELEASE_ID = 0003
REVISION_ID = 0000
/* QUALITY DATA ELEMENTS */
DATA_QUALITY_ID = 1
DATA_QUALITY_DESC = "Data calculated based on original SPICE kernels"
/* TIME DATA ELEMENTS */
SPACECRAFT_CLOCK_START_COUNT = "1/0161217880.08255"
SPACECRAFT_CLOCK_STOP_COUNT = "1/0161218178.12314"
START_TIME = 2008-06-10T22:45:49.081Z
STOP_TIME = 2008-06-10T22:49:30.789Z
/* ORBITAL DATA ELEMENTS */
ASCENDING_NODE_LONGITUDE = 109.83
MAXIMUM_RESOLUTION = 0.0662
FOOTPRINT_POINT_LATITUDE = (84.9521,85.1227,85.27,85.4188,85.4217, 85.3407,85.7025,86.3005,86.7687,87.2294 ,87.7938,88.0094,88.2148,88.5802, 88.7302,88.8422,88.9145,88.889,88.8083, 88.6794,88.5156,88.3276,88.1229,87.9065 ,87.677,87.3211,87.0773,86.8311,86.579, 86.3226,86.0658,85.8084,85.5448,85.2785 ,85.015,84.748,84.4756,84.2046,83.9313, 83.6594,83.3809,83.1061,82.6874,82.4052 ,82.1225,81.6928,81.4055,81.2621, 81.1824,81.1322,81.0773,80.9986,80.9329 ,80.7424,80.7373,80.7366,81.009,81.2853 ,81.5606,81.8311,82.101,82.3704,82.6336 ,82.8962,83.2862,83.5395,83.7915, 84.1646,84.4048,84.6451,84.8801,85.2242 ,85.4453,85.6622,85.8726,86.074,86.2645 ,86.4475,86.6201,86.7793,86.922,87.049, 87.1581,87.2473,87.3136,87.3553,87.3726 ,87.3654,87.3335,87.2416,87.0496, 86.9264,86.6374,86.3903,86.0331,85.6534 ,85.4509,85.0373,84.9321,84.9521)
FOOTPRINT_POINT_LONGITUDE = (166.799,162.699,158.186,151.642, 151.478,149.505,150.659,153.119,155.637 ,159.119,165.495,169.095,173.482, 185.822,194.748,205.675,225.028,238.327 ,250.394,260.743,269.039,275.569, 280.721,284.827,288.22,292.194,294.281, 296.047,297.607,298.927,300.078,301.089 ,301.996,302.791,303.522,304.159, 304.746,305.287,305.762,306.227,306.633 ,307.026,307.548,307.864,308.151, 308.551,308.796,308.913,308.975,307.04, 305.257,303.093,301.515,297.7,297.603, 297.569,297.071,296.537,295.966,295.364 ,294.719,294.025,293.294,292.505, 291.205,290.266,289.247,287.552,286.321 ,284.967,283.491,281.02,279.185,277.156 ,274.914,272.465,269.786,266.806, 263.502,259.875,255.952,251.661,247.003 ,241.989,236.72,231.328,225.814,220.257 ,214.767,206.92,197.649,193.446,186.145 ,181.48,176.256,172.04,170.126,166.85, 166.123,166.799)
ORBIT_NUMBER = 5703
ORBITAL_ECCENTRICITY = 0.568
ORBITAL_INCLINATION = 86.75
ORBITAL_SEMIMAJOR_AXIS = 8639.64
PERIAPSIS_ALTITUDE = 359.08
PERIAPSIS_ARGUMENT_ANGLE = 75.23
PERIAPSIS_TIME = 2008-06-10T22:42:40.000Z
SPACECRAFT_ORIENTATION = (0.0,1.0,0.0)
^MEX_ORIENTATION_DESC = "MEX_ORIENTATION_DESC.TXT"
SPACECRAFT_POINTING_MODE = ACROSSTRACK
^MEX_POINTING_DESC = "MEX_POINTING_DESC.TXT"
RIGHT_ASCENSION = -1e+32
DECLINATION = -1e+32
OFFSET_ANGLE = 1.28
SPACECRAFT_SOLAR_DISTANCE = 2.48603e+08
TARGET_NAME = MARS
/* CAMERA DATA ELEMENTS */
DETECTOR_TEMPERATURE = 16.9432
FOCAL_PLANE_TEMPERATURE = 7.5638
INST_CMPRS_NAME = "DISCRETE COSINE TRANSFORMATION (DCT)"
INST_CMPRS_RATIO = 24.3125
INST_CMPRS_QUALITY = 0
INST_CMPRS_QUANTZ_TBL_ID = 0
INSTRUMENT_TEMPERATURE = 10.6223
LENS_TEMPERATURE = 7.3599
MACROPIXEL_SIZE = 4
MISSING_FRAMES = 0
PIXEL_SUBSAMPLING_FLAG = N
SIGNAL_CHAIN_ID = 2
/* RADIOMETRIC DATA ELEMENTS */
BANDWIDTH = 81.0
CENTER_FILTER_WAVELENGTH = 955.5
RADIANCE_OFFSET = 0.729431
RADIANCE_SCALING_FACTOR = 0.00690709
REFLECTANCE_SCALING_FACTOR = 0.000920952
MEX:REFLECTANCE_OFFSET = 0.0972582
/* IMAGE OBJECT DEFINITIONS */
OBJECT = IMAGE
  INTERCHANGE_FORMAT = BINARY
  LINES = 12495
  LINE_SAMPLES = 12437
  SAMPLE_TYPE = UNSIGNED_INTEGER
  SAMPLE_BITS = 8
  BANDS = 1
  BAND_STORAGE_TYPE = BAND_SEQUENTIAL
  MAXIMUM = 255
  MEAN = 176.893
  MINIMUM = 1
  STANDARD_DEVIATION = 45.9825
END_OBJECT = IMAGE
/* MAP OBJECT DEFINITIONS */
OBJECT = IMAGE_MAP_PROJECTION
  ^DATA_SET_MAP_PROJECTION_CATALOG= "DSMAP.CAT"
  A_AXIS_RADIUS = 3396.0
  B_AXIS_RADIUS = 3396.0
  C_AXIS_RADIUS = 3396.0
  CENTER_LATITUDE = 90.0
  CENTER_LONGITUDE = 0.0
  COORDINATE_SYSTEM_NAME = PLANETOGRAPHIC
  COORDINATE_SYSTEM_TYPE = "BODY-FIXED ROTATING"
  EASTERNMOST_LONGITUDE = 308.975
  FIRST_STANDARD_PARALLEL = "N/A"
  LINE_FIRST_PIXEL = 1
  LINE_LAST_PIXEL = 12495
  LINE_PROJECTION_OFFSET = 5903.625
  MAP_PROJECTION_ROTATION = 0.0
  MAP_PROJECTION_TYPE = STEREOGRAPHIC
  MAP_RESOLUTION = 1185.42760773333
  MAP_SCALE = 0.05
  MAXIMUM_LATITUDE = 88.9145
  MINIMUM_LATITUDE = 80.7366
  POSITIVE_LONGITUDE_DIRECTION = EAST
  REFERENCE_LATITUDE = "N/A"
  REFERENCE_LONGITUDE = "N/A"
  SAMPLE_FIRST_PIXEL = 1
  SAMPLE_LAST_PIXEL = 12437
  SAMPLE_PROJECTION_OFFSET = 9701.875
  SECOND_STANDARD_PARALLEL = "N/A"
  WESTERNMOST_LONGITUDE = 149.505
END_OBJECT = IMAGE_MAP_PROJECTION
END
