PDS_VERSION_ID = PDS3
/* FILE DATA ELEMENTS */
RECORD_TYPE = UNDEFINED
/* POINTERS TO DATA OBJECTS */
^IMAGE = ("H5700_0000_P24.TIF")
/* IDENTIFICATION DATA ELEMENTS */
DATA_SET_ID = "MEX-M-HRSC-4-REFDR-MAPPROJECT-EXT2-V4.0"
DATA_SET_NAME = "MARS EXPRESS HRSC MAP PROJECTED REFDR EXTENSION2 V4.0"
DETECTOR_ID = MEX_HRSC_P2
EVENT_TYPE = "MARS-REGIONAL-MAPPING-Gl-Pf-Eo"
INSTRUMENT_HOST_ID = MEX
INSTRUMENT_HOST_NAME = "MARS EXPRESS"
INSTRUMENT_ID = HRSC
INSTRUMENT_NAME = "HIGH RESOLUTION STEREO CAMERA"
MISSION_NAME = "MARS EXPRESS"
MISSION_PHASE_NAME = ME_Phase_13
PROCESSING_LEVEL_ID = 4
PRODUCT_CREATION_TIME = 2023-02-03T16:04:45.000Z
PRODUCT_ID = "H5700_0000_P24.TIF"
RELEASE_ID = 0003
REVISION_ID = 0000
/* QUALITY DATA ELEMENTS */
DATA_QUALITY_ID = 1
DATA_QUALITY_DESC = "Data calculated based on original SPICE kernels"
/* TIME DATA ELEMENTS */
SPACECRAFT_CLOCK_START_COUNT = "1/0161144129.07301"
SPACECRAFT_CLOCK_STOP_COUNT = "1/0161144353.36791"
START_TIME = 2008-06-10T02:15:45.975Z
STOP_TIME = 2008-06-10T02:17:47.400Z
/* ORBITAL DATA ELEMENTS */
ASCENDING_NODE_LONGITUDE = 109.89
MAXIMUM_RESOLUTION = 0.0711
FOOTPRINT_POINT_LATITUDE = (83.2532,83.3459,83.4798,83.6004, 83.7537,83.8534,83.9697,83.9753,83.9035 ,83.6413,83.3711,83.1661,82.8232, 82.6163,82.3384,82.1248,81.9819,81.8389 ,81.6958,81.5525,81.4089,81.2652, 81.1179,80.9701,80.7483,80.6006,80.3788 ,80.2309,80.0045,79.8527,79.7008, 79.5488,79.3966,79.2445,79.0909,78.9353 ,78.7796,78.5461,78.3901,78.2343, 78.0767,77.9173,77.7579,77.5985,77.3592 ,77.1999,77.0371,76.7926,76.5482, 76.4668,76.4644,76.4137,76.3724,76.3061 ,76.2286,76.1657,76.117,76.0702,76.0654 ,76.065,76.2238,76.3828,76.5417,76.7799 ,76.9351,77.0902,77.2454,77.4777, 77.6334,77.7864,77.9361,78.0864,78.238, 78.464,78.689,78.8358,78.9823,79.1286, 79.2749,79.4942,79.7112,79.853,79.9945, 80.1357,80.2765,80.417,80.5571,80.6967, 80.9684,81.2385,81.5066,81.7722,82.0297 ,82.2213,82.4743,82.7243,82.9083, 83.0871,83.1463,83.2532)
FOOTPRINT_POINT_LONGITUDE = (219.502,220.622,222.357,224.063, 226.472,228.218,230.484,230.6,231.399, 232.469,233.478,234.185,235.268,235.869 ,236.622,237.162,237.507,237.839, 238.158,238.467,238.766,239.054,239.339 ,239.616,240.014,240.267,240.631, 240.864,241.207,241.429,241.643,241.852 ,242.054,242.25,242.442,242.631,242.814 ,243.079,243.251,243.417,243.58,243.741 ,243.897,244.049,244.27,244.412,244.554 ,244.759,244.957,245.021,245.023, 243.782,242.89,241.599,240.252,239.253, 238.527,237.869,237.804,237.78,237.597, 237.41,237.217,236.919,236.718,236.512, 236.301,235.973,235.747,235.518,235.285 ,235.045,234.799,234.417,234.02,233.751 ,233.475,233.191,232.899,232.444, 231.972,231.651,231.32,230.98,230.63, 230.268,229.896,229.512,228.725,227.889 ,226.997,226.047,225.055,224.267, 223.151,221.957,221.012,220.033,219.695 ,219.502)
ORBIT_NUMBER = 5700
ORBITAL_ECCENTRICITY = 0.568
ORBITAL_INCLINATION = 86.75
ORBITAL_SEMIMAJOR_AXIS = 8640.84
PERIAPSIS_ALTITUDE = 358.52
PERIAPSIS_ARGUMENT_ANGLE = 75.73
PERIAPSIS_TIME = 2008-06-10T02:11:04.000Z
SPACECRAFT_ORIENTATION = (0.0,1.0,0.0)
^MEX_ORIENTATION_DESC = "MEX_ORIENTATION_DESC.TXT"
SPACECRAFT_POINTING_MODE = NADIR
^MEX_POINTING_DESC = "MEX_POINTING_DESC.TXT"
RIGHT_ASCENSION = -1e+32
DECLINATION = -1e+32
OFFSET_ANGLE = -1e+32
SPACECRAFT_SOLAR_DISTANCE = 2.48639e+08
TARGET_NAME = MARS
/* CAMERA DATA ELEMENTS */
DETECTOR_TEMPERATURE = 18.3705
FOCAL_PLANE_TEMPERATURE = 7.7677
INST_CMPRS_NAME = "DISCRETE COSINE TRANSFORMATION (DCT)"
INST_CMPRS_RATIO = 6.03664
INST_CMPRS_QUALITY = 0
INST_CMPRS_QUANTZ_TBL_ID = 0
INSTRUMENT_TEMPERATURE = 10.8262
LENS_TEMPERATURE = 9.195
MACROPIXEL_SIZE = 4
MISSING_FRAMES = 0
PIXEL_SUBSAMPLING_FLAG = N
SIGNAL_CHAIN_ID = 3
/* RADIOMETRIC DATA ELEMENTS */
BANDWIDTH = 177.0
CENTER_FILTER_WAVELENGTH = 676.5
RADIANCE_OFFSET = 3.04799
RADIANCE_SCALING_FACTOR = 0.0252675
REFLECTANCE_SCALING_FACTOR = 0.000828241
MEX:REFLECTANCE_OFFSET = 0.0999097
/* IMAGE OBJECT DEFINITIONS */
OBJECT = IMAGE
  INTERCHANGE_FORMAT = BINARY
  LINES = 9308
  LINE_SAMPLES = 4881
  SAMPLE_TYPE = UNSIGNED_INTEGER
  SAMPLE_BITS = 8
  BANDS = 1
  BAND_STORAGE_TYPE = BAND_SEQUENTIAL
  MAXIMUM = 255
  MEAN = 121.327
  MINIMUM = 1
  STANDARD_DEVIATION = 63.1377
END_OBJECT = IMAGE
/* MAP OBJECT DEFINITIONS */
OBJECT = IMAGE_MAP_PROJECTION
  ^DATA_SET_MAP_PROJECTION_CATALOG= "DSMAP.CAT"
  A_AXIS_RADIUS = 3396.0
  B_AXIS_RADIUS = 3396.0
  C_AXIS_RADIUS = 3396.0
  CENTER_LATITUDE = 0.0
  CENTER_LONGITUDE = 236.0
  COORDINATE_SYSTEM_NAME = PLANETOGRAPHIC
  COORDINATE_SYSTEM_TYPE = "BODY-FIXED ROTATING"
  EASTERNMOST_LONGITUDE = 245.023
  FIRST_STANDARD_PARALLEL = "N/A"
  LINE_FIRST_PIXEL = 1
  LINE_LAST_PIXEL = 9308
  LINE_PROJECTION_OFFSET = 99488.875
  MAP_PROJECTION_ROTATION = 0.0
  MAP_PROJECTION_TYPE = SINUSOIDAL
  MAP_RESOLUTION = 1185.42760773333
  MAP_SCALE = 0.05
  MAXIMUM_LATITUDE = 83.9753
  MINIMUM_LATITUDE = 76.065
  POSITIVE_LONGITUDE_DIRECTION = EAST
  REFERENCE_LATITUDE = "N/A"
  REFERENCE_LONGITUDE = "N/A"
  SAMPLE_FIRST_PIXEL = 1
  SAMPLE_LAST_PIXEL = 4881
  SAMPLE_PROJECTION_OFFSET = 2338.375
  SECOND_STANDARD_PARALLEL = "N/A"
  WESTERNMOST_LONGITUDE = 219.502
END_OBJECT = IMAGE_MAP_PROJECTION
END
