PDS_VERSION_ID = PDS3
/* FILE DATA ELEMENTS */
RECORD_TYPE = UNDEFINED
/* POINTERS TO DATA OBJECTS */
^IMAGE = ("H5700_0000_ND4.TIF")
/* IDENTIFICATION DATA ELEMENTS */
DATA_SET_ID = "MEX-M-HRSC-4-REFDR-MAPPROJECT-EXT2-V4.0"
DATA_SET_NAME = "MARS EXPRESS HRSC MAP PROJECTED REFDR EXTENSION2 V4.0"
DETECTOR_ID = MEX_HRSC_NADIR
EVENT_TYPE = "MARS-REGIONAL-MAPPING-Gl-Pf-Eo"
INSTRUMENT_HOST_ID = MEX
INSTRUMENT_HOST_NAME = "MARS EXPRESS"
INSTRUMENT_ID = HRSC
INSTRUMENT_NAME = "HIGH RESOLUTION STEREO CAMERA"
MISSION_NAME = "MARS EXPRESS"
MISSION_PHASE_NAME = ME_Phase_13
PROCESSING_LEVEL_ID = 4
PRODUCT_CREATION_TIME = 2023-02-03T16:04:45.000Z
PRODUCT_ID = "H5700_0000_ND4.TIF"
RELEASE_ID = 0003
REVISION_ID = 0000
/* QUALITY DATA ELEMENTS */
DATA_QUALITY_ID = 1
DATA_QUALITY_DESC = "Data calculated based on original SPICE kernels"
/* TIME DATA ELEMENTS */
SPACECRAFT_CLOCK_START_COUNT = "1/0161144129.07301"
SPACECRAFT_CLOCK_STOP_COUNT = "1/0161144353.36791"
START_TIME = 2008-06-10T02:16:12.458Z
STOP_TIME = 2008-06-10T02:18:19.443Z
/* ORBITAL DATA ELEMENTS */
ASCENDING_NODE_LONGITUDE = 109.89
MAXIMUM_RESOLUTION = 0.0178
FOOTPRINT_POINT_LATITUDE = (83.1762,83.4421,83.5548,83.6894, 83.8276,83.9011,83.9071,83.9251,83.5233 ,83.2534,82.982,82.774,82.4938,82.2127, 81.9309,81.7145,81.5697,81.4248,81.2797 ,81.1346,80.9893,80.7677,80.6188, 80.4699,80.3209,80.1718,80.0227,79.8714 ,79.7189,79.5663,79.4138,79.2612, 79.1086,78.8757,78.7198,78.5639,78.408, 78.2522,78.0148,77.8557,77.6966,77.5376 ,77.3787,77.2198,77.061,76.9022,76.7436 ,76.585,76.5058,76.4816,76.4547,76.3844 ,76.3281,76.2625,76.2186,76.163,76.0789 ,76.0738,76.0715,76.2262,76.3808, 76.5355,76.6902,76.8448,76.9994,77.1539 ,77.3085,77.4629,77.6173,77.771,77.922, 78.0725,78.2234,78.3741,78.5993,78.7464 ,78.8934,79.0401,79.1867,79.3332, 79.4788,79.6216,79.7642,79.9066,80.0487 ,80.1905,80.4018,80.6773,80.9513, 81.0878,81.2239,81.424,81.6872,81.9483, 82.2708,82.5203,82.7669,83.0707,83.1307 ,83.1762)
FOOTPRINT_POINT_LONGITUDE = (219.711,223.141,224.791,226.96,229.466 ,230.949,231.074,231.523,233.128, 234.092,234.978,235.61,236.398,237.129, 237.809,238.297,238.609,238.91,239.2, 239.481,239.753,240.151,240.406,240.653 ,240.891,241.122,241.346,241.566, 241.782,241.991,242.193,242.39,242.581, 242.861,243.041,243.217,243.388,243.554 ,243.799,243.957,244.111,244.26,244.406 ,244.548,244.686,244.819,244.951, 245.079,245.142,245.161,244.473,242.878 ,241.752,240.56,239.82,238.94,237.704, 237.631,237.596,237.417,237.233,237.046 ,236.854,236.656,236.453,236.245, 236.032,235.813,235.587,235.359,235.125 ,234.882,234.637,234.385,233.992, 233.727,233.454,233.173,232.884,232.587 ,232.283,231.974,231.657,231.33,230.993 ,230.645,230.106,229.361,228.568, 228.152,227.723,227.063,226.139,225.152 ,223.825,222.703,221.5,219.874,219.531, 219.711)
ORBIT_NUMBER = 5700
ORBITAL_ECCENTRICITY = 0.568
ORBITAL_INCLINATION = 86.75
ORBITAL_SEMIMAJOR_AXIS = 8640.84
PERIAPSIS_ALTITUDE = 358.52
PERIAPSIS_ARGUMENT_ANGLE = 75.73
PERIAPSIS_TIME = 2008-06-10T02:11:04.000Z
SPACECRAFT_ORIENTATION = (0.0,1.0,0.0)
^MEX_ORIENTATION_DESC = "MEX_ORIENTATION_DESC.TXT"
SPACECRAFT_POINTING_MODE = NADIR
^MEX_POINTING_DESC = "MEX_POINTING_DESC.TXT"
RIGHT_ASCENSION = -1e+32
DECLINATION = -1e+32
OFFSET_ANGLE = -1e+32
SPACECRAFT_SOLAR_DISTANCE = 2.48639e+08
TARGET_NAME = MARS
/* CAMERA DATA ELEMENTS */
DETECTOR_TEMPERATURE = 19.39
FOCAL_PLANE_TEMPERATURE = 7.7677
INST_CMPRS_NAME = "DISCRETE COSINE TRANSFORMATION (DCT)"
INST_CMPRS_RATIO = 6.09439
INST_CMPRS_QUALITY = 0
INST_CMPRS_QUANTZ_TBL_ID = 0
INSTRUMENT_TEMPERATURE = 10.8262
LENS_TEMPERATURE = 9.195
MACROPIXEL_SIZE = 1
MISSING_FRAMES = 0
PIXEL_SUBSAMPLING_FLAG = N
SIGNAL_CHAIN_ID = 0
/* RADIOMETRIC DATA ELEMENTS */
BANDWIDTH = 177.0
CENTER_FILTER_WAVELENGTH = 677.5
RADIANCE_OFFSET = 2.72497
RADIANCE_SCALING_FACTOR = 0.0259004
REFLECTANCE_SCALING_FACTOR = 0.000850609
MEX:REFLECTANCE_OFFSET = 0.0894924
/* IMAGE OBJECT DEFINITIONS */
OBJECT = IMAGE
  INTERCHANGE_FORMAT = BINARY
  LINES = 37232
  LINE_SAMPLES = 19524
  SAMPLE_TYPE = UNSIGNED_INTEGER
  SAMPLE_BITS = 8
  BANDS = 1
  BAND_STORAGE_TYPE = BAND_SEQUENTIAL
  MAXIMUM = 255
  MEAN = 119.395
  MINIMUM = 1
  STANDARD_DEVIATION = 63.0289
END_OBJECT = IMAGE
/* MAP OBJECT DEFINITIONS */
OBJECT = IMAGE_MAP_PROJECTION
  ^DATA_SET_MAP_PROJECTION_CATALOG= "DSMAP.CAT"
  A_AXIS_RADIUS = 3396.0
  B_AXIS_RADIUS = 3396.0
  C_AXIS_RADIUS = 3396.0
  CENTER_LATITUDE = 0.0
  CENTER_LONGITUDE = 236.0
  COORDINATE_SYSTEM_NAME = PLANETOGRAPHIC
  COORDINATE_SYSTEM_TYPE = "BODY-FIXED ROTATING"
  EASTERNMOST_LONGITUDE = 245.161
  FIRST_STANDARD_PARALLEL = "N/A"
  LINE_FIRST_PIXEL = 1
  LINE_LAST_PIXEL = 37232
  LINE_PROJECTION_OFFSET = 397957.0
  MAP_PROJECTION_ROTATION = 0.0
  MAP_PROJECTION_TYPE = SINUSOIDAL
  MAP_RESOLUTION = 4741.71043093333
  MAP_SCALE = 0.0125
  MAXIMUM_LATITUDE = 83.9251
  MINIMUM_LATITUDE = 76.0715
  POSITIVE_LONGITUDE_DIRECTION = EAST
  REFERENCE_LATITUDE = "N/A"
  REFERENCE_LONGITUDE = "N/A"
  SAMPLE_FIRST_PIXEL = 1
  SAMPLE_LAST_PIXEL = 19524
  SAMPLE_PROJECTION_OFFSET = 9355.0
  SECOND_STANDARD_PARALLEL = "N/A"
  WESTERNMOST_LONGITUDE = 219.531
END_OBJECT = IMAGE_MAP_PROJECTION
END
