PDS_VERSION_ID = PDS3
/* FILE DATA ELEMENTS */
RECORD_TYPE = UNDEFINED
/* POINTERS TO DATA OBJECTS */
^IMAGE = ("H5696_0000_P14.TIF")
/* IDENTIFICATION DATA ELEMENTS */
DATA_SET_ID = "MEX-M-HRSC-4-REFDR-MAPPROJECT-EXT2-V4.0"
DATA_SET_NAME = "MARS EXPRESS HRSC MAP PROJECTED REFDR EXTENSION2 V4.0"
DETECTOR_ID = MEX_HRSC_P1
EVENT_TYPE = "MARS-REGIONAL-MAPPING-Gl-Pf-Eo"
INSTRUMENT_HOST_ID = MEX
INSTRUMENT_HOST_NAME = "MARS EXPRESS"
INSTRUMENT_ID = HRSC
INSTRUMENT_NAME = "HIGH RESOLUTION STEREO CAMERA"
MISSION_NAME = "MARS EXPRESS"
MISSION_PHASE_NAME = ME_Phase_13
PROCESSING_LEVEL_ID = 4
PRODUCT_CREATION_TIME = 2023-02-03T16:04:45.000Z
PRODUCT_ID = "H5696_0000_P14.TIF"
RELEASE_ID = 0003
REVISION_ID = 0000
/* QUALITY DATA ELEMENTS */
DATA_QUALITY_ID = 1
DATA_QUALITY_DESC = "Data calculated based on original SPICE kernels"
/* TIME DATA ELEMENTS */
SPACECRAFT_CLOCK_START_COUNT = "1/0161045633.07302"
SPACECRAFT_CLOCK_STOP_COUNT = "1/0161045897.59877"
START_TIME = 2008-06-08T22:55:08.306Z
STOP_TIME = 2008-06-08T22:57:56.339Z
/* ORBITAL DATA ELEMENTS */
ASCENDING_NODE_LONGITUDE = 109.97
MAXIMUM_RESOLUTION = 0.0394
FOOTPRINT_POINT_LATITUDE = (81.0795,81.1753,81.3197,81.4013,81.477 ,81.5467,81.5949,81.5987,81.7092, 81.3707,80.9408,80.5975,80.0738,79.724, 79.3676,78.9216,78.6495,78.4677,78.2862 ,78.1048,77.9199,77.7352,77.5508, 77.3665,77.1791,76.9917,76.8043,76.6172 ,76.4267,76.1412,75.9512,75.662,75.4689 ,75.2761,74.9828,74.7871,74.5918, 74.3936,74.1952,73.9972,73.6967,73.4958 ,73.2951,73.0915,72.8879,72.6848, 72.4785,72.3755,72.3323,72.2965,72.2576 ,72.1921,72.1406,72.0839,72.0303, 72.0263,72.0255,72.2285,72.4312,72.6315 ,72.8322,73.0318,73.2294,73.4273, 73.6247,73.8196,74.0147,74.3063,74.4983 ,74.6906,74.883,75.072,75.2613,75.4508, 75.7318,75.918,76.1044,76.2897,76.4729, 76.6561,76.8393,77.0211,77.2009,77.3808 ,77.5608,77.7398,77.9163,78.0927, 78.2691,78.4455,78.7911,79.1366,79.3921 ,79.7296,80.0662,80.3948,80.7236,81.047 ,81.1266,81.0795)
FOOTPRINT_POINT_LONGITUDE = (271.83,273.297,275.76,277.322,278.919, 280.554,281.802,281.907,282.27,282.823, 283.469,283.942,284.603,285.004,285.383 ,285.821,286.07,286.23,286.385,286.534, 286.682,286.825,286.963,287.097,287.229 ,287.358,287.482,287.603,287.722, 287.894,288.005,288.168,288.273,288.374 ,288.523,288.62,288.714,288.807,288.897 ,288.985,289.114,289.198,289.279, 289.359,289.437,289.514,289.589,289.627 ,289.642,288.483,287.401,285.862, 284.802,283.753,282.842,282.777,282.753 ,282.641,282.525,282.408,282.288, 282.164,282.039,281.91,281.778,281.643, 281.505,281.291,281.146,280.995,280.84, 280.684,280.523,280.357,280.101,279.926 ,279.745,279.559,279.37,279.175,278.974 ,278.769,278.559,278.342,278.119, 277.889,277.656,277.414,277.165,276.907 ,276.376,275.808,275.361,274.733,274.06 ,273.352,272.587,271.774,271.564, 271.83)
ORBIT_NUMBER = 5696
ORBITAL_ECCENTRICITY = 0.568
ORBITAL_INCLINATION = 86.74
ORBITAL_SEMIMAJOR_AXIS = 8639.86
PERIAPSIS_ALTITUDE = 359.28
PERIAPSIS_ARGUMENT_ANGLE = 76.45
PERIAPSIS_TIME = 2008-06-08T22:49:00.000Z
SPACECRAFT_ORIENTATION = (0.0,1.0,0.0)
^MEX_ORIENTATION_DESC = "MEX_ORIENTATION_DESC.TXT"
SPACECRAFT_POINTING_MODE = ACROSSTRACK
^MEX_POINTING_DESC = "MEX_POINTING_DESC.TXT"
RIGHT_ASCENSION = -1e+32
DECLINATION = -1e+32
OFFSET_ANGLE = 0.458
SPACECRAFT_SOLAR_DISTANCE = 2.48686e+08
TARGET_NAME = MARS
/* CAMERA DATA ELEMENTS */
DETECTOR_TEMPERATURE = 17.1471
FOCAL_PLANE_TEMPERATURE = 7.5638
INST_CMPRS_NAME = "DISCRETE COSINE TRANSFORMATION (DCT)"
INST_CMPRS_RATIO = 15.0207
INST_CMPRS_QUALITY = 0
INST_CMPRS_QUANTZ_TBL_ID = 0
INSTRUMENT_TEMPERATURE = 10.8262
LENS_TEMPERATURE = 8.1755
MACROPIXEL_SIZE = 2
MISSING_FRAMES = 0
PIXEL_SUBSAMPLING_FLAG = N
SIGNAL_CHAIN_ID = 3
/* RADIOMETRIC DATA ELEMENTS */
BANDWIDTH = 174.0
CENTER_FILTER_WAVELENGTH = 675.0
RADIANCE_OFFSET = 2.6545
RADIANCE_SCALING_FACTOR = 0.022579
REFLECTANCE_SCALING_FACTOR = 0.000751085
MEX:REFLECTANCE_OFFSET = 0.0883013
/* IMAGE OBJECT DEFINITIONS */
OBJECT = IMAGE
  INTERCHANGE_FORMAT = BINARY
  LINES = 22879
  LINE_SAMPLES = 8758
  SAMPLE_TYPE = UNSIGNED_INTEGER
  SAMPLE_BITS = 8
  BANDS = 1
  BAND_STORAGE_TYPE = BAND_SEQUENTIAL
  MAXIMUM = 255
  MEAN = 51.4931
  MINIMUM = 1
  STANDARD_DEVIATION = 36.0007
END_OBJECT = IMAGE
/* MAP OBJECT DEFINITIONS */
OBJECT = IMAGE_MAP_PROJECTION
  ^DATA_SET_MAP_PROJECTION_CATALOG= "DSMAP.CAT"
  A_AXIS_RADIUS = 3396.0
  B_AXIS_RADIUS = 3396.0
  C_AXIS_RADIUS = 3396.0
  CENTER_LATITUDE = 0.0
  CENTER_LONGITUDE = 283.0
  COORDINATE_SYSTEM_NAME = PLANETOGRAPHIC
  COORDINATE_SYSTEM_TYPE = "BODY-FIXED ROTATING"
  EASTERNMOST_LONGITUDE = 289.642
  FIRST_STANDARD_PARALLEL = "N/A"
  LINE_FIRST_PIXEL = 1
  LINE_LAST_PIXEL = 22879
  LINE_PROJECTION_OFFSET = 193652.25
  MAP_PROJECTION_ROTATION = 0.0
  MAP_PROJECTION_TYPE = SINUSOIDAL
  MAP_RESOLUTION = 2370.85521546667
  MAP_SCALE = 0.025
  MAXIMUM_LATITUDE = 81.7092
  MINIMUM_LATITUDE = 72.02549999999999
  POSITIVE_LONGITUDE_DIRECTION = EAST
  REFERENCE_LATITUDE = "N/A"
  REFERENCE_LONGITUDE = "N/A"
  SAMPLE_FIRST_PIXEL = 1
  SAMPLE_LAST_PIXEL = 8758
  SAMPLE_PROJECTION_OFFSET = 4127.25
  SECOND_STANDARD_PARALLEL = "N/A"
  WESTERNMOST_LONGITUDE = 271.564
END_OBJECT = IMAGE_MAP_PROJECTION
END
