PDS_VERSION_ID = PDS3
/* FILE DATA ELEMENTS */
RECORD_TYPE = UNDEFINED
/* POINTERS TO DATA OBJECTS */
^IMAGE = ("H5686_0000_RE4.TIF")
/* IDENTIFICATION DATA ELEMENTS */
DATA_SET_ID = "MEX-M-HRSC-4-REFDR-MAPPROJECT-EXT2-V4.0"
DATA_SET_NAME = "MARS EXPRESS HRSC MAP PROJECTED REFDR EXTENSION2 V4.0"
DETECTOR_ID = MEX_HRSC_RED
EVENT_TYPE = "MARS-REGIONAL-MAPPING-Gl-Pf-Eo"
INSTRUMENT_HOST_ID = MEX
INSTRUMENT_HOST_NAME = "MARS EXPRESS"
INSTRUMENT_ID = HRSC
INSTRUMENT_NAME = "HIGH RESOLUTION STEREO CAMERA"
MISSION_NAME = "MARS EXPRESS"
MISSION_PHASE_NAME = ME_Phase_12
PROCESSING_LEVEL_ID = 4
PRODUCT_CREATION_TIME = 2023-02-03T16:04:45.000Z
PRODUCT_ID = "H5686_0000_RE4.TIF"
RELEASE_ID = 0003
REVISION_ID = 0000
/* QUALITY DATA ELEMENTS */
DATA_QUALITY_ID = 1
DATA_QUALITY_DESC = "Data calculated based on original SPICE kernels"
/* TIME DATA ELEMENTS */
SPACECRAFT_CLOCK_START_COUNT = "1/0160799321.07293"
SPACECRAFT_CLOCK_STOP_COUNT = "1/0160799547.31994"
START_TIME = 2008-06-06T02:28:51.706Z
STOP_TIME = 2008-06-06T02:30:47.611Z
/* ORBITAL DATA ELEMENTS */
ASCENDING_NODE_LONGITUDE = 110.16
MAXIMUM_RESOLUTION = 0.0745
FOOTPRINT_POINT_LATITUDE = (79.1601,79.2146,79.2902,79.3788, 79.4486,79.4986,79.5561,79.5995,79.6028 ,79.4924,79.2237,78.8875,78.6188, 78.2776,78.1396,77.9328,77.7947,77.519, 77.2405,77.0993,76.8871,76.675,76.5336, 76.3924,76.1789,76.0349,75.8899,75.7451 ,75.6004,75.4554,75.3108,75.1642, 75.0164,74.8687,74.7211,74.4997,74.3519 ,74.1268,73.9761,73.8254,73.6748,73.525 ,73.3736,73.2193,73.0653,72.9118,72.682 ,72.528,72.2934,72.2152,72.1883,72.1527 ,72.1248,72.0755,72.0296,71.9922, 71.9556,71.8884,71.8846,71.8847,72.0394 ,72.1932,72.4205,72.572,72.7233,72.8748 ,73.101,73.2496,73.4725,73.6953,73.8439 ,73.991,74.1357,74.2809,74.4985,74.6434 ,74.7884,74.9329,75.0748,75.2166, 75.3584,75.5706,75.7122,75.9238,76.0621 ,76.2001,76.3384,76.5457,76.6838, 76.8218,76.9591,77.2283,77.4965,77.8313 ,78.0316,78.3572,78.682,78.941,79.0058, 79.1601)
FOOTPRINT_POINT_LONGITUDE = (194.555,195.311,196.423,197.835, 199.052,199.994,201.166,202.13,202.205, 202.619,202.972,203.387,203.7,204.078, 204.224,204.436,204.573,204.837,205.093 ,205.217,205.4,205.576,205.69,205.802, 205.965,206.071,206.178,206.282,206.384 ,206.484,206.581,206.677,206.772, 206.865,206.956,207.089,207.176,207.305 ,207.389,207.471,207.552,207.63,207.709 ,207.787,207.864,207.938,208.046, 208.118,208.225,208.26,208.271,207.341, 206.684,205.651,204.785,204.138,203.549 ,202.534,202.481,202.463,202.365, 202.266,202.116,202.013,201.908,201.802 ,201.638,201.529,201.36,201.186,201.067 ,200.945,200.824,200.7,200.509,200.379, 200.245,200.11,199.974,199.835,199.693, 199.475,199.326,199.096,198.941,198.784 ,198.623,198.374,198.204,198.03,197.853 ,197.493,197.117,196.622,196.311,195.78 ,195.216,194.74,194.617,194.555)
ORBIT_NUMBER = 5686
ORBITAL_ECCENTRICITY = 0.568
ORBITAL_INCLINATION = 86.76
ORBITAL_SEMIMAJOR_AXIS = 8638.71
PERIAPSIS_ALTITUDE = 358.7
PERIAPSIS_ARGUMENT_ANGLE = 78.2
PERIAPSIS_TIME = 2008-06-06T02:23:43.000Z
SPACECRAFT_ORIENTATION = (0.0,1.0,0.0)
^MEX_ORIENTATION_DESC = "MEX_ORIENTATION_DESC.TXT"
SPACECRAFT_POINTING_MODE = NADIR
^MEX_POINTING_DESC = "MEX_POINTING_DESC.TXT"
RIGHT_ASCENSION = -1e+32
DECLINATION = -1e+32
OFFSET_ANGLE = -1e+32
SPACECRAFT_SOLAR_DISTANCE = 2.48793e+08
TARGET_NAME = MARS
/* CAMERA DATA ELEMENTS */
DETECTOR_TEMPERATURE = 18.1666
FOCAL_PLANE_TEMPERATURE = 7.5638
INST_CMPRS_NAME = "DISCRETE COSINE TRANSFORMATION (DCT)"
INST_CMPRS_RATIO = 26.9699
INST_CMPRS_QUALITY = 0
INST_CMPRS_QUANTZ_TBL_ID = 0
INSTRUMENT_TEMPERATURE = 10.8262
LENS_TEMPERATURE = 7.9716
MACROPIXEL_SIZE = 4
MISSING_FRAMES = 0
PIXEL_SUBSAMPLING_FLAG = N
SIGNAL_CHAIN_ID = 2
/* RADIOMETRIC DATA ELEMENTS */
BANDWIDTH = 48.0
CENTER_FILTER_WAVELENGTH = 748.0
RADIANCE_OFFSET = 0.87074
RADIANCE_SCALING_FACTOR = 0.0053659
REFLECTANCE_SCALING_FACTOR = 0.000757961
MEX:REFLECTANCE_OFFSET = 0.122996
/* IMAGE OBJECT DEFINITIONS */
OBJECT = IMAGE
  INTERCHANGE_FORMAT = BINARY
  LINES = 9028
  LINE_SAMPLES = 3907
  SAMPLE_TYPE = UNSIGNED_INTEGER
  SAMPLE_BITS = 8
  BANDS = 1
  BAND_STORAGE_TYPE = BAND_SEQUENTIAL
  MAXIMUM = 255
  MEAN = 85.5282
  MINIMUM = 1
  STANDARD_DEVIATION = 30.3308
END_OBJECT = IMAGE
/* MAP OBJECT DEFINITIONS */
OBJECT = IMAGE_MAP_PROJECTION
  ^DATA_SET_MAP_PROJECTION_CATALOG= "DSMAP.CAT"
  A_AXIS_RADIUS = 3396.0
  B_AXIS_RADIUS = 3396.0
  C_AXIS_RADIUS = 3396.0
  CENTER_LATITUDE = 0.0
  CENTER_LONGITUDE = 203.0
  COORDINATE_SYSTEM_NAME = PLANETOGRAPHIC
  COORDINATE_SYSTEM_TYPE = "BODY-FIXED ROTATING"
  EASTERNMOST_LONGITUDE = 208.271
  FIRST_STANDARD_PARALLEL = "N/A"
  LINE_FIRST_PIXEL = 1
  LINE_LAST_PIXEL = 9028
  LINE_PROJECTION_OFFSET = 94258.875
  MAP_PROJECTION_ROTATION = 0.0
  MAP_PROJECTION_TYPE = SINUSOIDAL
  MAP_RESOLUTION = 1185.42760773333
  MAP_SCALE = 0.05
  MAXIMUM_LATITUDE = 79.6028
  MINIMUM_LATITUDE = 71.88460000000001
  POSITIVE_LONGITUDE_DIRECTION = EAST
  REFERENCE_LATITUDE = "N/A"
  REFERENCE_LONGITUDE = "N/A"
  SAMPLE_FIRST_PIXEL = 1
  SAMPLE_LAST_PIXEL = 3907
  SAMPLE_PROJECTION_OFFSET = 1949.875
  SECOND_STANDARD_PARALLEL = "N/A"
  WESTERNMOST_LONGITUDE = 194.555
END_OBJECT = IMAGE_MAP_PROJECTION
END
