PDS_VERSION_ID = PDS3
/* FILE DATA ELEMENTS */
RECORD_TYPE = UNDEFINED
/* POINTERS TO DATA OBJECTS */
^IMAGE = ("H5685_0000_RE4.TIF")
/* IDENTIFICATION DATA ELEMENTS */
DATA_SET_ID = "MEX-M-HRSC-4-REFDR-MAPPROJECT-EXT2-V4.0"
DATA_SET_NAME = "MARS EXPRESS HRSC MAP PROJECTED REFDR EXTENSION2 V4.0"
DETECTOR_ID = MEX_HRSC_RED
EVENT_TYPE = "MARS-REGIONAL-MAPPING-Gl-Pf-Eo"
INSTRUMENT_HOST_ID = MEX
INSTRUMENT_HOST_NAME = "MARS EXPRESS"
INSTRUMENT_ID = HRSC
INSTRUMENT_NAME = "HIGH RESOLUTION STEREO CAMERA"
MISSION_NAME = "MARS EXPRESS"
MISSION_PHASE_NAME = ME_Phase_12
PROCESSING_LEVEL_ID = 4
PRODUCT_CREATION_TIME = 2023-02-03T16:04:45.000Z
PRODUCT_ID = "H5685_0000_RE4.TIF"
RELEASE_ID = 0003
REVISION_ID = 0000
/* QUALITY DATA ELEMENTS */
DATA_QUALITY_ID = 1
DATA_QUALITY_DESC = "Data calculated based on original SPICE kernels"
/* TIME DATA ELEMENTS */
SPACECRAFT_CLOCK_START_COUNT = "1/0160774662.09066"
SPACECRAFT_CLOCK_STOP_COUNT = "1/0160774849.53989"
START_TIME = 2008-06-05T19:37:52.579Z
STOP_TIME = 2008-06-05T19:39:20.616Z
/* ORBITAL DATA ELEMENTS */
ASCENDING_NODE_LONGITUDE = 110.18
MAXIMUM_RESOLUTION = 0.0719
FOOTPRINT_POINT_LATITUDE = (81.0412,81.1188,81.192,81.2609,81.325, 81.3843,81.4388,81.4703,81.4733,81.3674 ,81.1614,80.9555,80.6917,80.5329, 80.3741,80.2151,79.95,79.7908,79.5765, 79.4132,79.2487,79.1394,79.0307,78.9218 ,78.8127,78.7038,78.5948,78.4858, 78.3748,78.2635,78.0406,77.8733,77.7058 ,77.5383,77.4263,77.2574,77.143,77.0284 ,76.9137,76.7994,76.6852,76.5708, 76.3994,76.285,76.1104,75.9937,75.8769, 75.8185,75.7792,75.7572,75.7409,75.7236 ,75.7077,75.6807,75.6434,75.6206, 75.5967,75.5714,75.5353,75.4972,75.4937 ,75.4937,75.6656,75.8376,75.9522, 76.0643,76.1762,76.2881,76.4001,76.512, 76.6799,76.7917,76.9035,77.0699,77.179, 77.3424,77.5057,77.6691,77.7781,77.8869 ,77.9953,78.1041,78.2105,78.4223, 78.6341,78.8453,78.9509,79.0565,79.1618 ,79.3188,79.5238,79.6773,79.8305, 80.0344,80.2379,80.4409,80.5902,80.8366 ,80.8872,81.0412)
FOOTPRINT_POINT_LONGITUDE = (292.919,294.187,295.48,296.802,298.149 ,299.522,300.921,301.809,301.899, 302.581,302.915,303.231,303.617,303.838 ,304.051,304.257,304.587,304.776,305.02 ,305.2,305.379,305.494,305.603,305.712, 305.818,305.922,306.024,306.124,306.223 ,306.321,306.51,306.648,306.782,306.913 ,307.0,307.124,307.208,307.29,307.372, 307.451,307.527,307.604,307.715,307.788 ,307.896,307.967,308.036,308.071, 308.094,307.323,306.81,306.299,305.855, 305.16,304.283,303.784,303.288,302.796, 302.123,301.454,301.394,301.372,301.215 ,301.053,300.943,300.833,300.721, 300.608,300.492,300.374,300.194,300.07, 299.945,299.754,299.625,299.428,299.226 ,299.017,298.875,298.73,298.582,298.431 ,298.281,297.972,297.651,297.317, 297.145,296.969,296.79,296.516,296.144, 295.855,295.557,295.144,294.714,294.264 ,293.919,293.323,293.198,292.919)
ORBIT_NUMBER = 5685
ORBITAL_ECCENTRICITY = 0.567
ORBITAL_INCLINATION = 86.75
ORBITAL_SEMIMAJOR_AXIS = 8637.15
PERIAPSIS_ALTITUDE = 359.48
PERIAPSIS_ARGUMENT_ANGLE = 78.38
PERIAPSIS_TIME = 2008-06-05T19:33:15.000Z
SPACECRAFT_ORIENTATION = (0.0,1.0,0.0)
^MEX_ORIENTATION_DESC = "MEX_ORIENTATION_DESC.TXT"
SPACECRAFT_POINTING_MODE = ACROSSTRACK
^MEX_POINTING_DESC = "MEX_POINTING_DESC.TXT"
RIGHT_ASCENSION = -1e+32
DECLINATION = -1e+32
OFFSET_ANGLE = 0.4
SPACECRAFT_SOLAR_DISTANCE = 2.48803e+08
TARGET_NAME = MARS
/* CAMERA DATA ELEMENTS */
DETECTOR_TEMPERATURE = 18.1666
FOCAL_PLANE_TEMPERATURE = 7.156
INST_CMPRS_NAME = "DISCRETE COSINE TRANSFORMATION (DCT)"
INST_CMPRS_RATIO = 21.5347
INST_CMPRS_QUALITY = 0
INST_CMPRS_QUANTZ_TBL_ID = 0
INSTRUMENT_TEMPERATURE = 10.8262
LENS_TEMPERATURE = 7.9716
MACROPIXEL_SIZE = 4
MISSING_FRAMES = 0
PIXEL_SUBSAMPLING_FLAG = N
SIGNAL_CHAIN_ID = 2
/* RADIOMETRIC DATA ELEMENTS */
BANDWIDTH = 48.0
CENTER_FILTER_WAVELENGTH = 748.0
RADIANCE_OFFSET = 0.749821
RADIANCE_SCALING_FACTOR = 0.00737791
REFLECTANCE_SCALING_FACTOR = 0.00104225
MEX:REFLECTANCE_OFFSET = 0.105924
/* IMAGE OBJECT DEFINITIONS */
OBJECT = IMAGE
  INTERCHANGE_FORMAT = BINARY
  LINES = 7018
  LINE_SAMPLES = 3509
  SAMPLE_TYPE = UNSIGNED_INTEGER
  SAMPLE_BITS = 8
  BANDS = 1
  BAND_STORAGE_TYPE = BAND_SEQUENTIAL
  MAXIMUM = 254
  MEAN = 75.7634
  MINIMUM = 1
  STANDARD_DEVIATION = 39.7089
END_OBJECT = IMAGE
/* MAP OBJECT DEFINITIONS */
OBJECT = IMAGE_MAP_PROJECTION
  ^DATA_SET_MAP_PROJECTION_CATALOG= "DSMAP.CAT"
  A_AXIS_RADIUS = 3396.0
  B_AXIS_RADIUS = 3396.0
  C_AXIS_RADIUS = 3396.0
  CENTER_LATITUDE = 0.0
  CENTER_LONGITUDE = 302.0
  COORDINATE_SYSTEM_NAME = PLANETOGRAPHIC
  COORDINATE_SYSTEM_TYPE = "BODY-FIXED ROTATING"
  EASTERNMOST_LONGITUDE = 308.094
  FIRST_STANDARD_PARALLEL = "N/A"
  LINE_FIRST_PIXEL = 1
  LINE_LAST_PIXEL = 7018
  LINE_PROJECTION_OFFSET = 96502.125
  MAP_PROJECTION_ROTATION = 0.0
  MAP_PROJECTION_TYPE = SINUSOIDAL
  MAP_RESOLUTION = 1185.42760773333
  MAP_SCALE = 0.05
  MAXIMUM_LATITUDE = 81.47329999999999
  MINIMUM_LATITUDE = 75.4937
  POSITIVE_LONGITUDE_DIRECTION = EAST
  REFERENCE_LATITUDE = "N/A"
  REFERENCE_LONGITUDE = "N/A"
  SAMPLE_FIRST_PIXEL = 1
  SAMPLE_LAST_PIXEL = 3509
  SAMPLE_PROJECTION_OFFSET = 1706.875
  SECOND_STANDARD_PARALLEL = "N/A"
  WESTERNMOST_LONGITUDE = 292.919
END_OBJECT = IMAGE_MAP_PROJECTION
END
