PDS_VERSION_ID = PDS3
/* FILE DATA ELEMENTS */
RECORD_TYPE = UNDEFINED
/* POINTERS TO DATA OBJECTS */
^IMAGE = ("H5677_0000_GR4.TIF")
/* IDENTIFICATION DATA ELEMENTS */
DATA_SET_ID = "MEX-M-HRSC-4-REFDR-MAPPROJECT-EXT2-V4.0"
DATA_SET_NAME = "MARS EXPRESS HRSC MAP PROJECTED REFDR EXTENSION2 V4.0"
DETECTOR_ID = MEX_HRSC_GREEN
EVENT_TYPE = "MARS-REGIONAL-MAPPING-Gl-Pf-Eo"
INSTRUMENT_HOST_ID = MEX
INSTRUMENT_HOST_NAME = "MARS EXPRESS"
INSTRUMENT_ID = HRSC
INSTRUMENT_NAME = "HIGH RESOLUTION STEREO CAMERA"
MISSION_NAME = "MARS EXPRESS"
MISSION_PHASE_NAME = ME_Phase_12
PROCESSING_LEVEL_ID = 4
PRODUCT_CREATION_TIME = 2023-02-03T16:04:45.000Z
PRODUCT_ID = "H5677_0000_GR4.TIF"
RELEASE_ID = 0003
REVISION_ID = 0000
/* QUALITY DATA ELEMENTS */
DATA_QUALITY_ID = 1
DATA_QUALITY_DESC = "Data calculated based on original SPICE kernels"
/* TIME DATA ELEMENTS */
SPACECRAFT_CLOCK_START_COUNT = "1/0160577640.08259"
SPACECRAFT_CLOCK_STOP_COUNT = "1/0160577833.21320"
START_TIME = 2008-06-03T12:54:53.422Z
STOP_TIME = 2008-06-03T12:56:27.582Z
/* ORBITAL DATA ELEMENTS */
ASCENDING_NODE_LONGITUDE = 110.34
MAXIMUM_RESOLUTION = 0.0752
FOOTPRINT_POINT_LATITUDE = (77.3115,77.3819,77.4179,77.4571, 77.5158,77.5478,77.5788,77.6087,77.6377 ,77.6791,77.7056,77.7309,77.734,77.7604 ,77.4548,77.1427,76.9344,76.7262,76.518 ,76.253,76.0404,75.8278,75.6154,75.3994 ,75.1734,74.9567,74.7402,74.6305,74.52, 74.4096,74.2992,74.1888,74.0785,73.9683 ,73.8581,73.7456,73.6332,73.5208, 73.4085,73.2963,73.1841,73.0718,72.9583 ,72.8438,72.6721,72.5579,72.4439, 72.3298,72.2727,72.2393,72.221,72.2016, 72.1837,72.1624,72.1401,72.1138,72.0734 ,72.0438,72.0024,71.9772,71.9474, 71.9126,71.9086,71.9085,72.0776,72.2461 ,72.3585,72.471,72.5834,72.7514,72.8616 ,72.972,73.0823,73.1927,73.3031,73.4136 ,73.5235,73.6317,73.74,73.8482,73.9565, 74.0648,74.1731,74.3354,74.5476,74.7597 ,74.9809,75.1928,75.4004,75.6081, 75.8156,76.0747,76.2776,76.4804,76.6831 ,76.8857,77.0365,77.2343,77.2837, 77.3115)
FOOTPRINT_POINT_LONGITUDE = (16.4455,17.3996,17.9107,18.4883, 19.3926,19.911,20.4312,20.953,21.4766, 22.2654,22.794,23.3238,23.3901,23.5, 23.8359,24.1616,24.37,24.5715,24.7663, 25.0054,25.1904,25.3694,25.5428,25.7136 ,25.8869,26.0477,26.2037,26.2809, 26.3576,26.4331,26.5074,26.5806,26.6527 ,26.7238,26.7937,26.864,26.9334,27.0017 ,27.069,27.1352,27.2005,27.2646,27.3307 ,27.3943,27.4872,27.5488,27.6095, 27.6693,27.6989,27.7162,27.2731,26.8257 ,26.4348,25.9892,25.544,25.0437,24.3224 ,23.823,23.1588,22.7723,22.3312,21.8351 ,21.78,21.7608,21.6429,21.5218,21.44, 21.3566,21.2725,21.1444,21.0584,20.9709 ,20.8825,20.7927,20.7015,20.6091, 20.5156,20.4221,20.327,20.2305,20.1327, 20.0333,19.9324,19.7781,19.5711,19.3576 ,19.1275,18.8998,18.6697,18.4321, 18.1866,17.8686,17.6102,17.3435,17.0675 ,16.7824,16.5635,16.2681,16.1926, 16.4455)
ORBIT_NUMBER = 5677
ORBITAL_ECCENTRICITY = 0.567
ORBITAL_INCLINATION = 86.74
ORBITAL_SEMIMAJOR_AXIS = 8636.03
PERIAPSIS_ALTITUDE = 359.65
PERIAPSIS_ARGUMENT_ANGLE = 79.76
PERIAPSIS_TIME = 2008-06-03T12:48:59.000Z
SPACECRAFT_ORIENTATION = (0.0,1.0,0.0)
^MEX_ORIENTATION_DESC = "MEX_ORIENTATION_DESC.TXT"
SPACECRAFT_POINTING_MODE = ACROSSTRACK
^MEX_POINTING_DESC = "MEX_POINTING_DESC.TXT"
RIGHT_ASCENSION = -1e+32
DECLINATION = -1e+32
OFFSET_ANGLE = -0.32
SPACECRAFT_SOLAR_DISTANCE = 2.4888e+08
TARGET_NAME = MARS
/* CAMERA DATA ELEMENTS */
DETECTOR_TEMPERATURE = 17.7588
FOCAL_PLANE_TEMPERATURE = 7.5638
INST_CMPRS_NAME = "DISCRETE COSINE TRANSFORMATION (DCT)"
INST_CMPRS_RATIO = 20.8739
INST_CMPRS_QUALITY = 0
INST_CMPRS_QUANTZ_TBL_ID = 0
INSTRUMENT_TEMPERATURE = 10.8262
LENS_TEMPERATURE = 8.1755
MACROPIXEL_SIZE = 4
MISSING_FRAMES = 1
PIXEL_SUBSAMPLING_FLAG = N
SIGNAL_CHAIN_ID = 2
/* RADIOMETRIC DATA ELEMENTS */
BANDWIDTH = 88.0
CENTER_FILTER_WAVELENGTH = 538.0
RADIANCE_OFFSET = 0.879138
RADIANCE_SCALING_FACTOR = 0.0148397
REFLECTANCE_SCALING_FACTOR = 0.000791394
MEX:REFLECTANCE_OFFSET = 0.0468841
/* IMAGE OBJECT DEFINITIONS */
OBJECT = IMAGE
  INTERCHANGE_FORMAT = BINARY
  LINES = 6955
  LINE_SAMPLES = 3478
  SAMPLE_TYPE = UNSIGNED_INTEGER
  SAMPLE_BITS = 8
  BANDS = 1
  BAND_STORAGE_TYPE = BAND_SEQUENTIAL
  MAXIMUM = 254
  MEAN = 41.7988
  MINIMUM = 1
  STANDARD_DEVIATION = 21.803
END_OBJECT = IMAGE
/* MAP OBJECT DEFINITIONS */
OBJECT = IMAGE_MAP_PROJECTION
  ^DATA_SET_MAP_PROJECTION_CATALOG= "DSMAP.CAT"
  A_AXIS_RADIUS = 3396.0
  B_AXIS_RADIUS = 3396.0
  C_AXIS_RADIUS = 3396.0
  CENTER_LATITUDE = 0.0
  CENTER_LONGITUDE = 23.0
  COORDINATE_SYSTEM_NAME = PLANETOGRAPHIC
  COORDINATE_SYSTEM_TYPE = "BODY-FIXED ROTATING"
  EASTERNMOST_LONGITUDE = 27.7162
  FIRST_STANDARD_PARALLEL = "N/A"
  LINE_FIRST_PIXEL = 1
  LINE_LAST_PIXEL = 6955
  LINE_PROJECTION_OFFSET = 92190.625
  MAP_PROJECTION_ROTATION = 0.0
  MAP_PROJECTION_TYPE = SINUSOIDAL
  MAP_RESOLUTION = 1185.42760773333
  MAP_SCALE = 0.05
  MAXIMUM_LATITUDE = 77.7604
  MINIMUM_LATITUDE = 71.9085
  POSITIVE_LONGITUDE_DIRECTION = EAST
  REFERENCE_LATITUDE = "N/A"
  REFERENCE_LONGITUDE = "N/A"
  SAMPLE_FIRST_PIXEL = 1
  SAMPLE_LAST_PIXEL = 3478
  SAMPLE_PROJECTION_OFFSET = 1774.625
  SECOND_STANDARD_PARALLEL = "N/A"
  WESTERNMOST_LONGITUDE = 16.1926
END_OBJECT = IMAGE_MAP_PROJECTION
END
