PDS_VERSION_ID = PDS3
/* FILE DATA ELEMENTS */
RECORD_TYPE = UNDEFINED
/* POINTERS TO DATA OBJECTS */
^IMAGE = ("H5665_0000_RE4.TIF")
/* IDENTIFICATION DATA ELEMENTS */
DATA_SET_ID = "MEX-M-HRSC-4-REFDR-MAPPROJECT-EXT2-V4.0"
DATA_SET_NAME = "MARS EXPRESS HRSC MAP PROJECTED REFDR EXTENSION2 V4.0"
DETECTOR_ID = MEX_HRSC_RED
EVENT_TYPE = "MARS-REGIONAL-MAPPING-Im-Gl-Pf"
INSTRUMENT_HOST_ID = MEX
INSTRUMENT_HOST_NAME = "MARS EXPRESS"
INSTRUMENT_ID = HRSC
INSTRUMENT_NAME = "HIGH RESOLUTION STEREO CAMERA"
MISSION_NAME = "MARS EXPRESS"
MISSION_PHASE_NAME = ME_Phase_12
PROCESSING_LEVEL_ID = 4
PRODUCT_CREATION_TIME = 2023-02-03T16:04:45.000Z
PRODUCT_ID = "H5665_0000_RE4.TIF"
RELEASE_ID = 0003
REVISION_ID = 0000
/* QUALITY DATA ELEMENTS */
DATA_QUALITY_ID = 1
DATA_QUALITY_DESC = "Data calculated based on original SPICE kernels"
/* TIME DATA ELEMENTS */
SPACECRAFT_CLOCK_START_COUNT = "1/0160281997.07291"
SPACECRAFT_CLOCK_STOP_COUNT = "1/0160282269.59750"
START_TIME = 2008-05-31T02:46:47.099Z
STOP_TIME = 2008-05-31T02:49:34.179Z
/* ORBITAL DATA ELEMENTS */
ASCENDING_NODE_LONGITUDE = 110.59
MAXIMUM_RESOLUTION = 0.0692
FOOTPRINT_POINT_LATITUDE = (80.0058,80.1356,80.2247,80.2955, 80.4506,80.454,80.3461,79.7755,79.3904, 79.005,78.6174,78.4189,78.121,77.8229, 77.5247,77.3259,77.0206,76.7144,76.5101 ,76.3058,76.1017,75.8942,75.6848, 75.4754,75.2662,75.0568,74.8474,74.5261 ,74.3117,74.0973,73.883,73.5581,73.3388 ,73.1196,72.9004,72.6813,72.4587, 72.2349,72.0111,71.7869,71.4474,71.2187 ,70.9901,70.7616,70.4143,70.181,69.9477 ,69.8312,69.7445,69.7205,69.6955, 69.6593,69.614,69.555,69.4927,69.4896, 69.4898,69.7204,69.9511,70.1818,70.4118 ,70.6377,70.8637,71.0897,71.4267, 71.6479,71.8691,72.0904,72.421,72.744, 72.9599,73.1761,73.3921,73.6033,73.8142 ,74.0251,74.236,74.5511,74.8597,75.0652 ,75.3734,75.5787,75.8812,76.081,76.2809 ,76.4804,76.6798,76.8791,77.0744,77.365 ,77.5583,77.7515,77.9443,78.1371, 78.3277,78.8876,79.259,79.7199,79.8094, 80.0058)
FOOTPRINT_POINT_LONGITUDE = (134.325,136.177,137.58,138.792,141.863 ,141.938,142.403,143.277,143.811, 144.306,144.769,144.993,145.315,145.621 ,145.912,146.097,146.371,146.632, 146.799,146.961,147.118,147.273,147.424 ,147.571,147.713,147.851,147.985, 148.183,148.31,148.434,148.555,148.731, 148.845,148.957,149.065,149.171,149.275 ,149.377,149.476,149.573,149.715, 149.808,149.898,149.986,150.115,150.199 ,150.281,150.321,150.35,149.688,149.073 ,148.272,147.38,146.352,145.376,145.33, 145.314,145.205,145.092,144.977,144.858 ,144.739,144.616,144.49,144.295,144.163 ,144.027,143.887,143.672,143.45,143.297 ,143.139,142.977,142.814,142.646, 142.473,142.296,142.02,141.737,141.541, 141.237,141.026,140.702,140.48,140.251, 140.014,139.77,139.518,139.263,138.866, 138.591,138.306,138.012,137.707,137.396 ,136.409,135.691,134.721,134.521, 134.325)
ORBIT_NUMBER = 5665
ORBITAL_ECCENTRICITY = 0.567
ORBITAL_INCLINATION = 86.75
ORBITAL_SEMIMAJOR_AXIS = 8636.09
PERIAPSIS_ALTITUDE = 360.45
PERIAPSIS_ARGUMENT_ANGLE = 81.86
PERIAPSIS_TIME = 2008-05-31T02:42:48.000Z
SPACECRAFT_ORIENTATION = (0.0,1.0,0.0)
^MEX_ORIENTATION_DESC = "MEX_ORIENTATION_DESC.TXT"
SPACECRAFT_POINTING_MODE = NADIR
^MEX_POINTING_DESC = "MEX_POINTING_DESC.TXT"
RIGHT_ASCENSION = -1e+32
DECLINATION = -1e+32
OFFSET_ANGLE = -1e+32
SPACECRAFT_SOLAR_DISTANCE = 2.4898e+08
TARGET_NAME = MARS
/* CAMERA DATA ELEMENTS */
DETECTOR_TEMPERATURE = 18.1666
FOCAL_PLANE_TEMPERATURE = 7.156
INST_CMPRS_NAME = "DISCRETE COSINE TRANSFORMATION (DCT)"
INST_CMPRS_RATIO = 23.164
INST_CMPRS_QUALITY = 0
INST_CMPRS_QUANTZ_TBL_ID = 0
INSTRUMENT_TEMPERATURE = 10.8262
LENS_TEMPERATURE = 7.7677
MACROPIXEL_SIZE = 4
MISSING_FRAMES = 0
PIXEL_SUBSAMPLING_FLAG = N
SIGNAL_CHAIN_ID = 2
/* RADIOMETRIC DATA ELEMENTS */
BANDWIDTH = 48.0
CENTER_FILTER_WAVELENGTH = 748.0
RADIANCE_OFFSET = 0.736653
RADIANCE_SCALING_FACTOR = 0.00897059
REFLECTANCE_SCALING_FACTOR = 0.00126904
MEX:REFLECTANCE_OFFSET = 0.104212
/* IMAGE OBJECT DEFINITIONS */
OBJECT = IMAGE
  INTERCHANGE_FORMAT = BINARY
  LINES = 12879
  LINE_SAMPLES = 4490
  SAMPLE_TYPE = UNSIGNED_INTEGER
  SAMPLE_BITS = 8
  BANDS = 1
  BAND_STORAGE_TYPE = BAND_SEQUENTIAL
  MAXIMUM = 255
  MEAN = 139.184
  MINIMUM = 1
  STANDARD_DEVIATION = 50.5724
END_OBJECT = IMAGE
/* MAP OBJECT DEFINITIONS */
OBJECT = IMAGE_MAP_PROJECTION
  ^DATA_SET_MAP_PROJECTION_CATALOG= "DSMAP.CAT"
  A_AXIS_RADIUS = 3396.0
  B_AXIS_RADIUS = 3396.0
  C_AXIS_RADIUS = 3396.0
  CENTER_LATITUDE = 0.0
  CENTER_LONGITUDE = 145.0
  COORDINATE_SYSTEM_NAME = PLANETOGRAPHIC
  COORDINATE_SYSTEM_TYPE = "BODY-FIXED ROTATING"
  EASTERNMOST_LONGITUDE = 150.35
  FIRST_STANDARD_PARALLEL = "N/A"
  LINE_FIRST_PIXEL = 1
  LINE_LAST_PIXEL = 12879
  LINE_PROJECTION_OFFSET = 95282.125
  MAP_PROJECTION_ROTATION = 0.0
  MAP_PROJECTION_TYPE = SINUSOIDAL
  MAP_RESOLUTION = 1185.42760773333
  MAP_SCALE = 0.05
  MAXIMUM_LATITUDE = 80.45399999999999
  MINIMUM_LATITUDE = 69.4896
  POSITIVE_LONGITUDE_DIRECTION = EAST
  REFERENCE_LATITUDE = "N/A"
  REFERENCE_LONGITUDE = "N/A"
  SAMPLE_FIRST_PIXEL = 1
  SAMPLE_LAST_PIXEL = 4490
  SAMPLE_PROJECTION_OFFSET = 2254.625
  SECOND_STANDARD_PARALLEL = "N/A"
  WESTERNMOST_LONGITUDE = 134.325
END_OBJECT = IMAGE_MAP_PROJECTION
END
