PDS_VERSION_ID = PDS3
/* FILE DATA ELEMENTS */
RECORD_TYPE = UNDEFINED
/* POINTERS TO DATA OBJECTS */
^IMAGE = ("H5654_0000_P14.TIF")
/* IDENTIFICATION DATA ELEMENTS */
DATA_SET_ID = "MEX-M-HRSC-4-REFDR-MAPPROJECT-EXT2-V4.0"
DATA_SET_NAME = "MARS EXPRESS HRSC MAP PROJECTED REFDR EXTENSION2 V4.0"
DETECTOR_ID = MEX_HRSC_P1
EVENT_TYPE = "MARS-REGIONAL-STEREO-Im-Gl-Pf"
INSTRUMENT_HOST_ID = MEX
INSTRUMENT_HOST_NAME = "MARS EXPRESS"
INSTRUMENT_ID = HRSC
INSTRUMENT_NAME = "HIGH RESOLUTION STEREO CAMERA"
MISSION_NAME = "MARS EXPRESS"
MISSION_PHASE_NAME = ME_Phase_12
PROCESSING_LEVEL_ID = 4
PRODUCT_CREATION_TIME = 2023-02-03T16:04:45.000Z
PRODUCT_ID = "H5654_0000_P14.TIF"
RELEASE_ID = 0003
REVISION_ID = 0000
/* QUALITY DATA ELEMENTS */
DATA_QUALITY_ID = 1
DATA_QUALITY_DESC = "Data calculated based on original SPICE kernels"
/* TIME DATA ELEMENTS */
SPACECRAFT_CLOCK_START_COUNT = "1/0160011059.08414"
SPACECRAFT_CLOCK_STOP_COUNT = "1/0160011281.31620"
START_TIME = 2008-05-27T23:32:08.749Z
STOP_TIME = 2008-05-27T23:34:23.983Z
/* ORBITAL DATA ELEMENTS */
ASCENDING_NODE_LONGITUDE = 110.8
MAXIMUM_RESOLUTION = 0.0363
FOOTPRINT_POINT_LATITUDE = (77.4962,77.6032,77.6757,77.7438, 77.8077,77.8673,77.9228,77.9261,78.014, 77.7254,77.2918,76.9301,76.7088,76.4129 ,76.1169,75.8951,75.7451,75.5937,75.442 ,75.2911,75.1402,74.9894,74.761,74.6067 ,74.4525,74.2983,74.1444,73.9901, 73.7554,73.5987,73.4415,73.2838,73.0474 ,72.8869,72.7266,72.5679,72.3301, 72.0904,71.8469,71.6843,71.5221,71.3603 ,71.1952,70.9474,70.7824,70.6177,70.367 ,70.2831,70.2772,70.2423,70.2209, 70.1987,70.1556,70.1238,70.0806,70.0241 ,69.9886,69.9849,69.9842,70.1495, 70.3139,70.4764,70.6389,70.8829,71.0457 ,71.2052,71.3649,71.6044,71.8442, 72.0012,72.158,72.3932,72.55,72.7062, 72.8602,73.091,73.2448,73.3988,73.6291, 73.7797,73.9306,74.0813,74.2321,74.3829 ,74.5324,74.8274,74.9748,75.1221, 75.2695,75.4897,75.7777,75.9935,76.2092 ,76.4957,76.776,76.986,77.2655,77.4748, 77.5441,77.4962)
FOOTPRINT_POINT_LONGITUDE = (155.399,156.822,157.861,158.901, 159.942,160.986,162.03,162.096,161.982, 162.38,162.942,163.381,163.637,163.965, 164.279,164.505,164.654,164.8,164.944, 165.084,165.221,165.355,165.553,165.683 ,165.81,165.935,166.057,166.176,166.354 ,166.469,166.583,166.694,166.857, 166.965,167.071,167.174,167.325,167.472 ,167.618,167.713,167.806,167.897, 167.988,168.121,168.208,168.294,168.421 ,168.462,168.465,167.635,167.165, 166.695,165.857,165.279,164.541,163.642 ,163.112,163.059,163.04,162.935,162.829 ,162.722,162.613,162.446,162.331, 162.217,162.1,161.921,161.736,161.61, 161.484,161.289,161.157,161.022,160.884 ,160.674,160.531,160.384,160.156, 160.005,159.85,159.692,159.531,159.366, 159.198,158.857,158.682,158.502,158.318 ,158.036,157.65,157.35,157.04,156.611, 156.17,155.826,155.348,154.974,154.847, 155.399)
ORBIT_NUMBER = 5654
ORBITAL_ECCENTRICITY = 0.567
ORBITAL_INCLINATION = 86.74
ORBITAL_SEMIMAJOR_AXIS = 8635.71
PERIAPSIS_ALTITUDE = 360.35
PERIAPSIS_ARGUMENT_ANGLE = 83.79
PERIAPSIS_TIME = 2008-05-27T23:27:06.000Z
SPACECRAFT_ORIENTATION = (0.0,1.0,0.0)
^MEX_ORIENTATION_DESC = "MEX_ORIENTATION_DESC.TXT"
SPACECRAFT_POINTING_MODE = ACROSSTRACK
^MEX_POINTING_DESC = "MEX_POINTING_DESC.TXT"
RIGHT_ASCENSION = -1e+32
DECLINATION = -1e+32
OFFSET_ANGLE = -0.8
SPACECRAFT_SOLAR_DISTANCE = 2.49057e+08
TARGET_NAME = MARS
/* CAMERA DATA ELEMENTS */
DETECTOR_TEMPERATURE = 16.9432
FOCAL_PLANE_TEMPERATURE = 6.9521
INST_CMPRS_NAME = "DISCRETE COSINE TRANSFORMATION (DCT)"
INST_CMPRS_RATIO = 12.631
INST_CMPRS_QUALITY = 0
INST_CMPRS_QUANTZ_TBL_ID = 0
INSTRUMENT_TEMPERATURE = 10.8262
LENS_TEMPERATURE = 7.3599
MACROPIXEL_SIZE = 2
MISSING_FRAMES = 0
PIXEL_SUBSAMPLING_FLAG = N
SIGNAL_CHAIN_ID = 3
/* RADIOMETRIC DATA ELEMENTS */
BANDWIDTH = 174.0
CENTER_FILTER_WAVELENGTH = 675.0
RADIANCE_OFFSET = 2.77996
RADIANCE_SCALING_FACTOR = 0.0433847
REFLECTANCE_SCALING_FACTOR = 0.0014475
MEX:REFLECTANCE_OFFSET = 0.0927511
/* IMAGE OBJECT DEFINITIONS */
OBJECT = IMAGE
  INTERCHANGE_FORMAT = BINARY
  LINES = 19151
  LINE_SAMPLES = 8362
  SAMPLE_TYPE = UNSIGNED_INTEGER
  SAMPLE_BITS = 8
  BANDS = 1
  BAND_STORAGE_TYPE = BAND_SEQUENTIAL
  MAXIMUM = 255
  MEAN = 101.358
  MINIMUM = 1
  STANDARD_DEVIATION = 47.9321
END_OBJECT = IMAGE
/* MAP OBJECT DEFINITIONS */
OBJECT = IMAGE_MAP_PROJECTION
  ^DATA_SET_MAP_PROJECTION_CATALOG= "DSMAP.CAT"
  A_AXIS_RADIUS = 3396.0
  B_AXIS_RADIUS = 3396.0
  C_AXIS_RADIUS = 3396.0
  CENTER_LATITUDE = 0.0
  CENTER_LONGITUDE = 163.0
  COORDINATE_SYSTEM_NAME = PLANETOGRAPHIC
  COORDINATE_SYSTEM_TYPE = "BODY-FIXED ROTATING"
  EASTERNMOST_LONGITUDE = 168.465
  FIRST_STANDARD_PARALLEL = "N/A"
  LINE_FIRST_PIXEL = 1
  LINE_LAST_PIXEL = 19151
  LINE_PROJECTION_OFFSET = 184983.25
  MAP_PROJECTION_ROTATION = 0.0
  MAP_PROJECTION_TYPE = SINUSOIDAL
  MAP_RESOLUTION = 2370.85521546667
  MAP_SCALE = 0.025
  MAXIMUM_LATITUDE = 78.014
  MINIMUM_LATITUDE = 69.9842
  POSITIVE_LONGITUDE_DIRECTION = EAST
  REFERENCE_LATITUDE = "N/A"
  REFERENCE_LONGITUDE = "N/A"
  SAMPLE_FIRST_PIXEL = 1
  SAMPLE_LAST_PIXEL = 8362
  SAMPLE_PROJECTION_OFFSET = 4094.25
  SECOND_STANDARD_PARALLEL = "N/A"
  WESTERNMOST_LONGITUDE = 154.847
END_OBJECT = IMAGE_MAP_PROJECTION
END
