PDS_VERSION_ID = PDS3
/* FILE DATA ELEMENTS */
RECORD_TYPE = UNDEFINED
/* POINTERS TO DATA OBJECTS */
^IMAGE = ("H5639_0000_ND4.TIF")
/* IDENTIFICATION DATA ELEMENTS */
DATA_SET_ID = "MEX-M-HRSC-4-REFDR-MAPPROJECT-EXT2-V4.0"
DATA_SET_NAME = "MARS EXPRESS HRSC MAP PROJECTED REFDR EXTENSION2 V4.0"
DETECTOR_ID = MEX_HRSC_NADIR
EVENT_TYPE = "MARS-LOCAL-VARIABLE-Ot-At"
INSTRUMENT_HOST_ID = MEX
INSTRUMENT_HOST_NAME = "MARS EXPRESS"
INSTRUMENT_ID = HRSC
INSTRUMENT_NAME = "HIGH RESOLUTION STEREO CAMERA"
MISSION_NAME = "MARS EXPRESS"
MISSION_PHASE_NAME = ME_Phase_12
PROCESSING_LEVEL_ID = 4
PRODUCT_CREATION_TIME = 2023-02-03T16:04:45.000Z
PRODUCT_ID = "H5639_0000_ND4.TIF"
RELEASE_ID = 0003
REVISION_ID = 0000
/* QUALITY DATA ELEMENTS */
DATA_QUALITY_ID = 1
DATA_QUALITY_DESC = "Data calculated based on original SPICE kernels"
/* TIME DATA ELEMENTS */
SPACECRAFT_CLOCK_START_COUNT = "1/0159641588.08247"
SPACECRAFT_CLOCK_STOP_COUNT = "1/0159641928.32503"
START_TIME = 2008-05-23T16:53:49.771Z
STOP_TIME = 2008-05-23T16:57:45.712Z
/* ORBITAL DATA ELEMENTS */
ASCENDING_NODE_LONGITUDE = 111.1
MAXIMUM_RESOLUTION = 0.0341
FOOTPRINT_POINT_LATITUDE = (75.4039,75.5129,75.5924,75.6985, 75.7008,75.7055,75.1752,74.6454,73.968, 73.4261,72.8723,72.3188,72.037,71.7542, 71.4716,71.1894,70.901,70.4686,70.1808, 69.8872,69.4467,69.1534,68.8606,68.5682 ,68.2762,67.9846,67.6935,67.4027, 67.1124,66.8225,66.5331,66.2441,65.9556 ,65.6675,65.3799,65.0927,64.8061, 64.5199,64.2342,63.949,63.6643,63.38, 63.0963,62.8131,62.5304,62.2482,61.9665 ,61.6853,61.545,61.5112,61.4932,61.4633 ,61.4294,61.343,61.3407,61.3404,61.6195 ,61.8991,62.1792,62.4598,62.7409, 63.0224,63.3045,63.587,63.87,64.1534, 64.4373,64.7217,65.0065,65.2917,65.5773 ,65.8634,66.1499,66.4368,66.7241, 67.0118,67.2999,67.5884,67.8772,68.1664 ,68.4559,68.7458,69.036,69.3265,69.6173 ,70.0511,70.3359,70.6211,71.0465, 71.3256,71.7446,72.0237,72.5699,73.1167 ,73.6505,74.1846,74.5782,75.2291, 75.3592,75.4039)
FOOTPRINT_POINT_LONGITUDE = (223.262,225.003,226.445,228.719, 228.773,228.965,229.33,229.669,230.068, 230.361,230.643,230.906,231.032,231.155 ,231.274,231.389,231.503,231.667, 231.772,231.875,232.025,232.119,232.213 ,232.303,232.391,232.476,232.557, 232.637,232.714,232.789,232.862,232.933 ,233.002,233.069,233.134,233.197, 233.259,233.319,233.377,233.435,233.49, 233.544,233.597,233.648,233.698,233.747 ,233.794,233.84,233.863,233.869,233.216 ,232.32,231.467,229.724,229.684,229.669 ,229.614,229.557,229.499,229.438, 229.376,229.312,229.246,229.178,229.108 ,229.035,228.96,228.883,228.803,228.721 ,228.636,228.548,228.458,228.364, 228.268,228.169,228.065,227.959,227.849 ,227.736,227.618,227.496,227.37,227.24, 227.105,226.896,226.752,226.603,226.372 ,226.213,225.964,225.792,225.434,225.05 ,224.647,224.213,223.87,223.26,223.132, 223.262)
ORBIT_NUMBER = 5639
ORBITAL_ECCENTRICITY = 0.567
ORBITAL_INCLINATION = 86.76
ORBITAL_SEMIMAJOR_AXIS = 8633.74
PERIAPSIS_ALTITUDE = 358.94
PERIAPSIS_ARGUMENT_ANGLE = 86.41
PERIAPSIS_TIME = 2008-05-23T16:49:16.000Z
SPACECRAFT_ORIENTATION = (0.0,1.0,0.0)
^MEX_ORIENTATION_DESC = "MEX_ORIENTATION_DESC.TXT"
SPACECRAFT_POINTING_MODE = NADIR
^MEX_POINTING_DESC = "MEX_POINTING_DESC.TXT"
RIGHT_ASCENSION = -1e+32
DECLINATION = -1e+32
OFFSET_ANGLE = -1e+32
SPACECRAFT_SOLAR_DISTANCE = 2.49138e+08
TARGET_NAME = MARS
/* CAMERA DATA ELEMENTS */
DETECTOR_TEMPERATURE = 17.9627
FOCAL_PLANE_TEMPERATURE = 7.156
INST_CMPRS_NAME = "DISCRETE COSINE TRANSFORMATION (DCT)"
INST_CMPRS_RATIO = 12.1322
INST_CMPRS_QUALITY = 0
INST_CMPRS_QUANTZ_TBL_ID = 0
INSTRUMENT_TEMPERATURE = 10.6223
LENS_TEMPERATURE = 7.7677
MACROPIXEL_SIZE = 2
MISSING_FRAMES = 0
PIXEL_SUBSAMPLING_FLAG = N
SIGNAL_CHAIN_ID = 0
/* RADIOMETRIC DATA ELEMENTS */
BANDWIDTH = 177.0
CENTER_FILTER_WAVELENGTH = 677.5
RADIANCE_OFFSET = 3.88193
RADIANCE_SCALING_FACTOR = 0.0202001
REFLECTANCE_SCALING_FACTOR = 0.000666064
MEX:REFLECTANCE_OFFSET = 0.128
/* IMAGE OBJECT DEFINITIONS */
OBJECT = IMAGE
  INTERCHANGE_FORMAT = BINARY
  LINES = 34060
  LINE_SAMPLES = 8502
  SAMPLE_TYPE = UNSIGNED_INTEGER
  SAMPLE_BITS = 8
  BANDS = 1
  BAND_STORAGE_TYPE = BAND_SEQUENTIAL
  MAXIMUM = 255
  MEAN = 103.168
  MINIMUM = 1
  STANDARD_DEVIATION = 24.3155
END_OBJECT = IMAGE
/* MAP OBJECT DEFINITIONS */
OBJECT = IMAGE_MAP_PROJECTION
  ^DATA_SET_MAP_PROJECTION_CATALOG= "DSMAP.CAT"
  A_AXIS_RADIUS = 3396.0
  B_AXIS_RADIUS = 3396.0
  C_AXIS_RADIUS = 3396.0
  CENTER_LATITUDE = 0.0
  CENTER_LONGITUDE = 230.0
  COORDINATE_SYSTEM_NAME = PLANETOGRAPHIC
  COORDINATE_SYSTEM_TYPE = "BODY-FIXED ROTATING"
  EASTERNMOST_LONGITUDE = 233.869
  FIRST_STANDARD_PARALLEL = "N/A"
  LINE_FIRST_PIXEL = 1
  LINE_LAST_PIXEL = 34060
  LINE_PROJECTION_OFFSET = 179488.0
  MAP_PROJECTION_ROTATION = 0.0
  MAP_PROJECTION_TYPE = SINUSOIDAL
  MAP_RESOLUTION = 2370.85521546667
  MAP_SCALE = 0.025
  MAXIMUM_LATITUDE = 75.7055
  MINIMUM_LATITUDE = 61.3404
  POSITIVE_LONGITUDE_DIRECTION = EAST
  REFERENCE_LATITUDE = "N/A"
  REFERENCE_LONGITUDE = "N/A"
  SAMPLE_FIRST_PIXEL = 1
  SAMPLE_LAST_PIXEL = 8502
  SAMPLE_PROJECTION_OFFSET = 4126.0
  SECOND_STANDARD_PARALLEL = "N/A"
  WESTERNMOST_LONGITUDE = 223.132
END_OBJECT = IMAGE_MAP_PROJECTION
END
