PDS_VERSION_ID = PDS3
/* FILE DATA ELEMENTS */
RECORD_TYPE = UNDEFINED
/* POINTERS TO DATA OBJECTS */
^IMAGE = ("H5620_0000_P24.TIF")
/* IDENTIFICATION DATA ELEMENTS */
DATA_SET_ID = "MEX-M-HRSC-4-REFDR-MAPPROJECT-EXT2-V4.0"
DATA_SET_NAME = "MARS EXPRESS HRSC MAP PROJECTED REFDR EXTENSION2 V4.0"
DETECTOR_ID = MEX_HRSC_P2
EVENT_TYPE = "MARS-REGIONAL-MAPPING-Pf-Eo-Ts"
INSTRUMENT_HOST_ID = MEX
INSTRUMENT_HOST_NAME = "MARS EXPRESS"
INSTRUMENT_ID = HRSC
INSTRUMENT_NAME = "HIGH RESOLUTION STEREO CAMERA"
MISSION_NAME = "MARS EXPRESS"
MISSION_PHASE_NAME = ME_Phase_12
PROCESSING_LEVEL_ID = 4
PRODUCT_CREATION_TIME = 2023-02-03T16:04:45.000Z
PRODUCT_ID = "H5620_0000_P24.TIF"
RELEASE_ID = 0003
REVISION_ID = 0000
/* QUALITY DATA ELEMENTS */
DATA_QUALITY_ID = 1
DATA_QUALITY_DESC = "Data calculated based on original SPICE kernels"
/* TIME DATA ELEMENTS */
SPACECRAFT_CLOCK_START_COUNT = "1/0159173491.08372"
SPACECRAFT_CLOCK_STOP_COUNT = "1/0159173715.23837"
START_TIME = 2008-05-18T06:51:46.511Z
STOP_TIME = 2008-05-18T06:54:06.746Z
/* ORBITAL DATA ELEMENTS */
ASCENDING_NODE_LONGITUDE = 111.48
MAXIMUM_RESOLUTION = 0.0313
FOOTPRINT_POINT_LATITUDE = (79.0968,79.2023,79.2917,79.3447, 79.3943,79.4461,79.4489,79.3657,79.1007 ,78.8353,78.6583,78.4812,78.304,78.1266 ,77.9492,77.7717,77.5941,77.3275, 77.1497,76.8829,76.7049,76.5269,76.3489 ,76.0816,75.8143,75.6362,75.4579, 75.2795,75.1012,74.8336,74.6553,74.4769 ,74.2094,74.0311,73.8526,73.4959, 73.1393,72.8718,72.5153,72.3323,72.1492 ,71.9663,71.7833,71.6004,71.4174, 71.2347,71.0518,70.8647,70.6772,70.4896 ,70.3959,70.3842,70.3559,70.3313, 70.3065,70.2776,70.2324,70.175,70.1723, 70.1719,70.4504,70.636,70.8214,71.0023, 71.1832,71.4547,71.6357,71.8165,71.9974 ,72.1782,72.3569,72.7091,73.0611, 73.4128,73.7643,74.1156,74.6423,74.9928 ,75.3431,75.5182,75.693,75.8677,76.0423 ,76.2168,76.3911,76.5653,76.7393, 77.0001,77.1736,77.347,77.5202,77.6932, 77.8659,78.0384,78.2106,78.4684,78.7256 ,78.8965,78.9819,79.0968)
FOOTPRINT_POINT_LONGITUDE = (320.178,321.82,323.371,324.379,325.397 ,326.558,326.623,327.034,327.362, 327.674,327.874,328.067,328.255,328.436 ,328.613,328.784,328.949,329.189, 329.343,329.566,329.71,329.849,329.985, 330.182,330.372,330.494,330.613,330.729 ,330.842,331.007,331.113,331.217, 331.368,331.465,331.561,331.745,331.921 ,332.048,332.211,332.292,332.371, 332.448,332.524,332.598,332.67,332.741, 332.81,332.88,332.948,333.015,333.048, 333.052,332.269,331.661,331.1,330.497, 329.64,328.661,328.618,328.603,328.464, 328.369,328.273,328.176,328.077,327.925 ,327.821,327.714,327.605,327.493,327.38 ,327.15,326.909,326.657,326.392,326.114 ,325.671,325.357,325.027,324.855, 324.679,324.498,324.312,324.121,323.925 ,323.723,323.516,323.194,322.972, 322.743,322.507,322.265,322.015,321.757 ,321.492,321.078,320.645,320.344,320.19 ,320.178)
ORBIT_NUMBER = 5620
ORBITAL_ECCENTRICITY = 0.567
ORBITAL_INCLINATION = 86.76
ORBITAL_SEMIMAJOR_AXIS = 8632.54
PERIAPSIS_ALTITUDE = 359.69
PERIAPSIS_ARGUMENT_ANGLE = 89.74
PERIAPSIS_TIME = 2008-05-18T06:49:26.000Z
SPACECRAFT_ORIENTATION = (0.0,1.0,0.0)
^MEX_ORIENTATION_DESC = "MEX_ORIENTATION_DESC.TXT"
SPACECRAFT_POINTING_MODE = ACROSSTRACK
^MEX_POINTING_DESC = "MEX_POINTING_DESC.TXT"
RIGHT_ASCENSION = -1e+32
DECLINATION = -1e+32
OFFSET_ANGLE = 0.1
SPACECRAFT_SOLAR_DISTANCE = 2.49202e+08
TARGET_NAME = MARS
/* CAMERA DATA ELEMENTS */
DETECTOR_TEMPERATURE = 17.9627
FOCAL_PLANE_TEMPERATURE = 6.9521
INST_CMPRS_NAME = "DISCRETE COSINE TRANSFORMATION (DCT)"
INST_CMPRS_RATIO = 6.73813
INST_CMPRS_QUALITY = 0
INST_CMPRS_QUANTZ_TBL_ID = 0
INSTRUMENT_TEMPERATURE = 10.8262
LENS_TEMPERATURE = 7.5638
MACROPIXEL_SIZE = 2
MISSING_FRAMES = 0
PIXEL_SUBSAMPLING_FLAG = N
SIGNAL_CHAIN_ID = 3
/* RADIOMETRIC DATA ELEMENTS */
BANDWIDTH = 177.0
CENTER_FILTER_WAVELENGTH = 676.5
RADIANCE_OFFSET = 3.15998
RADIANCE_SCALING_FACTOR = 0.0292099
REFLECTANCE_SCALING_FACTOR = 0.000961807
MEX:REFLECTANCE_OFFSET = 0.10405
/* IMAGE OBJECT DEFINITIONS */
OBJECT = IMAGE
  INTERCHANGE_FORMAT = BINARY
  LINES = 21821
  LINE_SAMPLES = 7631
  SAMPLE_TYPE = UNSIGNED_INTEGER
  SAMPLE_BITS = 8
  BANDS = 1
  BAND_STORAGE_TYPE = BAND_SEQUENTIAL
  MAXIMUM = 255
  MEAN = 82.1213
  MINIMUM = 1
  STANDARD_DEVIATION = 55.1641
END_OBJECT = IMAGE
/* MAP OBJECT DEFINITIONS */
OBJECT = IMAGE_MAP_PROJECTION
  ^DATA_SET_MAP_PROJECTION_CATALOG= "DSMAP.CAT"
  A_AXIS_RADIUS = 3396.0
  B_AXIS_RADIUS = 3396.0
  C_AXIS_RADIUS = 3396.0
  CENTER_LATITUDE = 0.0
  CENTER_LONGITUDE = 328.0
  COORDINATE_SYSTEM_NAME = PLANETOGRAPHIC
  COORDINATE_SYSTEM_TYPE = "BODY-FIXED ROTATING"
  EASTERNMOST_LONGITUDE = 333.052
  FIRST_STANDARD_PARALLEL = "N/A"
  LINE_FIRST_PIXEL = 1
  LINE_LAST_PIXEL = 21821
  LINE_PROJECTION_OFFSET = 188223.25
  MAP_PROJECTION_ROTATION = 0.0
  MAP_PROJECTION_TYPE = SINUSOIDAL
  MAP_RESOLUTION = 2370.85521546667
  MAP_SCALE = 0.025
  MAXIMUM_LATITUDE = 79.44889999999999
  MINIMUM_LATITUDE = 70.17189999999999
  POSITIVE_LONGITUDE_DIRECTION = EAST
  REFERENCE_LATITUDE = "N/A"
  REFERENCE_LONGITUDE = "N/A"
  SAMPLE_FIRST_PIXEL = 1
  SAMPLE_LAST_PIXEL = 7631
  SAMPLE_PROJECTION_OFFSET = 3582.25
  SECOND_STANDARD_PARALLEL = "N/A"
  WESTERNMOST_LONGITUDE = 320.178
END_OBJECT = IMAGE_MAP_PROJECTION
END
